BEGIN:VCALENDAR
VERSION:2.0
PRODID:-//Bundesverband Industrie Kommunikation e.V. - ECPv6.15.18//NONSGML v1.0//EN
CALSCALE:GREGORIAN
METHOD:PUBLISH
X-ORIGINAL-URL:https://bvik.org
X-WR-CALDESC:Veranstaltungen für Bundesverband Industrie Kommunikation e.V.
REFRESH-INTERVAL;VALUE=DURATION:PT1H
X-Robots-Tag:noindex
X-PUBLISHED-TTL:PT1H
BEGIN:VTIMEZONE
TZID:Europe/Berlin
BEGIN:DAYLIGHT
TZOFFSETFROM:+0100
TZOFFSETTO:+0200
TZNAME:CEST
DTSTART:20210328T010000
END:DAYLIGHT
BEGIN:STANDARD
TZOFFSETFROM:+0200
TZOFFSETTO:+0100
TZNAME:CET
DTSTART:20211031T010000
END:STANDARD
BEGIN:DAYLIGHT
TZOFFSETFROM:+0100
TZOFFSETTO:+0200
TZNAME:CEST
DTSTART:20220327T010000
END:DAYLIGHT
BEGIN:STANDARD
TZOFFSETFROM:+0200
TZOFFSETTO:+0100
TZNAME:CET
DTSTART:20221030T010000
END:STANDARD
BEGIN:DAYLIGHT
TZOFFSETFROM:+0100
TZOFFSETTO:+0200
TZNAME:CEST
DTSTART:20230326T010000
END:DAYLIGHT
BEGIN:STANDARD
TZOFFSETFROM:+0200
TZOFFSETTO:+0100
TZNAME:CET
DTSTART:20231029T010000
END:STANDARD
END:VTIMEZONE
BEGIN:VEVENT
DTSTART;TZID=Europe/Berlin:20220127T083000
DTEND;TZID=Europe/Berlin:20220127T103000
DTSTAMP:20260424T031155
CREATED:20210708T162008Z
LAST-MODIFIED:20211118T103057Z
UID:10000081-1643272200-1643279400@bvik.org
SUMMARY:Creative Data Storytelling – in 5 Schritten zum relevanten Content
DESCRIPTION:bvik-Workshop digital \nACHTUNG!!! NEUER TERMIN!!! \nDie Gesellschaft ist einem permanenten Informationsüberfluss ausgesetzt. Über alle Kanäle hinweg werden die Menschen mit umfassenden Informationen und Nachrichten konfrontiert – auch wenn sie nicht gezielt danach suchen. Das Risiko\, dass relevante Inhalte in dieser News-Flut bei den Kunden untergehen\, ist demnach enorm hoch. Umso wichtiger ist es für Unternehmen\, ihre komplexen Daten und Informationen so aufzubereiten\, dass sie Aufmerksamkeit erregen sowie schnell erfasst und verstanden werden. \nNun stellt sich aber die Frage: Wie geht das? Mit gutem Data Storytelling! Jan Ahrens\, Director Digital & Content-Marketing bei Statista\, gibt in dem interaktiven bvik-Workshop „Creative Data Storytelling – in 5 Schritten zum relevanten Content“ Tipps und Tricks für fünf mögliche Schritte bei der Content-Kreation und -Distribution: \n\nAnlass / Positionierung\nThemenkonzeption\nRecherche & Redaktion\nDesign\nDistribution\n\nInsights und inspirierende Impulse aus der Praxis für die Praxis hat dann Martin Philipp\, Geschäftsführer\, Evalanche | SC-Networks GmbH in seinem Workshop-Gepäck. Dabei erzählt er von seinen Erfahrungen als Experte im Bereich Distribution und Marketing Automation anhand aktueller Best-Cases. \nAlle Teilnehmer des Workshops erhalten zudem ein umfangreiches digitales Content-Paket mit hilfreichen Unterlagen und Cases\, die direkt Inspiration und nützliche Impulse für Ihr Tagesgeschäft geben. \nWir freuen uns über Ihre Anmeldung!
URL:https://bvik.org/veranstaltung/creative-content-data-storytelling/
LOCATION:digital
CATEGORIES:bvik Deep Dive
ATTACH;FMTTYPE=image/png:https://bvik.org/wp-content/uploads/2021/07/Keyvisual-1192x736-1.png
GEO:51.165691;10.451526
END:VEVENT
END:VCALENDAR