BEGIN:VCALENDAR
VERSION:2.0
PRODID:-//Bundesverband Industrie Kommunikation e.V. - ECPv6.15.18//NONSGML v1.0//EN
CALSCALE:GREGORIAN
METHOD:PUBLISH
X-WR-CALNAME:Bundesverband Industrie Kommunikation e.V.
X-ORIGINAL-URL:https://bvik.org
X-WR-CALDESC:Veranstaltungen für Bundesverband Industrie Kommunikation e.V.
REFRESH-INTERVAL;VALUE=DURATION:PT1H
X-Robots-Tag:noindex
X-PUBLISHED-TTL:PT1H
BEGIN:VTIMEZONE
TZID:Europe/Berlin
BEGIN:DAYLIGHT
TZOFFSETFROM:+0100
TZOFFSETTO:+0200
TZNAME:CEST
DTSTART:20210328T010000
END:DAYLIGHT
BEGIN:STANDARD
TZOFFSETFROM:+0200
TZOFFSETTO:+0100
TZNAME:CET
DTSTART:20211031T010000
END:STANDARD
BEGIN:DAYLIGHT
TZOFFSETFROM:+0100
TZOFFSETTO:+0200
TZNAME:CEST
DTSTART:20220327T010000
END:DAYLIGHT
BEGIN:STANDARD
TZOFFSETFROM:+0200
TZOFFSETTO:+0100
TZNAME:CET
DTSTART:20221030T010000
END:STANDARD
BEGIN:DAYLIGHT
TZOFFSETFROM:+0100
TZOFFSETTO:+0200
TZNAME:CEST
DTSTART:20230326T010000
END:DAYLIGHT
BEGIN:STANDARD
TZOFFSETFROM:+0200
TZOFFSETTO:+0100
TZNAME:CET
DTSTART:20231029T010000
END:STANDARD
END:VTIMEZONE
BEGIN:VEVENT
DTSTART;TZID=Europe/Berlin:20220404T140000
DTEND;TZID=Europe/Berlin:20220404T153000
DTSTAMP:20260423T225739
CREATED:20220301T161951Z
LAST-MODIFIED:20220313T152737Z
UID:10000189-1649080800-1649086200@bvik.org
SUMMARY:Messen: Ort für Emotionen\, Adresse für Akquise\, Platz für Geschäfte
DESCRIPTION:bvik-Webinar \nMessen sind Multitalente\, wenn es um das Erreichen von Zielen im Marketing der Unternehmen geht. Während der Pandemie hat sich an der herausragenden Bedeutung von Messen für die Wirtschaft nichts geändert – ganz im Gegenteil. Viele Unternehmen haben Messen mit ihren Kontaktmöglichkeiten vermisst. Um Aussteller beim Messe-Neustart zu unterstützen\, gibt es unterschiedliche Förderprogramme. Darüber\, und auch wie der AUMA als Dachverband der deutschen Messewirtschaft Unternehmen bei der Effizienzsteigerung von Messebeteiligungen unterstützen kann\, informieren wir Sie in diesem bvik-Webinar. \nErfahren Sie mehr über die aktuelle Situation der Messen in Deutschland und im Ausland\, wie auch über Fördermöglichkeiten für deutsche Unternehmen. Außerdem erhalten Sie einen Überblick zu Trends auf Messen\, angelehnt an die 6 Thesen des bvik-Trendpapers und zur Bedeutung von Messen für mittelständische Unternehmen. Lernen Sie Tools zur effizienten Messebeteiligung kennen. \nWir freuen uns auf den Austausch mit Ihnen und Ihre Anmeldung! \nWeitere Informationen zu diesem Thema finden Sie auf unserer Kampagnenseite Live-Kommunikation im B2B. Neben unserem aktuellen bvik-Trendpaper 2022 „Nach dem Einbruch der Aufbruch: Chancen einer neuen Messewelt“ wartet auch unser bvik-Whitepaper Live-Kommunikation im „New Normal“ zwischen Real\, Digital & Hybrid auf Sie!
URL:https://bvik.org/veranstaltung/messe-emotionen-akquise-geschaefte/
LOCATION:digital
CATEGORIES:bvik Spotlight digital
ATTACH;FMTTYPE=image/jpeg:https://bvik.org/wp-content/uploads/2020/11/Verschwommene-Messebesucher-auf-der-Rolltreppe_rcfotostock_SocialMedia_aia-1.jpg
GEO:51.165691;10.451526
END:VEVENT
BEGIN:VEVENT
DTSTART;TZID=Europe/Berlin:20220406T070000
DTEND;TZID=Europe/Berlin:20220406T083000
DTSTAMP:20260423T225739
CREATED:20220204T154628Z
LAST-MODIFIED:20220314T121912Z
UID:10000186-1649228400-1649233800@bvik.org
SUMMARY:PR-Erfolgsmessung - was ist heute state-of-the-art?
DESCRIPTION:Wie misst man am besten den Erfolg von PR? Mit dieser Frage ringt die PR-Branche seit jeher. Der Druck\, den ROI und die Effektivität von Presseaktivitäten belegen zu müssen\, steigt seit Jahren. Gleichzeitig hat sich auf der Seite der Tools und Messmöglichkeiten wahnsinnig viel getan. \nIn diesem bvik-Webinar beleuchten Mark Herten und Annika Papenbrock von Publitek nicht nur verschiedene gängige Messmöglichkeiten und Metriken\, sondern geben auch Praxis-Beispiele aus der Messpraxis ihrer B2B-Kunden. Darüber hinaus ermöglichen sie einen Sneak-Peak auf eine neue\, in-house entwickelte Messmethode in der Pilotphase\, die erstmals automatisierte quantitative und qualitative Metriken miteinander vereint. \nÄnderungen des Ablaufs sind vorbehalten. \nWer sich schon vorab etwas mit dem Thema beschäftigen möchte\, dem legen wir den B2B-Experten-Blog von Mark Herten ans Herz.
URL:https://bvik.org/veranstaltung/pr-erfolgsmessung-was-ist-heute-state-of-the-art/
LOCATION:digital
CATEGORIES:bvik Spotlight digital
ATTACH;FMTTYPE=image/png:https://bvik.org/wp-content/uploads/2022/02/Key-Visual_option-1.png
GEO:51.165691;10.451526
END:VEVENT
BEGIN:VEVENT
DTSTART;TZID=Europe/Berlin:20220428T110000
DTEND;TZID=Europe/Berlin:20220428T160000
DTSTAMP:20260423T225739
CREATED:20210806T092541Z
LAST-MODIFIED:20220822T094123Z
UID:10000165-1651143600-1651161600@bvik.org
SUMMARY:Ist „grün“ die neue Event-Farbe? Nachhaltigkeit in der Live-Kommunikation im B2B
DESCRIPTION:bvik-Workshop live vor Ort \nNachhaltigkeit ist in den letzten Monaten auf der „To-do-Liste“ etwas nach hinten geschoben worden\, aber nun steht Sustainability als das nächste große Thema auf der Agenda der Industrieunternehmen und Agenturen. Dies betrifft besonders auch den Bereich der Live-Kommunikation: Events\, Kongressen\, Messen und Incentives. Daher wollen wir uns bei diesem Live-Workshop des bvik gemeinsam mit den Experten:innen der Cebra Event GmbH diesen Fragestellungen widmen: \n\nIst es möglich Veranstaltungen für Mitarbeiter\, Kunden und Partner nachhaltiger zu gestalten?\nWie sehen Meetings\, Tagungen und Konferenzen unter dem Aspekt der Nachhaltigkeit aus?\nWie erzeugen wir bei den Event-Teilnehmern das Bewusstsein und den Wunsch nach einem sinnvollen Umgang mit unseren Ressourcen\, ohne unsere Veranstaltungsziele aus den Augen zu verlieren: Menschen zu begeistern\, Mitarbeiter wertzuschätzen und zu motivieren oder Kunden zu überzeugen.\n\nAntworten auf diese Fragen liefert unser interaktiver Workshop in München mit einer Reihe von konkreten Best Practice Beispielen\, vorgestellt von erfahrenen Praktikern. Wir freuen uns über Ihre Anmeldungen. \nTipps zur Anreise (De Open House\, Seitzstraße 8e\, 80538 München):\nöffentliche Verkehrsmittel: Haltestelle U-Bahn Lehel (U4\, U5) – Fußweg ca. 5 Minuten (Ausstieg in Richtung St. Anna Platz) oder Tram (19\, 21) Haltestelle Kammerspiele – Fußweg ca. 5 Minuten\nPKW: Parkplätze in nahegelegenen Parkhäusern\, z.B. Parkhaus am Hofbräuhaus (kostenpflichtig; Fußweg ca. 8 Minuten) \nMehr zur Live-Kommunikation & Messen im B2B finden Sie auf unserer aktuellen Kampagnenseite HIER. \n 
URL:https://bvik.org/veranstaltung/nachhaltige-b2b-live-kommunikation/
LOCATION:De Open House\, Seitzstr. 8e\, München\, 80538\, Germany
CATEGORIES:bvik Deep Dive
ATTACH;FMTTYPE=image/jpeg:https://bvik.org/wp-content/uploads/2021/08/Veranstaltungsbild-1192x736-1.jpg
GEO:48.140608;11.5851887
X-APPLE-STRUCTURED-LOCATION;VALUE=URI;X-ADDRESS=De Open House Seitzstr. 8e München 80538 Germany;X-APPLE-RADIUS=500;X-TITLE=Seitzstr. 8e:geo:11.5851887,48.140608
END:VEVENT
END:VCALENDAR