BEGIN:VCALENDAR
VERSION:2.0
PRODID:-//Bundesverband Industrie Kommunikation e.V. - ECPv6.15.18//NONSGML v1.0//EN
CALSCALE:GREGORIAN
METHOD:PUBLISH
X-WR-CALNAME:Bundesverband Industrie Kommunikation e.V.
X-ORIGINAL-URL:https://bvik.org
X-WR-CALDESC:Veranstaltungen für Bundesverband Industrie Kommunikation e.V.
REFRESH-INTERVAL;VALUE=DURATION:PT1H
X-Robots-Tag:noindex
X-PUBLISHED-TTL:PT1H
BEGIN:VTIMEZONE
TZID:Europe/Berlin
BEGIN:DAYLIGHT
TZOFFSETFROM:+0100
TZOFFSETTO:+0200
TZNAME:CEST
DTSTART:20210328T010000
END:DAYLIGHT
BEGIN:STANDARD
TZOFFSETFROM:+0200
TZOFFSETTO:+0100
TZNAME:CET
DTSTART:20211031T010000
END:STANDARD
BEGIN:DAYLIGHT
TZOFFSETFROM:+0100
TZOFFSETTO:+0200
TZNAME:CEST
DTSTART:20220327T010000
END:DAYLIGHT
BEGIN:STANDARD
TZOFFSETFROM:+0200
TZOFFSETTO:+0100
TZNAME:CET
DTSTART:20221030T010000
END:STANDARD
BEGIN:DAYLIGHT
TZOFFSETFROM:+0100
TZOFFSETTO:+0200
TZNAME:CEST
DTSTART:20230326T010000
END:DAYLIGHT
BEGIN:STANDARD
TZOFFSETFROM:+0200
TZOFFSETTO:+0100
TZNAME:CET
DTSTART:20231029T010000
END:STANDARD
END:VTIMEZONE
BEGIN:VEVENT
DTSTART;TZID=Europe/Berlin:20220512T110000
DTEND;TZID=Europe/Berlin:20220512T154500
DTSTAMP:20260423T213354
CREATED:20210902T154556Z
LAST-MODIFIED:20220504T145325Z
UID:10000168-1652353200-1652370300@bvik.org
SUMMARY:Erfolgreiches Online-Marketing im B2B: Die fünf Stages einer erfolgreichen Kampagnenplanung
DESCRIPTION:bvik-Workshop live vor Ort \nDer  bvik Praxis-Workshop mit Fokus auf B2B Online-Marketing führt Sie in die Welt des digitalen Marketings ein und beleuchtet theoretische wie praktische Aspekte. Gerade heutzutage\, wo digital Skills so unerlässlich für eine erfolgreiche Zukunft im B2B-Marketing sind\, ist dieser Workshop ein Muss. \nZiel des interaktiven Seminars ist es\, im ersten Teil des Workshops einen Markteinblick über Nutzungsdaten der digitalen Kanäle zu geben sowie einen theoretischen Überblick über die wichtigsten digitalen Disziplinen\, wie Social Media oder Google. Zudem präsentiert Ihnen zum Einstieg ein Repräsentant von Magna Powertrain einen realen Showcase aus der B2B-Welt. \nDanach erarbeiten wir uns im zweiten\, dem praktischen Teil ein Kampagnenbriefing und konzipieren unsere erste Kampagnenstrategie mit allen wesentlichen Elementen entlang der fünf Stages einer erfolgreichen Kampagnenplanung. In unterschiedlichen Gruppen vertiefen wir danach Google Search\, Social Media (LinkedIn) und die Customer Journey auf der Landingpage und präsentieren diese bzw. diskutieren diese mit den anderen Gruppen. \nAlle Informationen zu den weiteren Inhalten\, der angesprochenen Zielgruppe und den angestrebten Zielen finden Sie in unseren Reitern auf dieser Website. Erhalten Sie bei diesem Workshop von den Experten:innen von SPS Marketing Learnings aus der Praxis für die Praxis. \nWir freuen uns auf Ihre Anmeldung! \nTipps zur Anreise zur König-Karl-Strasse 10\, 70372 Stuttgart (Bad Cannstatt)\nMit PKW: Parken direkt gegenueber im öffentlichen Parkplatz am Kurpark (gebührenpflichtig)\nMit öffentlichen Verkehrsmitteln:\nZug und S-Bahn: Haltestelle Bad-Cannstatt\, 10 Minuten Fußweg\nU-Bahn: U2 bis Daimlerplatz\, 2 Minuten Fußweg oder U1 bis Wilhelmsplatz\, 5 Minuten Fußweg
URL:https://bvik.org/veranstaltung/online-marketing-im-b2b/
LOCATION:SPS MARKETING GmbH\, König-Karl-Straße 10\, Stuttgart\, 70372
CATEGORIES:bvik Deep Dive
ATTACH;FMTTYPE=image/jpeg:https://bvik.org/wp-content/uploads/2021/09/SPS_Digi-Transform_1192x736.jpg
GEO:48.8073499;9.22133
X-APPLE-STRUCTURED-LOCATION;VALUE=URI;X-ADDRESS=SPS MARKETING GmbH König-Karl-Straße 10 Stuttgart 70372;X-APPLE-RADIUS=500;X-TITLE=König-Karl-Straße 10:geo:9.22133,48.8073499
END:VEVENT
BEGIN:VEVENT
DTSTART;TZID=Europe/Berlin:20220517T110000
DTEND;TZID=Europe/Berlin:20220517T153000
DTSTAMP:20260423T213354
CREATED:20210914T141832Z
LAST-MODIFIED:20220515T142748Z
UID:10000169-1652785200-1652801400@bvik.org
SUMMARY:Mission Content: Mit KI und CGI zukunftssicher für alle Touchpoints im B2B aufstellen
DESCRIPTION:bvik-Workshop live vor Ort \nImmer schneller\, immer direkter: Die Herausforderungen in der B2B-Kommunikation nehmen zu. Die Medienexperten von Laudert und Die Bildbeschaffer zeigen im bvik Live-Workshop neue\, kreative Wege der Content-Beschaffung & -Erstellung\, und wie Sie\, Upload Filter lassen grüßen\, sich rechtlich absichern: erfolgreiche Inhalte für Ihre Kommunikation von heute und morgen. \nNach einem lockeren Get-together in den Laudert-Studios in Hamburg nehmen wir Sie an drei Stationen mit auf eine interaktive Reise durch die moderne Content-Produktion: \n1️⃣ Produktinformationen\, die verkaufen: Datenströme in Harmonie \nWir zeigen anhand von Praxisbeispielen\, wie Produktinformationen angereichert und vorgehalten werden müssen\, um sie erfolgreich in der Kommunikation einzusetzen. \nSind diese\, wie z.B. die unterschiedlichen Attribute\, erst einmal erfasst\, müssen sie auch automatisiert raus. Wie? Wohin? Stichworte sind hier Schnittstellen zu Online-Shops\, SEM\, Marketplaces. Erfreulicherweise haben sich die Organisationen IPTC (Meta-Daten) und schema.org (Informationen zu Preis\, Verfügbarkeit etc.) kürzlich auf gemeinsame Standards geeignet. Wir zeigen ganz konkret\, welchen Vorteil dies für Ihre Produktkommunikation online bringt.\nAus den einzelnen Produktinformationen ganze Produkttexte zu schreiben\, ist gerade in artikelreichen Branchen\, aufwändig? Mit AX Semantics hat Laudert eine Lösung: Automatisierte Texterstellung auf Basis von KI. Tausende Texte\, in Sekundenschnelle\, adaptierbar\, in über 100 Sprachen. Wir holen Sie ab\, analysieren Beispiele und zeigen\, was heute schon alles möglich ist. \n2️⃣ Virtual Studio: Wenn virtuelle + reale Welten verschmelzen\nVon der reinen Bilderstellung am Computer bis zur Virtual Production: Längst sind computergenerierte Bilder Alltag. Welche Vorteile bietet die Technologie im B2B? Viele! – Finden Sie mit uns heraus\, welche! Wir bringen Location-Shootings ins Studio. Erleben Sie im Set live die fast unbegrenzte Flexibilität hinsichtlich Settings und Umgebung: Outdoor-Szene in Neuseeland\, Häuserschlucht New Yorks\, Industriehalle oder exklusiver Bad-Keramik vor Alpen-Panorma. Und ganz nebenbei optimieren Sie sogar Ihren CO2-Fußabdruck. \n3️⃣ Rechtliche Stolperfallen? Nicht mit uns \nNeues digitales Urheberrecht\, Lizenzpakete und mehr: Bildbeschaffung wird wichtiger\, aber auch komplexer. Die Bildbeschaffer erarbeiten mit Ihnen\, wie Sie Ihren Content auch mit Fremdmaterial aus Bildagenturen oder „dem Netz“ schnell und zielgerichtet erstellen oder finden – ohne rechtliche Konsequenzen fürchten zu müssen. \nWährend der Veranstaltung ist für ausreichend Snacks und Verpflegung gesorgt. Zudem erhalten die Teilnehmer:innen die Checkliste „Stolperfallen“ am Folgetag im Postfach. Wir freuen uns auf Sie! \nSo finden Sie zu Laudert:\nDie anliegenden Bushaltestellen sind Köppenstraße oder Rosenbrook. Die Bahn ist etwas leider etwas weiter weg\, das wäre Lattenkamp.\nWer mit dem PKW anreist\, kann sich entweder auf einen der Laudert-Plätze vor Haus 21 stellen. \nWeitere Inhalte zum Thema Content finden Sie auch in unserem Bereich Tools & Aktuelles.
URL:https://bvik.org/veranstaltung/content-beschaffung-im-b2b/
LOCATION:Laudert-Studios\, Borsteler Chaussee 85/99A\, Hamburg\, 22453\, Germany
CATEGORIES:bvik Deep Dive
ATTACH;FMTTYPE=image/jpeg:https://bvik.org/wp-content/uploads/2021/09/BVIK_Outdoor_1192x736.jpg
GEO:53.5510846;9.9936819
X-APPLE-STRUCTURED-LOCATION;VALUE=URI;X-ADDRESS=Laudert-Studios Borsteler Chaussee 85/99A Hamburg 22453 Germany;X-APPLE-RADIUS=500;X-TITLE=Borsteler Chaussee 85/99A:geo:9.9936819,53.5510846
END:VEVENT
BEGIN:VEVENT
DTSTART;TZID=Europe/Berlin:20220519T120000
DTEND;TZID=Europe/Berlin:20220519T154500
DTSTAMP:20260423T213354
CREATED:20211118T090919Z
LAST-MODIFIED:20220822T094230Z
UID:10000170-1652961600-1652975100@bvik.org
SUMMARY:Tue Gutes und sprich darüber – aber erst dann! Wie Nachhaltigkeit in der B2B-Kommunikation mehr sein kann\, als nur leere Worte.
DESCRIPTION:bvik „Mitglieder für Mitglieder“ live vor Ort \nNachhaltigkeit ist das bestimmende Thema der Stunde und auch in den kommenden Jahren wird uns dieses umfassende Thema nicht von der Seite weichen. Unternehmen und Märkte sind zentrale Schlüsselfaktoren\, wenn es um die Umgestaltung zu einem zukunftsfähigen Wirtschafts- und Gesellschaftssystem geht. Die Transformation kann nur gelingen\, wenn Innovationen dazu beitragen\, Geschäftsmodelle\, Produktionssysteme und Kaufverhalten nachhaltig auszurichten. Kommunikation kann entscheidend zum Umdenken beitragen und kollaborative Ansätze fördern. \nNachhaltigkeit ist viel mehr als eine grüne Brille. \nDer politische und gesellschaftliche Druck auf die Unternehmen nimmt zu. Staatliche und europäische Verordnungen\, als auch die Präsenz von Umweltproblemen in den Medien führen zu einem neuen Bewusstsein und einer sich wandelnden Nachfrage nach verantwortungsvollen Lösungen und Produkten. Denn Nachhaltigkeit umfasst sehr viel mehr\, als die Reduktion des CO₂-Abdrucks oder recyclingfähige Produkte. Es geht darum\, ökologische mit sozialen und wirtschaftlichen Zielen in Einklang zu bringen und dazu werden neue Markenstrategien\, ein unternehmensweiter Kulturwandel und neue Formen der Zusammenarbeit benötigt. \nIm Rahmen der bvik „Mitglieder für Mitglieder“ Veranstaltung beleuchten wir die Wirkung von Kommunikation nach innen und außen aus verschiedenen Perspektiven. Dabei zeigen Ihnen Expert:innen Chancen auf\, wie Markenführung\, Unternehmenskommunikation und Marketing wichtige Impulse setzen können\, neue Wege aufzuzeigen und Mitarbeiter\, Partner und Kunden zu motivieren\, Teil einer größeren Bewegung zu werden. Sie erhalten anhand von konkreten Beispielen führender Unternehmen praxisnahe Insight. Zudem diskutieren wir mit Ihnen ganzheitliche Kommunikationsstrategien und erarbeiten Learnings für Sie und Ihr Unternehmen\, welche positiven Effekte nachhaltige Kommunikationsarbeit auf den Veränderungsprozess hat und welche Rahmenbedingungen dafür nötig sind. \nIm Vorfeld der Veranstaltung\, Start 13:00 Uhr besteht optional die Möglichkeit das RheinMain Congress Center (RMCC) zu besichtigen und einen Einblick in die Nachhaltigkeitsstrategie der modernen Eventlocation zu erhalten. Bitte vermerken Sie die Teilnahme explizit bei Ihrer Anmeldung. Nach Veranstaltungsende (gegen 17:45 Uhr) besteht noch die Möglichkeit zum Austausch und Networking mit den Expert:innen und Teilnehmer:innen vor Ort. Die Veranstaltung findet im Studio 1.5 statt. Der Weg zum Event-Raum\, der sich im ersten Stockwerk befindet\, ist beschildert. \nBitte beachten Sie bei der Anmeldung\, dass die aktuell geltenden Hygieneregeln als Zugangsvoraussetzung erfüllt sein muss. Weitere Informationen zum Hygienekonzept der Location finden Sie HIER. \n 
URL:https://bvik.org/veranstaltung/nachhaltigkeit-in-der-b2b-kommunikation/
LOCATION:RheinMain CongressCenter (RMCC)\, Friedrich-Ebert-Allee 1\, Wiesbaden\, 65185
CATEGORIES:bvik meets industry
ATTACH;FMTTYPE=image/jpeg:https://bvik.org/wp-content/uploads/2021/11/bvik_df_nachhaltigkeit_titel_1192x736.jpg
GEO:50.0770981;8.2451183
X-APPLE-STRUCTURED-LOCATION;VALUE=URI;X-ADDRESS=RheinMain CongressCenter (RMCC) Friedrich-Ebert-Allee 1 Wiesbaden 65185;X-APPLE-RADIUS=500;X-TITLE=Friedrich-Ebert-Allee 1:geo:8.2451183,50.0770981
END:VEVENT
BEGIN:VEVENT
DTSTART;TZID=Europe/Berlin:20220524T120000
DTEND;TZID=Europe/Berlin:20220524T160000
DTSTAMP:20260423T213354
CREATED:20210921T160413Z
LAST-MODIFIED:20220519T141317Z
UID:10000171-1653393600-1653408000@bvik.org
SUMMARY:Big Picture Marke im B2B: Müssen deutsche Industrieunternehmen im Zeitalter von Digitalisierung mehr in Ihre Marken investieren?
DESCRIPTION:bvik „Mitglieder für Mitglieder“ live vor Ort \nGerne werfen wir mit Ihnen einen Blick auf das Big Picture Marke im B2B. Warum muss die deutsche Industrie das Potenzial ihrer Marken nutzen\, um an der Spitze zu bleiben? \nDieser Fragestellung nehmen wir uns in der gewohnten bvik-Mischung aus Impuls\, praxisnahen Best-Cases und Networking an. Nach einer  Begrüßung & Einführung durch Hausherr Erik Snoeijen (Vice President Corporate Marketing\, Bosch Rexroth) und den bvik wird den Nachmittag medienformer Geschäftsführer und bvik-Vorstand\, Jens Fleischer\, mit einem Impuls „Mut in Germany statt Made in Germany“ eröffnen. Danach warten mit Andreas Häußner (Vice President Marketing\, Rommelag) sowie Silke Lang (Bosch Rexroth) mit Frederik Feil (marbet) und Tobias Brummer (Bosch Rexroth) Insights aus der Praxis für die Praxis auf Sie. \nIn der innovativen Umgebung des brandneuen Kunden- und Innovationszentrum im Science Park hoch über den Dächern von Ulm freuen wir uns auf den Austausch mit Ihnen und Ihre Anmeldung! Im Anschluss an die Veranstaltung wird auch die Möglichkeit zu einer optionalen Führung durch die Modellfabrik bestehen. \nDie Modellfabrik\, ein Teil des CU.BE\, haucht Bosch Rexroths Vision der Zukunft Leben ein. Anhand von spezifischen Use Cases und echten Produktionsszenarien\, inklusive Intralogistik\, demonstriert die Modellfabrik das starke und gleichermaßen nutzerfreundliche Portfolio von Bosch Rexroth. Man bekommt einen realistischen Eindruck\, wie Produktionen in der Zukunft aussehen werden! \nDie Buchung durch die Modellfabrik ist derzeit ausgebucht. \nGanz unter dem Motto „In Ulm\, um Ulm und um Ulm herum“ finden Sie HIER weitere Informationen zu der charmanten Stadt an der Donau. Den Anfahrtsplan sowie eine Auflistung der Parkmöglichkeiten – ACHTUNG! für die bvik-Veranstaltung ist P4 als Parkplatz vorgesehen – vor Ort halten wir in der rechten Seitenleiste für Sie bereit. \nBei dieser Veranstaltung greift die 3G-Regel. Bitte halten Sie am Eingang Ihren Nachweis sowie ein Ausweisdokument bereit. Vielen herzlichen Dank! \nWir wünschen Ihnen eine gute Anreise! \nEbenfalls das Thema „Big Picture Marke“ beleuchtet der digitale Workshop der wob AG am 31. März. Alle Informationen zum interaktiven Seminar finden Sie HIER.
URL:https://bvik.org/veranstaltung/big-picture-marke-im-b2b/
LOCATION:CU.BE by Bosch Rexroth\, Lise-Meitner-Straße 2\, 89081 Ulm\, Germany
CATEGORIES:bvik meets industry
ATTACH;FMTTYPE=image/jpeg:https://bvik.org/wp-content/uploads/2021/09/210914_PI_Bosch-Rexroth_Ulm_Gebaeude.jpg
GEO:48.4010822;9.9876076
END:VEVENT
END:VCALENDAR