BEGIN:VCALENDAR
VERSION:2.0
PRODID:-//Bundesverband Industrie Kommunikation e.V. - ECPv6.15.18//NONSGML v1.0//EN
CALSCALE:GREGORIAN
METHOD:PUBLISH
X-ORIGINAL-URL:https://bvik.org
X-WR-CALDESC:Veranstaltungen für Bundesverband Industrie Kommunikation e.V.
REFRESH-INTERVAL;VALUE=DURATION:PT1H
X-Robots-Tag:noindex
X-PUBLISHED-TTL:PT1H
BEGIN:VTIMEZONE
TZID:Europe/Berlin
BEGIN:DAYLIGHT
TZOFFSETFROM:+0100
TZOFFSETTO:+0200
TZNAME:CEST
DTSTART:20210328T010000
END:DAYLIGHT
BEGIN:STANDARD
TZOFFSETFROM:+0200
TZOFFSETTO:+0100
TZNAME:CET
DTSTART:20211031T010000
END:STANDARD
BEGIN:DAYLIGHT
TZOFFSETFROM:+0100
TZOFFSETTO:+0200
TZNAME:CEST
DTSTART:20220327T010000
END:DAYLIGHT
BEGIN:STANDARD
TZOFFSETFROM:+0200
TZOFFSETTO:+0100
TZNAME:CET
DTSTART:20221030T010000
END:STANDARD
BEGIN:DAYLIGHT
TZOFFSETFROM:+0100
TZOFFSETTO:+0200
TZNAME:CEST
DTSTART:20230326T010000
END:DAYLIGHT
BEGIN:STANDARD
TZOFFSETFROM:+0200
TZOFFSETTO:+0100
TZNAME:CET
DTSTART:20231029T010000
END:STANDARD
END:VTIMEZONE
BEGIN:VEVENT
DTSTART;TZID=Europe/Berlin:20220714T120000
DTEND;TZID=Europe/Berlin:20220714T153000
DTSTAMP:20260423T174140
CREATED:20210531T084237Z
LAST-MODIFIED:20220713T091919Z
UID:10000067-1657800000-1657812600@bvik.org
SUMMARY:Content-Marketing im B2B: Mit dem Newsroom funktioniert Storytelling über alle Kanäle!
DESCRIPTION:bvik „Mitglieder für Mitglieder“ live vor Ort \nEckes-Granini und John Deere erzählen ihre Geschichten heute über eine Vielzahl an digitalen und analogen Kanälen. Mit den herkömmlichen Strukturen und der klassischen „Kanaldenke“ würden die beiden internationalen Unternehmen mit ihrem Content-Marketing schnell an budgetäre\, technische und personelle Grenzen stoßen. Deren Rezept für erfolgreiches Content-Marketing: zuerst das Thema\, dann der Kanal. \nEin Ort\, wo die Fäden zusammenlaufen\, ist der (virtuelle) Newsroom. Von hier aus werden alle Kanäle bedient – transparent\, effizient und themenorientiert. Was simpel klingt\, entpuppt sich als komplexer Schritt: Es braucht neben einer klaren kommunikativen Strategie und einer technischen Infrastruktur vor allem den gelebten\, funktionierenden Prozess. \nAuf der Veranstaltung erfahren Sie\, wie die beiden Konzerne Eckes-Granini und John Deere ihre Geschichten generieren\, produzieren und über eine Vielzahl an Kanälen an ihre internen und externen Zielgruppen verbreiten. Sie erhalten Einblicke in deren Rezepte für erfolgreiches Content-Marketing. Lernen Sie über Strategien\, Tools und vor allem Prozesse für erfolgreiches Storytelling. Und erfahren Sie aus erster Hand\, dass Sie bei diesen Themen von einem B2C-Case ebenso viel lernen können\, wie von einem B2B-Unternehmen. \nZum Abschluss des Nachmittags bietet die R&D-Abteilung von Eckes-Granini einen Einblick in den Herstellungsprozess von Fruchtsaft unter dem Motto „Saft-Wissen: Von der Frucht in die Flasche„. \nDen genauen Ablauf\, Informationen zu den einzelnen Vorträgen und weitere Inhalte finden Sie in unseren Reitern. \nWir  freuen uns auf Ihre Anmeldung & weitere spannende Geschichten! \nWeitere Insights in das Thema Content-Marketing finden Sie in unserem Downloadbereich.
URL:https://bvik.org/veranstaltung/content-marketing-newsroom-storytelling-kanaele/
LOCATION:Eckes-Granini Group GmbH\, Ludwig-Eckes-Platz 1\, Nieder-Olm\, 55268\, Germany
CATEGORIES:bvik meets industry
ATTACH;FMTTYPE=image/jpeg:https://bvik.org/wp-content/uploads/2021/05/eckes-granini-nieder-olm-02-scaled.jpg
GEO:49.905354;8.2058327
X-APPLE-STRUCTURED-LOCATION;VALUE=URI;X-ADDRESS=Eckes-Granini Group GmbH Ludwig-Eckes-Platz 1 Nieder-Olm 55268 Germany;X-APPLE-RADIUS=500;X-TITLE=Ludwig-Eckes-Platz 1:geo:8.2058327,49.905354
END:VEVENT
END:VCALENDAR