BEGIN:VCALENDAR
VERSION:2.0
PRODID:-//Bundesverband Industrie Kommunikation e.V. - ECPv6.15.18//NONSGML v1.0//EN
CALSCALE:GREGORIAN
METHOD:PUBLISH
X-ORIGINAL-URL:https://bvik.org
X-WR-CALDESC:Veranstaltungen für Bundesverband Industrie Kommunikation e.V.
REFRESH-INTERVAL;VALUE=DURATION:PT1H
X-Robots-Tag:noindex
X-PUBLISHED-TTL:PT1H
BEGIN:VTIMEZONE
TZID:Europe/Berlin
BEGIN:DAYLIGHT
TZOFFSETFROM:+0100
TZOFFSETTO:+0200
TZNAME:CEST
DTSTART:20220327T010000
END:DAYLIGHT
BEGIN:STANDARD
TZOFFSETFROM:+0200
TZOFFSETTO:+0100
TZNAME:CET
DTSTART:20221030T010000
END:STANDARD
BEGIN:DAYLIGHT
TZOFFSETFROM:+0100
TZOFFSETTO:+0200
TZNAME:CEST
DTSTART:20230326T010000
END:DAYLIGHT
BEGIN:STANDARD
TZOFFSETFROM:+0200
TZOFFSETTO:+0100
TZNAME:CET
DTSTART:20231029T010000
END:STANDARD
BEGIN:DAYLIGHT
TZOFFSETFROM:+0100
TZOFFSETTO:+0200
TZNAME:CEST
DTSTART:20240331T010000
END:DAYLIGHT
BEGIN:STANDARD
TZOFFSETFROM:+0200
TZOFFSETTO:+0100
TZNAME:CET
DTSTART:20241027T010000
END:STANDARD
END:VTIMEZONE
BEGIN:VEVENT
DTSTART;TZID=Europe/Berlin:20230112T100000
DTEND;TZID=Europe/Berlin:20230112T110000
DTSTAMP:20260423T075344
CREATED:20221202T134709Z
LAST-MODIFIED:20230110T103513Z
UID:10000210-1673517600-1673521200@bvik.org
SUMMARY:The Human Touch: Messebegegnung neu gedacht!
DESCRIPTION:Panel bei der BOE \nDie BOE INTERNATIONAL (BOE)\, internationale Fachmesse Erlebnismarketing\, markiert den Jahresauftakt für die nationale und internationale Event-Industrie. Der bvik ist auch 2023 erneut exklusiver B2B Partner der BOE und freut sich sehr auf den Austausch mit Ihnen in der B2B bvik-Lounge in Halle 4\, D36.  \nDie Eventbranche hat sich auch in der B2B-Marketing-Welt weitreichend verändert. Äußere Rahmenbedingungen wie die Pandemie\, der Wegfall von Messen\, die Digitalisierung\, aber auch Nachhaltigkeit und Klimaschutz tragen dazu bei\, dass Eventformate neu gedacht werden müssen. Die Zukunft der Live-Kommunikation ist eine zentrale Frage aller Eventmanager im Dienstleistungsbereich\, aber auch in der Industrie. Daher freuen sich unsere Kolleginnen Kim Kugelmann und Michaela-Susan Pollok Ihnen im Rahmen der BOE ein Panel mit hochkarätigen Gästen präsentieren zu dürfen\, welches Raum zur Diskussion und dem Austausch von Erfahrungswerten aus der Praxis für die Praxis\, bietet. \nDie Key-Facts unseres Panels in Kürze: \nTitel: „The Human Touch: Messebegegnung neu gedacht!“\nLocation: COMMUNICATION STAGE (Halle 5)\nModeration: Kim Kugelmann & Michaela-Susan Pollok (beide bvik) \nTeilnehmer: Marcel Kleine (Director Events and Exhibitions Group Communications\, Phoenix Contact)\, Holger Steffentorweihen (Managing Director DCC.RUHR)\, Li Listmann (Bereichsleiter Marketing & Sales\, Westfalenhallen Unternehmensgruppe GmbH) und Stephan Klopp (Brand Experience Enthusiast & Design Management Expert\, taaro). \nNeben sechs brandaktuellen Thesen zum Live-Marketing sprechen wir über die Zukunft des „analogen Kraftzentrums“ Messe und deren Challenges und Chancen für 2023. \nNeben dem Panel warten u.a. guided tours zum Thema „Nachhaltigkeit“ (findet leider krankheitsbedingt nicht statt) und „Best of BOE“ auf Sie. Weitere Informationen sowie den Link zur Registrierung finden Sie HIER. Sie sind interessiert an einem Austausch in der bvik-Lounge? Dann vereinbaren Sie gerne im Vorfeld einen Termin mit uns oder kommen Sie einfach vorbei. Wir freuen uns auf Sie!
URL:https://bvik.org/veranstaltung/the-human-touch-messebegegnung-neu-gedacht/
LOCATION:COMMUNICATION STAGE (Halle 5)\, Messe Dortmund
CATEGORIES:bvik ERFA-Runde
ATTACH;FMTTYPE=image/jpeg:https://bvik.org/wp-content/uploads/2022/12/WH10658.jpg
ORGANIZER;CN="Messe Dortmund GmbH":MAILTO:BOE@messe-dortmund.de
END:VEVENT
BEGIN:VEVENT
DTSTART;TZID=Europe/Berlin:20230119T133000
DTEND;TZID=Europe/Berlin:20230119T160000
DTSTAMP:20260423T075344
CREATED:20220926T110507Z
LAST-MODIFIED:20230116T143428Z
UID:10000199-1674135000-1674144000@bvik.org
SUMMARY:bvik Trend-Talk 2023: Zukunft der B2B-Marketing-Kommunikation
DESCRIPTION:bvik Trend-Talk digital \nDer bvik – der Industrie-Verband für Kommunikation & Marketing – sensibilisiert frühzeitig für Trendthemen im B2B-Umfeld.  Daher laden wir Sie sehr gerne nun schon zur dritten Ausgabe unseres bvik Trend-Talks 2.0 ein. Ganz nach einer Kölner Redewendung „Beim ersten Mal haben wir es ausprobiert\, beim zweiten Mal ist es schon Tradition und beim dritten Mal Brauchtum!“ freuen wir uns auf den digitalen Dialog mit Ihnen in Round-Table-Atmosphäre. \nB2B-Unternehmen befinden sich immer noch mitten in einem der radikalsten Paradigmenwechsel\, was ihre Prozesse und Kommunikationsstrategie anbelangt. Die digitalen Spielregeln für erfolgreiche Marketing-Performance zu beherrschen\, wird zum Prüfstein für den Zukunftserfolg. Welche technischen Voraussetzungen müssen erfüllt werden? Wie muss sich das Selbstverständnis des Marketings verändern? Und was bedeutet die Entwicklung in der Digitalisierung für das Mindset und die Qualifikation der Mitarbeiter und Führungskräfte? \nZum Einstieg präsentieren wir Ihnen Auszüge aus den Ergebnissen unseres bvik Trendbarometers Industriekommunikation 2023 und unseres bvik-Trendpapers 2023. Der Trend-Talk digital bietet den Teilnehmern im Anschluss die Gelegenheit\, offene Fragen in der Runde zu diskutieren und sich auszutauschen. Es erwarten Sie Vorträge von Sibylle Wirth (Festo)\, Employer Branding & Diversity Expertin Marisa Leutenecker\, Klaus-Peter Grave (Smart CJM) und Dina Hemsing (Laudert). \nSchlagen Sie mit uns ein weiteres bvik-Kapitel in unserem gemeinsamen Buch des „B2B-Marketing der Zukunft“ auf! Wir freuen uns über Ihre Teilnahme. \nAlle Informationen und Veröffentlichungen des bvik zu den B2B-Trends\, u.a. den aktuellen Ergebnissen unseres Trendbarometers finden Sie HIER! \n 
URL:https://bvik.org/veranstaltung/bvik-trend-talk-2023/
LOCATION:digital
CATEGORIES:bvik Spotlight digital
ATTACH;FMTTYPE=image/jpeg:https://bvik.org/wp-content/uploads/2020/04/Trendtalk-2021-Vorschaubild-Web.jpg
GEO:51.165691;10.451526
END:VEVENT
BEGIN:VEVENT
DTSTART;TZID=Europe/Berlin:20230126T123000
DTEND;TZID=Europe/Berlin:20230126T140000
DTSTAMP:20260423T075344
CREATED:20221125T122853Z
LAST-MODIFIED:20230110T070938Z
UID:10000206-1674736200-1674741600@bvik.org
SUMMARY:Content Analytics. Wie man Trends und Influencer identifiziert und wirkungsvollen Content kreiert.
DESCRIPTION:Digitaler Workshop \nIn diesem bvik-Workshop zeigen Ihnen die Experten von DYADIC anhand einer Praxisstudie mit dem Industrie-Softwarespezialisten Codewerk\, wie man „Deep Content“ erforscht\, analysiert und für die eigenen Content Strategie einsetzt. Wenn Unternehmen Agenda Setting nicht nur als Trendbegriff sehen\, sondern wirklich für sich nutzen wollen\, muss die Agenda für die Zielgruppen relevant sein und mit deren Bedürfnissen „matchen“. \nCodewerk ist der Spezialist rund um das Thema Industriesoftware. Themen wie IIOT\, Industrial Edge Computing\, IT-OT-Konvergenz oder industrielle Echtzeitkommunikation\, auch mit TSN\, sind relevante Umfelder in der Programmierung von Apps\, Microservices oder der Integration von Geräten oder Systemen beispielsweise in cloudbasierte Plattformen. \nWie sieht die Community dahinter aus und welche Themen sind relevant für die Kommunikation? Dazu führen wir Sie ein in das Feld der Content Analytics anhand modernen Tools\, interpretieren Ergebnisse und stellen daraus resultierende Quintessenzen in dem bvik-Workshop aus der Praxis für die Praxis am Fallbeispiel vor. \nWir diskutieren mit Ihnen die Erfahrungen zu der kontinuierlichen Content-Analyse\, deren Grenzen und Chancen mit Samuel Wenz\, einem der Geschäftsführer von Codewerk.  \nWir freuen uns auf Ihre Anmeldung!
URL:https://bvik.org/veranstaltung/content-analytics-trends_influencer/
LOCATION:digital
CATEGORIES:bvik Deep Dive
ATTACH;FMTTYPE=image/jpeg:https://bvik.org/wp-content/uploads/2022/11/AdobeStock_268264644-scaled.jpeg
GEO:51.165691;10.451526
END:VEVENT
BEGIN:VEVENT
DTSTART;TZID=Europe/Berlin:20230131T143000
DTEND;TZID=Europe/Berlin:20230131T160000
DTSTAMP:20260423T075344
CREATED:20221127T134102Z
LAST-MODIFIED:20230127T112551Z
UID:10000209-1675175400-1675180800@bvik.org
SUMMARY:Herausforderung Tracking und verstärkte Rechtssicherheit im B2B-Marketing. Status quo & Lösungen!
DESCRIPTION:Tracking praktisch und DSGVO konform umsetzen in der Web-Analyse und Marketing Automation \nNach dem großen Interesse an unserem Webinar mit der activeMind.AG zum Thema Google Analytics\, konnten wir für Sie nun ein Experten-Trio zusammenstellen\, um einen tieferen Einblick aus der Praxis für die Praxis zu ermöglichen. Vor dem Datenschutz bzw. Tracking sollte niemand Angst haben. Im Gegenteil: Wer die Daten seiner Nutzer*innen schützt\, schafft Transparenz und gewinnt Vertrauen. Aber das Umsetzen der Anforderungen und Einrichten von Anmelde- und Einwilligungsdialogen sowie dem Kampagnen-Tracking erscheint oftmals kompliziert. Unser Experten-Trio – Evalanche\, activeMind und etracker – zeigt unter Vereinbarkeit der rechtlichen Voraussetzungen auf\, wie das B2B-Marketing rechtskonform Daten für ein sauberes Tracking entlang der Customer Journey und darüber hinaus erheben kann. \nPraxisnah erklären die Expert:innen\, was es zu beachten gibt und welche Chancen sich daraus ergeben. \n\nWas sind die rechtlichen Anforderungen an das Tracking? Wann braucht es eine Einwilligung und wie muss diese gestaltet werden?\nWann kann bei der Web-Analyse auf Einwilligungen verzichtet werden? Was leistet einwilligungsfreies Tracking?\nWie können bestmögliche Einwilligungsraten für E-Mailings erzielt werden? Wie lässt sich eine erfolgreiche\, personalisierte Ansprache umsetzen?\n\nWir freuen uns auf Ihre Anmeldung!
URL:https://bvik.org/veranstaltung/tracking-rechtssicherheit-im-b2b-marketing/
LOCATION:digital
CATEGORIES:bvik Spotlight digital
ATTACH;FMTTYPE=image/webp:https://bvik.org/wp-content/uploads/2022/11/bvik-Webinar.webp
GEO:51.165691;10.451526
END:VEVENT
END:VCALENDAR