BEGIN:VCALENDAR
VERSION:2.0
PRODID:-//Bundesverband Industrie Kommunikation e.V. - ECPv6.15.18//NONSGML v1.0//EN
CALSCALE:GREGORIAN
METHOD:PUBLISH
X-WR-CALNAME:Bundesverband Industrie Kommunikation e.V.
X-ORIGINAL-URL:https://bvik.org
X-WR-CALDESC:Veranstaltungen für Bundesverband Industrie Kommunikation e.V.
REFRESH-INTERVAL;VALUE=DURATION:PT1H
X-Robots-Tag:noindex
X-PUBLISHED-TTL:PT1H
BEGIN:VTIMEZONE
TZID:Europe/Berlin
BEGIN:DAYLIGHT
TZOFFSETFROM:+0100
TZOFFSETTO:+0200
TZNAME:CEST
DTSTART:20220327T010000
END:DAYLIGHT
BEGIN:STANDARD
TZOFFSETFROM:+0200
TZOFFSETTO:+0100
TZNAME:CET
DTSTART:20221030T010000
END:STANDARD
BEGIN:DAYLIGHT
TZOFFSETFROM:+0100
TZOFFSETTO:+0200
TZNAME:CEST
DTSTART:20230326T010000
END:DAYLIGHT
BEGIN:STANDARD
TZOFFSETFROM:+0200
TZOFFSETTO:+0100
TZNAME:CET
DTSTART:20231029T010000
END:STANDARD
BEGIN:DAYLIGHT
TZOFFSETFROM:+0100
TZOFFSETTO:+0200
TZNAME:CEST
DTSTART:20240331T010000
END:DAYLIGHT
BEGIN:STANDARD
TZOFFSETFROM:+0200
TZOFFSETTO:+0100
TZNAME:CET
DTSTART:20241027T010000
END:STANDARD
END:VTIMEZONE
BEGIN:VEVENT
DTSTART;TZID=Europe/Berlin:20230919T120000
DTEND;TZID=Europe/Berlin:20230919T130000
DTSTAMP:20260422T184709
CREATED:20230515T153430Z
LAST-MODIFIED:20230823T094316Z
UID:10000235-1695124800-1695128400@bvik.org
SUMMARY:So maximieren Sie Ihre Account-Based-Marketing Strategie mit Eventdaten!
DESCRIPTION:B2B-Wissen kompakt auf den Punkt gebracht\n\nIn einer sich ständig weiterentwickelnden Marketing-Landschaft ist ein personalisierter Ansatz der Schlüssel zum Erfolg. Aktuelle Studien haben ergeben\, dass Personalisierung für Marketingspezialisten eine hohe Priorität hat\, doch sie bedingt eine Investition in Daten und Technologie. Datengesteuerte Account-Based-Marketing (ABM)-Initiativen erfordern den Zugriff alle Datensätze\, die ihre Account-Wachstumsziele unterstützen. \nEvents sind eine wertvolle Quelle für First-Party-Daten. Damit bilden sie eine entscheidende Komponente Ihrer ABM-Strategie. Sie sind nicht nur der ideale Kanal für intensives Engagement\, sondern liefern auch First-Party-Daten zu jedem Teilnehmer. Daten\, die Sie für hyperpersonalisierte Erlebnisse in ihren Customer Journeys verwenden können. \nNehmen Sie an diesem bvik Webinar mit Gastgeber Cvent teil und erfahren Sie\, wie Sie Eventdaten strategisch zu Ihrem ABM-Programm hinzufügen können. Wir freuen uns über Ihre Anmeldung! \nÄnderungen des Ablaufs sind vorbehalten. \nWeiterführender Hinweis: Sie sind an intensiveren Informationen zu Meeting- und Eventtechnologie interessiert? Dann registrieren Sie sich doch heute schon für unseren Partner-Event Cvent CONNECT Europe in Deutschland. Alle Informationen dazu finden Sie hier. \n 
URL:https://bvik.org/veranstaltung/account-based-marketing-strategie/
LOCATION:digital
CATEGORIES:bvik Spotlight digital
ATTACH;FMTTYPE=image/jpeg:https://bvik.org/wp-content/uploads/2023/05/MG_7805.jpg
GEO:51.165691;10.451526
END:VEVENT
BEGIN:VEVENT
DTSTART;TZID=Europe/Berlin:20230921T140000
DTEND;TZID=Europe/Berlin:20230921T150000
DTSTAMP:20260422T184709
CREATED:20230614T093828Z
LAST-MODIFIED:20230724T150510Z
UID:10000242-1695304800-1695308400@bvik.org
SUMMARY:Wissen\, was Journalist:innen wollen: Wie Sie Ihre Beziehung zu Medienschaffenden verbessern können
DESCRIPTION:B2B-Wissen kompakt auf den Punkt gebracht\n\nSinkende Werbeanzeigen-Einnahmen\, Kürzungen bei redaktionellen Ressourcen und neuerdings die Konkurrenz durch ChatGPT & Co. – Journalist:innen und Medienschaffende stehen auch in diesem Jahr vor zahlreichen Herausforderungen. Das wirkt sich auch auf die Zusammenarbeit mit PR-Schaffenden aus und bedeutet eine Chance für Kommunikationsprofis aus Unternehmen und Agenturen. Denn wer Medienschaffenden schnell und mit verlässlichen Informationen dienen kann\, hat die besten Chancen\, seine Beziehung zu Medien positiv zu gestalten.\nIn unserem Webinar stellen wir die neusten Ergebnisse der State of the Media-Journalistenbefragung vor\, die Cision zu Beginn des Jahres 2023 weltweit durchgeführt hat. Dabei gehen wir auf die Ergebnisse in Bezug auf die folgenden Themenfelder ein: \n\nWas sind die größten Herausforderungen\, denen sich Journalist:innen in Deutschland und weltweit derzeit stellen müssen?\nWas wollen – und benötigen – Medienschaffende von PR-Profis? Welche Möglichkeiten besitzen PR-Profis\, um Journalist:innen einen noch größeren Mehrwert zu bieten?\nWie nutzen deutsche Journalisten die sozialen Medien für ihre Arbeit?\n\nWir freuen uns auf Ihre Anmeldung!
URL:https://bvik.org/veranstaltung/wissen-was-journalistinnen-wollen/
LOCATION:digital
CATEGORIES:bvik Spotlight digital
ATTACH;FMTTYPE=image/jpeg:https://bvik.org/wp-content/uploads/2023/06/AdobeStock_294310625-scaled.jpeg
GEO:51.165691;10.451526
END:VEVENT
BEGIN:VEVENT
DTSTART;TZID=Europe/Berlin:20230925T130000
DTEND;TZID=Europe/Berlin:20230925T150000
DTSTAMP:20260422T184709
CREATED:20220309T113254Z
LAST-MODIFIED:20230703T133123Z
UID:10000190-1695646800-1695654000@bvik.org
SUMMARY:ERFA-RUNDE – Agenturen im offenen Austausch
DESCRIPTION:ERFA-Runde digital „Open Space“\n\nWir laden Sie zur Herbstausgabe unserer ERFA-Runde für den bilateralen und transparenten Austausch mit Kolleg:innen ein. Gerade für uns als Verband ist es wichtig für unsere B2B-Community eine lebendige Plattform zu schaffen\, um Zusammenarbeit und Zusammenhalt zu fördern. Und um den Herausforderungen des digitalen Wandels oder auch Budgetkürzungen auf Kundenseite zu begegnen. \nDieser bvik-Erfahrungsaustausch richtet sich exklusiv an B2B-Spezialisten aus dem Agentur- und Dienstleistungsumfeld aus der bvik Mitgliedschaft! \nOpen Space – Die Teilnehmer bestimmen die Agenda \nSie sind in diesem Event-Modus „Open Space“ dazu aufgerufen\, eigene konkrete Fragestellungen zu realen Projekten und Aufgabenstellungen aus Ihrem Unternehmen einzubringen und in der Runde zu analysieren. Bewusst wollen wir keine Themen-Agenda vorgeben\, da es unser Ziel ist\, Ideen und Lösungsansätze zu generieren\, die Impulse für das B2B-Marketing der Zukunft setzen. \nUnsere Vorstände sowie Geschäftsführerin Ramona Kaden freuen sich auf den Austausch mit Ihnen.
URL:https://bvik.org/veranstaltung/erfa-austausch-fuer-b2b-kommunikation/
LOCATION:digital
CATEGORIES:bvik ERFA-Runde
ATTACH;FMTTYPE=image/jpeg:https://bvik.org/wp-content/uploads/2020/04/ERFA-Runde-digital_bvik_AdobeStock_227542553.jpg
GEO:51.165691;10.451526
END:VEVENT
BEGIN:VEVENT
DTSTART;TZID=Europe/Berlin:20230927T123000
DTEND;TZID=Europe/Berlin:20230927T150000
DTSTAMP:20260422T184709
CREATED:20230309T140245Z
LAST-MODIFIED:20230827T094840Z
UID:10000143-1695817800-1695826800@bvik.org
SUMMARY:Messerundgang Powtech 2023
DESCRIPTION:Insights aus der B2B-Messekommunikation\n\nInternational Processing Trade Fair for Powder\, Bulk Solids\, Fluids and Liquids\nZum zweiten Mal nach fünf Jahren Pause dürfen wir die Powtech in unser Veranstaltungsprogramm aufnehmen. Erfahren Sie beim Rundgang mit Gastgeber NürnbergMesse die ganze Dynamik der POWTECH – der Leitmesse für Experten der Pulver- und Schüttguttechnologie! Sie ist die Präsentationsplattform für Innovationen und Weiterentwicklungen rund um Prozesse\, die aus Pulver\, Granulat\, Schüttgut und Flüssigkeit Qualitätsprodukte herstellen und verarbeiten – auch im Bereich Umwelt und Recycling. \nIm Rahmen des bvik-Messerundgangs besuchen wir einige ausgewählte Aussteller und werfen einen Blick hinter die Kulissen dieser Unternehmen aus Marketing- und Kommunikations-Perspektive. Vor Ort erhalten Sie Insider-Informationen rund um die Themen Messekommunikation und -marketing\, Standkonzeption und Leadgenerierung und kommen am Stand unseres Medienpartners Konradin zum Abschluss in den Austausch mit Experten und Kollegen. \nWeitere Informationen zur Powtech finden Sie HIER. \nÄnderungen des Ablaufs sind vorbehalten.  \n 
URL:https://bvik.org/veranstaltung/messerundgang-powtech-2023/
LOCATION:NürnbergMesse\, Messezentrum 1\, Nürnberg\, 90471\, Germany
CATEGORIES:bvik Messerundgang
ATTACH;FMTTYPE=image/jpeg:https://bvik.org/wp-content/uploads/ngg_featured/2017-09-28_MR-Powtech_04.jpeg
GEO:49.4193307;11.1151771
X-APPLE-STRUCTURED-LOCATION;VALUE=URI;X-ADDRESS=NürnbergMesse Messezentrum 1 Nürnberg 90471 Germany;X-APPLE-RADIUS=500;X-TITLE=Messezentrum 1:geo:11.1151771,49.4193307
END:VEVENT
BEGIN:VEVENT
DTSTART;TZID=Europe/Berlin:20230928T140000
DTEND;TZID=Europe/Berlin:20230928T150000
DTSTAMP:20260422T184709
CREATED:20230609T101221Z
LAST-MODIFIED:20230802T194146Z
UID:10000241-1695909600-1695913200@bvik.org
SUMMARY:Education is the New Marketing: Kundenbindung und Markenkraft durch hochwertige digitale Wissensvermittlung stärken
DESCRIPTION:B2B-Wissen kompakt auf den Punkt gebracht\n\nDer digitale Kontakt zu Kunden\, Partnern und Mitarbeitenden erfährt im Zeitalter von remote work eine neue Dynamik. Im Mittelpunkt steht die Vermittlung von Wissen: Digitale Schulungen  senken die Kosten im Service\, stärken Kundenbindung wie Marke und halten alle Kolleg:innen fachlich up to date: Education is the New Marketing! Vorreiter wie die Hubspot Academy haben bewiesen\, welche gigantischen Reichweiten mit hochwertigen Videokursen für die Marke erzielt werden können. Werden die Wissensbedarfe bestehender Kunden oder Partner durch leicht konsumierbare\, relevante und zielgruppengerechte Webinare\, digitale Trainings oder Schulungen gedeckt\, zahlt dies unmittelbar auf die Kundenbindung und Stärkung der Unternehmensmarke ein. Positiver Nebeneffekt: Die geschaffene Lern-Infrastruktur lässt sich ohne Mehraufwand auch für interne Schulungszwecke adaptieren.  \n \nGerade in der internen Wissensvermittlung setzen innovative Unternehmen längst auf die Macht von Video-Inhalten in Weiterbildung und Onboarding und können so effizient Mitarbeitende ortsunabhängig einbinden. Durch hochwertige e-Learning-Angebote werden beispielsweise Marken-Inhalte oder technisches Produkt-Know-how einfach zugänglich und auf unkomplizierte Weise vermittelt. So kann erreicht werden\, dass alle Mitarbeitenden die Markenwerte kennen und im Idealfall nach außen als Markenbotschafter:innen auftreten\, was nachweislich die Reichweite steigert und die Attraktivität des Unternehmens auf potenzielle neue Mitarbeitende erhöht. Auch bei der Schulung von Vertriebsteams\, z. B. in Vorbereitung auf Messen\, führen digitale Schulungen zu effizientem Wissenstransfer\, gesteuert durch das Marketing.  \nDas Webinar zeigt die Funktionsweisen und Erfolgsfaktoren für digitale Schulungen auf und gibt wertvolle Tipps\, wie Education Plattformen ohne großen Aufwand und vertiefte technische Kenntnisse für Kunden und Mitarbeitende aufgebaut werden.   \nWir freuen uns auf Ihre Anmeldung!
URL:https://bvik.org/veranstaltung/education-is-the-new-marketing/
LOCATION:digital
CATEGORIES:bvik Spotlight digital
ATTACH;FMTTYPE=image/jpeg:https://bvik.org/wp-content/uploads/2023/06/AdobeStock_464325047-scaled.jpeg
GEO:51.165691;10.451526
END:VEVENT
END:VCALENDAR