BEGIN:VCALENDAR
VERSION:2.0
PRODID:-//Bundesverband Industrie Kommunikation e.V. - ECPv6.15.18//NONSGML v1.0//EN
CALSCALE:GREGORIAN
METHOD:PUBLISH
X-WR-CALNAME:Bundesverband Industrie Kommunikation e.V.
X-ORIGINAL-URL:https://bvik.org
X-WR-CALDESC:Veranstaltungen für Bundesverband Industrie Kommunikation e.V.
REFRESH-INTERVAL;VALUE=DURATION:PT1H
X-Robots-Tag:noindex
X-PUBLISHED-TTL:PT1H
BEGIN:VTIMEZONE
TZID:Europe/Berlin
BEGIN:DAYLIGHT
TZOFFSETFROM:+0100
TZOFFSETTO:+0200
TZNAME:CEST
DTSTART:20230326T010000
END:DAYLIGHT
BEGIN:STANDARD
TZOFFSETFROM:+0200
TZOFFSETTO:+0100
TZNAME:CET
DTSTART:20231029T010000
END:STANDARD
BEGIN:DAYLIGHT
TZOFFSETFROM:+0100
TZOFFSETTO:+0200
TZNAME:CEST
DTSTART:20240331T010000
END:DAYLIGHT
BEGIN:STANDARD
TZOFFSETFROM:+0200
TZOFFSETTO:+0100
TZNAME:CET
DTSTART:20241027T010000
END:STANDARD
BEGIN:DAYLIGHT
TZOFFSETFROM:+0100
TZOFFSETTO:+0200
TZNAME:CEST
DTSTART:20250330T010000
END:DAYLIGHT
BEGIN:STANDARD
TZOFFSETFROM:+0200
TZOFFSETTO:+0100
TZNAME:CET
DTSTART:20251026T010000
END:STANDARD
END:VTIMEZONE
BEGIN:VEVENT
DTSTART;TZID=Europe/Berlin:20240122T140000
DTEND;TZID=Europe/Berlin:20240122T163000
DTSTAMP:20260422T122432
CREATED:20231106T114755Z
LAST-MODIFIED:20240108T113024Z
UID:10000266-1705932000-1705941000@bvik.org
SUMMARY:bvik Trend-Talk 4.0
DESCRIPTION:Der digitale Jahresauftakt des bvik\n\nDer bvik als unabhängiger Trendscout sensibilisiert frühzeitig für relevante Zukunftsthemen im B2B-Marketing.  Daher laden wir Sie sehr gerne nun schon zur vierten Ausgabe unseres bvik Trend-Talks ein. Ganz im Sinne einer Kölner Redewendung „Beim ersten Mal haben wir es ausprobiert\, beim zweiten Mal ist es Tradition und beim dritten Mal Brauch!“ freuen wir uns auf den digitalen Dialog mit Ihnen und unseren hochkarätigen Expert:innen aus Wissenschaft und B2B-Praxis in Round-Table-Atmosphäre. \nLaut unserer aktuellen Befragung bvik Trendbarometers Industriekommunikation 2024 wünschen sich 92 % der Befragten eine direkte Anbindung der Marketing-Abteilung an das C-Level\, um den kommenden unternehmensweiten Herausforderungen gewachsen zu sein. Nicht erst seit dem KI-Hype stehen alle Prozesse\, Kompetenzen und auch die Kommunikations- und Markenstrategie auf dem Prüfstand. Die digitalen Spielregeln für erfolgreiche Marketing-Performance zu beherrschen\, bleibt für 73 % der Studien-Teilnehmenden die größte Herausforderung für ihren Zukunftserfolg.  Klar ist: Die Rolle des Marketings ändert sich vom Dienstleister des Vertriebs zum abteilungsübergreifenden strategischen Berater. Wie es uns gelingt\, als Expert:innen im B2B-Marketing sowohl als Vertreter:innen von Industrieunternehmen als auch von Agenturen maßgeblich auf den Unternehmenserfolg einzuwirken\, diskutieren wir nach kurzen Impulsen unserer wissenschaftlichen Expert:innen mit Ihnen und unseren Panel-Kandidat:innen. \nSetzen Sie am 22. Januar mit uns die bvik Reise in unsere erfolgreiche B2B-Zukunft fort! Die einzelnen „Stationen“ der Reise entnehmen Sie bitte unserer Agenda. \nWir freuen uns über Ihre Teilnahme. \n 
URL:https://bvik.org/veranstaltung/bvik-trend-talk-2024/
LOCATION:digital
CATEGORIES:bvik Spotlight digital
ATTACH;FMTTYPE=image/jpeg:https://bvik.org/wp-content/uploads/2023/11/AdobeStock_515724302-scaled.jpeg
GEO:51.165691;10.451526
END:VEVENT
BEGIN:VEVENT
DTSTART;TZID=Europe/Berlin:20240125T150000
DTEND;TZID=Europe/Berlin:20240125T160000
DTSTAMP:20260422T122432
CREATED:20231018T124616Z
LAST-MODIFIED:20240118T164139Z
UID:10000262-1706194800-1706198400@bvik.org
SUMMARY:Messe: Geschäftschancen nutzen und mit Förderprogrammen Budget schonen
DESCRIPTION:B2B-Wissen kompakt auf den Punkt gebracht\n\nSie sind auf der Suche nach neuen Geschäftschancen im In- und Ausland\, wollen Ihre Innovationsstärke zeigen und die Innovationskraft in Ihrer Branche live erleben? Dann nehmen Sie an unserem Webtalk mit Fokus Messe teil. Folgende Inhalte hat Ihr Gastgeber-Duo Sylvia Kanitz & Hendrik Hochheim (beide Verband der deutschen Messewirtschaft – AUMA) für Sie vorbereitet: \n\nErkenntnisse 2023: Kurzer Rückblick auf das Messejahr\nTrends 2024: TOP-Erkenntnisse aus Aussteller-Sicht\nGeschäftschancen: Budget schonen mit Messe-Förderprogrammen im In- und Ausland\nService: Tipps zur Messebeteiligung\n\nIn der Januarausgabe unseres Messewebtalks mit Gastgeber AUMA werden Ihnen Messe-Trends vorgestellt und Sie erfahren alles über die Messe-Förderung von Bund und Bundesländern. Profitieren Sie von Tipps und Hinweisen\, um Ihre Messebeteiligung maximal erfolgreich zu machen und kommen Sie mit Expert:innen und Kolleg:innen in den Austausch. \nWir freuen uns über Ihre Anmeldung!
URL:https://bvik.org/veranstaltung/messe-webtalk-januar-2024/
LOCATION:digital
CATEGORIES:bvik Spotlight digital
ATTACH;FMTTYPE=image/jpeg:https://bvik.org/wp-content/uploads/2023/10/6.jpg
GEO:51.165691;10.451526
END:VEVENT
END:VCALENDAR