BEGIN:VCALENDAR
VERSION:2.0
PRODID:-//Bundesverband Industrie Kommunikation e.V. - ECPv6.15.18//NONSGML v1.0//EN
CALSCALE:GREGORIAN
METHOD:PUBLISH
X-WR-CALNAME:Bundesverband Industrie Kommunikation e.V.
X-ORIGINAL-URL:https://bvik.org
X-WR-CALDESC:Veranstaltungen für Bundesverband Industrie Kommunikation e.V.
REFRESH-INTERVAL;VALUE=DURATION:PT1H
X-Robots-Tag:noindex
X-PUBLISHED-TTL:PT1H
BEGIN:VTIMEZONE
TZID:Europe/Berlin
BEGIN:DAYLIGHT
TZOFFSETFROM:+0100
TZOFFSETTO:+0200
TZNAME:CEST
DTSTART:20250330T010000
END:DAYLIGHT
BEGIN:STANDARD
TZOFFSETFROM:+0200
TZOFFSETTO:+0100
TZNAME:CET
DTSTART:20251026T010000
END:STANDARD
BEGIN:DAYLIGHT
TZOFFSETFROM:+0100
TZOFFSETTO:+0200
TZNAME:CEST
DTSTART:20260329T010000
END:DAYLIGHT
BEGIN:STANDARD
TZOFFSETFROM:+0200
TZOFFSETTO:+0100
TZNAME:CET
DTSTART:20261025T010000
END:STANDARD
BEGIN:DAYLIGHT
TZOFFSETFROM:+0100
TZOFFSETTO:+0200
TZNAME:CEST
DTSTART:20270328T010000
END:DAYLIGHT
BEGIN:STANDARD
TZOFFSETFROM:+0200
TZOFFSETTO:+0100
TZNAME:CET
DTSTART:20271031T010000
END:STANDARD
END:VTIMEZONE
BEGIN:VEVENT
DTSTART;VALUE=DATE:20260426
DTEND;VALUE=DATE:20260428
DTSTAMP:20260424T101613
CREATED:20260210T080816Z
LAST-MODIFIED:20260213T131652Z
UID:10000538-1777240800-1777413599@bvik.org
SUMMARY:Zukunftswiesen Summit 2026
DESCRIPTION:bvik Partnerschaft „B2B-Event-Radar“\nB2B-Event-Tipps aus dem bvik-Partnernetzwerk \nDer Zukunftswiesen Summit geht 2026 in die nächste Runde und findet erstmals in der Arena Hohenlohe in Ilshofen statt. An zwei Tagen bringt das Event Vordenkerinnen und Vordenker\, Unternehmen\, Start-ups\, Investoren und Initiativen zusammen\, um gemeinsam die Zukunft von Wirtschaft\, Innovation und Unternehmertum zu gestalten.\n \nDer Summit hat sich in den vergangenen Jahren als zentrale Plattform für Austausch\, Inspiration und Vernetzung etabliert. Auch 2026 setzen die Zukunftsmacher auf ein weiterentwickeltes Format mit relevanten Themen\, neuen Perspektiven und echten Begegnungen auf Augenhöhe.\n \nℹ️ Weitere Informationen zum Event HIER.\n \nGestalten Sie den Wandel aktiv mit und seien Sie beim Zukunftswiesen Summit 2026 dabei.\n 
URL:https://bvik.org/veranstaltung/zukunftswiesen-summit/
LOCATION:Arena Hohenlohe (Ilshofen)\, Justus-von-Liebig-Straße 1\, Ilshofen\, 74532\, Germany
CATEGORIES:Partnerveranstaltung
ATTACH;FMTTYPE=image/jpeg:https://bvik.org/wp-content/uploads/2026/02/Zukunftswiesen_Summit_2026_Thumbnail_Veranstaltungskalender.jpg
GEO:49.1659546;9.9514088
X-APPLE-STRUCTURED-LOCATION;VALUE=URI;X-ADDRESS=Arena Hohenlohe (Ilshofen) Justus-von-Liebig-Straße 1 Ilshofen 74532 Germany;X-APPLE-RADIUS=500;X-TITLE=Justus-von-Liebig-Straße 1:geo:9.9514088,49.1659546
END:VEVENT
END:VCALENDAR