BEGIN:VCALENDAR
VERSION:2.0
PRODID:-//Bundesverband Industrie Kommunikation e.V. - ECPv6.15.18//NONSGML v1.0//EN
CALSCALE:GREGORIAN
METHOD:PUBLISH
X-ORIGINAL-URL:https://bvik.org
X-WR-CALDESC:Veranstaltungen für Bundesverband Industrie Kommunikation e.V.
REFRESH-INTERVAL;VALUE=DURATION:PT1H
X-Robots-Tag:noindex
X-PUBLISHED-TTL:PT1H
BEGIN:VTIMEZONE
TZID:Europe/Berlin
BEGIN:DAYLIGHT
TZOFFSETFROM:+0100
TZOFFSETTO:+0200
TZNAME:CEST
DTSTART:20180325T010000
END:DAYLIGHT
BEGIN:STANDARD
TZOFFSETFROM:+0200
TZOFFSETTO:+0100
TZNAME:CET
DTSTART:20181028T010000
END:STANDARD
BEGIN:DAYLIGHT
TZOFFSETFROM:+0100
TZOFFSETTO:+0200
TZNAME:CEST
DTSTART:20190331T010000
END:DAYLIGHT
BEGIN:STANDARD
TZOFFSETFROM:+0200
TZOFFSETTO:+0100
TZNAME:CET
DTSTART:20191027T010000
END:STANDARD
BEGIN:DAYLIGHT
TZOFFSETFROM:+0100
TZOFFSETTO:+0200
TZNAME:CEST
DTSTART:20200329T010000
END:DAYLIGHT
BEGIN:STANDARD
TZOFFSETFROM:+0200
TZOFFSETTO:+0100
TZNAME:CET
DTSTART:20201025T010000
END:STANDARD
END:VTIMEZONE
BEGIN:VEVENT
DTSTART;TZID=Europe/Berlin:20190307T123000
DTEND;TZID=Europe/Berlin:20190307T154500
DTSTAMP:20260424T031131
CREATED:20180401T115022Z
LAST-MODIFIED:20190402T103314Z
UID:10000090-1551961800-1551973500@bvik.org
SUMMARY:Social-Media-Erfolgsformel für Hidden Champions
DESCRIPTION:Ein echter „Blockbuster“ war die bvik-Veranstaltung in der ASTOR Film Lounge im ARRI. Das Kino bot eine ganz besondere Kulisse für die rund 80 Marketer zum Thema „Social-Media-Erfolgsformel für Hidden Champions“. Digitale Changeprozesse verändern die Arbeitswelt rasend schnell und nachhaltig\, neue Kanäle rücken in den Fokus von Unternehmen und ganz besonders der Marketingabteilungen. Wer sich gegenüber seinen Wettbewerbern durchsetzen und erfolgreich sein möchte\, muss neue Wege beschreiten und bereit sein\, Geschäftsmodelle zu verändern. Soziale Medien bieten hierbei eine gute Möglichkeit\, den Change als Chance zu nutzen. \nSocial Media definiert die Anforderungen an das Marketing neu. Die direkte Ansprache durch und an den Kunden verändert das Kommunikationsverhalten im B2B-Marketing immens. Steigen Sie mit uns in einen systematischen Ansatz\, geprägt durch die Säulen Recherche\, Planung und Reporting von Social-Media-Themen ein. Und erhalten Sie Antwort auf die Frage\, wie man eine Vielzahl von globalen Social-Media-Kanälen effizient verwalten kann. Aufgrund der großen Bedeutung\, die soziale Medien für die Nutzer haben\, kann es sich heute kein Unternehmen mehr leisten\, im Social Web unsichtbar zu bleiben. Aber nur mit der passenden Strategie\, gestützt durch KPIs für die Evaluation\, wird aus dem Auftritt extern und intern ein Wertbeitrag für das Unternehmen. \nAuf der bvik-Veranstaltung beim Filmtechnikunternehmen Arnold & Richter Cine Technik GmbH & Co. Betriebs KG in der bayerischen Landeshauptstadt stand neben dem Blick auf ein effektives Social Media Management auch das Thema Social Selling im Vordergrund. Außerdem erhielten die Marketer einen spannenden Einblick in „Growth Hacking“.  \nFolgende Vorträgen lieferten den Teilnehmern viel Input und Anregungen für eigene Social-Media-Projekte: \n\nFilm ab! – Die globale Marketing- und Kommunikationsstrategie bei ARRI\nUte Böhringer-Mai\, Head of Corporate Marketing & Commications\, ARRI AG\n\n\nUte Böhringer-Mai gab zu Beginn einen interessanten Einblick in das Unternehmen ARRI und zeigte anhand eines kurzen Films\, der aus verschiedenen Sequenzen bekannter Filme bestand\, welche Bandbreite die Kameratechnik von ARRI hat. Anschließend lieferte sie Insights in die globale Marketing- und Kommunikationsstrategie des Unternehmens. Dabei ging sie auch auf die Herausforderungen der wachsenden Zahl der zu bespielenden Kanälen im Marketing ein. „Das starke Kanalwachstum ist das Ergebnis von hervorragender und enger Zusammenarbeit über alle Geschäftseinheiten und Regionen hinweg im globlen Marketing-Netzwerk bei ARRI. Das gelebte Teamwork ist der Erfolgsfaktor für das Unternhemen“\, erklärte Böhringer-Mai. \n\nHerausforderung und Best Practice für ein erfolgreiches & effektives Social Media Management\nKirsten-Julian Sörries\, Head of Online Marketing\, ARRI AG\n\nKirsten-Julian Sörries erläuterte in seinem Vortrag das Social Media Management von ARRI und zeigte\, wie man eine Vielzahl an Social Media Kanälen (ARRI bespielt weltweit sieben Kanäle) effizient verwaltet. Dabei wies er direkt zu Beginn auf eine Problematik hin: „Aufgrund der wachsenden Zahl an Kanälen geht oftmals die Effizienz verloren. Social Media darf kein Selbstzweck sein\, sondern muss immer zur Unternehmensstrategie passen und diese befeuern.“ Anschließend stellte Sörries das Social Deployment des Unternehmens vor. Dabei geht es darum\, Social-Media-Inhalte in einem Tool zu erstellen\, zu organisieren\, zu koordinieren und auch zu messen. Er riet den Teilnehmern\, in diesen Bereich Zeit zu investieren\, um das für das eigene Unternehmen passende Tool zu finden: „Jedes Tool ist besser\, als es komplett selbst zu machen.“ Drüber hinaus zeigte Sörries zehn Fehler auf\, die man im Social-Media-Bereich nicht machen sollte und ließ dabei auch eigene Erfahrungen einfließen. Wichtig war ihm vor allem folgende Botschaft: „Social Media darf nicht als Insel im Unternehmen gesehen werden. Es ist wichtig\, dass man die Mitarbeiter einbindet\, denn sie alle sind Markenbotschafter des Unternehmens.“\nDa vor allem der Messung von Social-Media-Aktivitäten eine immer größere Bedeutung zukommt\, stellten Evi Bader und Sonja Mauerhoff aus dem Social-Media-Team von ARRI vor\, wie das Unternehmen bei der Messung der KPIs vorgeht und welche Kennzahlen für einzelne Kampagnen betrachtet werden. In einer anschließenden Q&A-Runde stellte sich das ARRI-Team den Fragen der Teilnehmer. \n\nBesser als die Konkurrenz. Social Seller knüpfen Beziehungsbande\, die über Kaltakquise nie zu erreichen wären.\nJulia Poetsch\, Digital Consultant\, gernBotschaft Gesellschaft für Kommunikation mbH\n\nDen zweiten Teil des interessanten Nachmittags eröffnete Julia Poetsch mit ihrem Vortrag zum Thema Social Selling. Sie machte deutlich\, dass B2B-Unternehmen das Potenzial sozialer Netzwerke für das eigene Marketing nutzen müssen. Dabei sei es wichtig herauszufinden\, welche Fragen die Zielgruppen wirklich bewegen und welche Inhalte für diese relevant sind. Ihrer Meinung nach gehe es darum\, über Social Media Beziehungen langfristig und kontinuierlich aufzubauen und die Kontakte auch zu pflegen\, da man nur dadurch auch einen langfristigen Nutzen hat. Natürlich hatte Poetsch auch Tipps für die anwesenden Marketer: „Meine fünf Tipps für das Social Selling: Hören Sie zu! Bieten Sie Mehrwerte! Seien Sie hilfreich! Erweitern Sie Ihre Reichweite! Pflegen Sie Beziehungen!“ \n\nGrowth Hacking auf Instagram: Wie können B2B Unternehmen durch kostengünstige Maßnahmen Ihre Reichweite steigern.\nChristoph von Külmer\, Gründer + Geschäftsführer\, SportBrain Entertainment GmbH\n\nDen Abschluss der Veranstaltung bildete der Vortrag von Christoph von Külmer. Dieser gab einen interessanten Einblick in das Thema „Growth Hacking“\, das oft von Startups genutzt wird\, im schnell am Markt präsent zu sein. Dabei erklärte er\, wie es über Viralität in Social Media gelingt\, die Reichweite in kürzester Zeit stark zu erhöhen. „Das Ziel von Growth Hacking ist es\, ganz schnell\, ganz groß zu werden. Die Awareness spielt dabei keine Rolle!“ Allerdings müsse dahinter immer ein gut durchdachtes Business-Modell stehen. „Jeder Growth Hack ist individuell und viele Hacks haben eine begrenzte Lebenszeit.“ Außerdem stellte von Külmer Unternehmen vor\, die mit dieser Technik weltbekannt geworden sind und zeigte\, welche Tricks sich B2B-Unternehmen für ihre Instagram-Strategie abschauen können. „Produzieren Sie kreativen Content mit Mehrwert und nutzen Sie Influencer und Multiplikatoren“\, so sein Credo. Auch zielgruppenoptimierte Werbung und das Teilen von gutem Content ist seiner Meinung nach eine gute Möglichkeit für Growth Hacking in diesem Bereich. \nVerpassen Sie begleitend nicht unser brandneues Social Media Whitepaper (exklusiv für Mitglieder) und unseren brandaktuellen Blog-Beitrag zum Thema Social Selling.\n \nBildergalerie:\nno images were found
URL:https://bvik.org/veranstaltung/social-media-erfolgsformel/
LOCATION:ASTOR Film Lounge im ARRI\, München\, Türkenstraße 89\, München\, 80799\, Germany
CATEGORIES:bvik meets industry
ATTACH;FMTTYPE=image/jpeg:https://bvik.org/wp-content/uploads/ngg_featured/2019-03-07_MfM-ARRI_04.jpg
GEO:48.1530782;11.577527
X-APPLE-STRUCTURED-LOCATION;VALUE=URI;X-ADDRESS=ASTOR Film Lounge im ARRI München Türkenstraße 89 München 80799 Germany;X-APPLE-RADIUS=500;X-TITLE=Türkenstraße 89:geo:11.577527,48.1530782
END:VEVENT
END:VCALENDAR