BEGIN:VCALENDAR
VERSION:2.0
PRODID:-//Bundesverband Industrie Kommunikation e.V. - ECPv6.15.18//NONSGML v1.0//EN
CALSCALE:GREGORIAN
METHOD:PUBLISH
X-WR-CALNAME:Bundesverband Industrie Kommunikation e.V.
X-ORIGINAL-URL:https://bvik.org
X-WR-CALDESC:Veranstaltungen für Bundesverband Industrie Kommunikation e.V.
REFRESH-INTERVAL;VALUE=DURATION:PT1H
X-Robots-Tag:noindex
X-PUBLISHED-TTL:PT1H
BEGIN:VTIMEZONE
TZID:Europe/Berlin
BEGIN:DAYLIGHT
TZOFFSETFROM:+0100
TZOFFSETTO:+0200
TZNAME:CEST
DTSTART:20180325T010000
END:DAYLIGHT
BEGIN:STANDARD
TZOFFSETFROM:+0200
TZOFFSETTO:+0100
TZNAME:CET
DTSTART:20181028T010000
END:STANDARD
BEGIN:DAYLIGHT
TZOFFSETFROM:+0100
TZOFFSETTO:+0200
TZNAME:CEST
DTSTART:20190331T010000
END:DAYLIGHT
BEGIN:STANDARD
TZOFFSETFROM:+0200
TZOFFSETTO:+0100
TZNAME:CET
DTSTART:20191027T010000
END:STANDARD
BEGIN:DAYLIGHT
TZOFFSETFROM:+0100
TZOFFSETTO:+0200
TZNAME:CEST
DTSTART:20200329T010000
END:DAYLIGHT
BEGIN:STANDARD
TZOFFSETFROM:+0200
TZOFFSETTO:+0100
TZNAME:CET
DTSTART:20201025T010000
END:STANDARD
END:VTIMEZONE
BEGIN:VEVENT
DTSTART;TZID=Europe/Berlin:20190311T220000
DTEND;TZID=Europe/Berlin:20190312T220000
DTSTAMP:20260422T094355
CREATED:20171112T230000Z
LAST-MODIFIED:20181214T083112Z
UID:10000001-1552341600-1552428000@bvik.org
SUMMARY:26. Münchner Management Kolloquium
DESCRIPTION:Smart & Agil & Disruptiv — Wertschöpfung 4.0\nSeien Sie dabei und diskutieren mit beim 26. Münchner Management Kolloquium! \nDie Digitalisierung lässt kaum einen Bereich im Unternehmen unberührt. Sie verändert die Produktentwicklung und Managemententscheidungen\, aber auch die Fertigung und die Zusammenarbeit in komplexen Wertschöpfungsnetzwerken. Der Blick auf die eigene Branche allein reicht nicht mehr aus. Das haben schon viele Unternehmen erkannt. Aber sind sie auch auf die Veränderungen gut genug vorbereitet? \nNutzen Sie die Chance und diskutieren beim 26. Münchner Management Kolloquium gemeinsam mit über 80 renommierten Managern und Führungskräfte aus unterschiedlichen Branchen folgende Fragestellungen: \n• Was macht ein Unternehmen „smart“\, agil und disruptiv?\n• Welches Maß an Intelligenz\, Agilität und Disruption ist nötig?\n• Welche Unternehmensbereiche unterliegen dem Veränderungsdruck?\n• Mit welchen Konzepten\, Methoden und Tools gestaltet sich Wertschöpfung 4.0?\n• Welche Chancen bietet Wertschöpfung 4.0?\n• Wie gestaltet sich die Arbeit in 4.0? \nWeitere Informationen zu unserer Partnerveranstaltung am 12. und 13. März 2019 finden Sie HIER. \n 
URL:https://bvik.org/veranstaltung/mmk2019/
LOCATION:Audimax\, Technische Universität München\, München\, Germany
CATEGORIES:Partnerveranstaltung
ATTACH;FMTTYPE=image/png:https://bvik.org/wp-content/uploads/2017/11/MMK2019_Header_passend.png
END:VEVENT
END:VCALENDAR