BEGIN:VCALENDAR
VERSION:2.0
PRODID:-//Bundesverband Industrie Kommunikation e.V. - ECPv6.15.18//NONSGML v1.0//EN
CALSCALE:GREGORIAN
METHOD:PUBLISH
X-ORIGINAL-URL:https://bvik.org
X-WR-CALDESC:Veranstaltungen für Bundesverband Industrie Kommunikation e.V.
REFRESH-INTERVAL;VALUE=DURATION:PT1H
X-Robots-Tag:noindex
X-PUBLISHED-TTL:PT1H
BEGIN:VTIMEZONE
TZID:Europe/Berlin
BEGIN:DAYLIGHT
TZOFFSETFROM:+0100
TZOFFSETTO:+0200
TZNAME:CEST
DTSTART:20170326T010000
END:DAYLIGHT
BEGIN:STANDARD
TZOFFSETFROM:+0200
TZOFFSETTO:+0100
TZNAME:CET
DTSTART:20171029T010000
END:STANDARD
BEGIN:DAYLIGHT
TZOFFSETFROM:+0100
TZOFFSETTO:+0200
TZNAME:CEST
DTSTART:20180325T010000
END:DAYLIGHT
BEGIN:STANDARD
TZOFFSETFROM:+0200
TZOFFSETTO:+0100
TZNAME:CET
DTSTART:20181028T010000
END:STANDARD
BEGIN:DAYLIGHT
TZOFFSETFROM:+0100
TZOFFSETTO:+0200
TZNAME:CEST
DTSTART:20190331T010000
END:DAYLIGHT
BEGIN:STANDARD
TZOFFSETFROM:+0200
TZOFFSETTO:+0100
TZNAME:CET
DTSTART:20191027T010000
END:STANDARD
END:VTIMEZONE
BEGIN:VEVENT
DTSTART;VALUE=DATE:20181121
DTEND;VALUE=DATE:20181123
DTSTAMP:20260423T092232
CREATED:20171115T230000Z
LAST-MODIFIED:20181025T123542Z
UID:10000004-1542837600-1543010399@bvik.org
SUMMARY:OMX & SEOkomm
DESCRIPTION:OMX – Die österreichische Leitkonferenz für Online Marketing \nBei der Fachkonferenz für Online Marketing – am Vortag der SEOkomm am 22. November 2018 – erhalten Online Marketing Spezialisten und solche\, die es noch werden wollen\, einen umfassenden Einblick in die vielfältigen Möglichkeiten des Online Marketings. \nKreative Köpfe\, Webshop Betreiber sowie Content- und Community Strategen nutzen die Gelegenheit\, sich über die neuesten Entwicklungen und Trends zu informieren. Insights und Case Studies aus dem wahren Leben bieten zudem spannende Einblicke hinter die Kulissen namhafter Unternehmen wie Voestalpine\, Sixt\, Salzburger Nachrichten oder Hartlauer. \nVortragende wie Felix Beilharz\, Svenja Hintz\, Niels Dahnke\, André Alpar\, Pascal Volz oder Charles Bahr\, garantieren 100% Know-how und vermitteln direkt anwendbares Online Marketing Wissen. \nAbsolutes Highlight: Karl Kratz‘ Keynote „Die Kunst digitaler Berührung 2“ feiert in Salzburg Premiere! \nWeitere Informationen zum Event erhalten Sie HIER. \n  \n \nSEOkomm – Konferenz für Suchmaschinenoptimierung \nBrandaktuelle Themen\, direkt anwendbares Wissen und Speaker\, die ihre Erfahrungen teilen – die SEOkomm ist seit Jahren ein Fixtermin in der deutschsprachigen SEO Szene. 25 Vorträge in drei unterschiedlichen Tracks vermitteln sowohl Basiswissen und Tipps für Einsteiger als auch Insights und Deep Dives für Fortgeschrittene. Ob SEO Spezialisten\, Webmarketing Profis oder Content Produzenten – hier fühlt sich jeder in seinem persönlichen Interesse angesprochen. \nTop-Speaker wie Sebastian Erlhofer\, Mario Fischer\, Theresa Futh\, Kai Spriestersbach\, Dominik Wojcik oder Bastian Grimm\, präsentieren Case Studies und Best Practice Beispiele aus dem SEO Alltag. \nWeitere Informationen zur SEOkomm\, die am 23. Novemeber 2018 stattfindet\, erhalten Sie HIER. \n 
URL:https://bvik.org/veranstaltung/omxseokomm/
LOCATION:Brandboxx\, Salzburg\, Moosfeldstraße 1\, Salzburg\, Österreich
CATEGORIES:Partnerveranstaltung
ATTACH;FMTTYPE=image/jpeg:https://bvik.org/wp-content/uploads/2017/11/OMX_work_BVIK_Inserat_Web.jpg
GEO:47.80949;13.05501
X-APPLE-STRUCTURED-LOCATION;VALUE=URI;X-ADDRESS=Brandboxx Salzburg Moosfeldstraße 1 Salzburg Österreich;X-APPLE-RADIUS=500;X-TITLE=Moosfeldstraße 1:geo:13.05501,47.80949
END:VEVENT
END:VCALENDAR