BEGIN:VCALENDAR
VERSION:2.0
PRODID:-//Bundesverband Industrie Kommunikation e.V. - ECPv6.15.18//NONSGML v1.0//EN
CALSCALE:GREGORIAN
METHOD:PUBLISH
X-ORIGINAL-URL:https://bvik.org
X-WR-CALDESC:Veranstaltungen für Bundesverband Industrie Kommunikation e.V.
REFRESH-INTERVAL;VALUE=DURATION:PT1H
X-Robots-Tag:noindex
X-PUBLISHED-TTL:PT1H
BEGIN:VTIMEZONE
TZID:Europe/Berlin
BEGIN:DAYLIGHT
TZOFFSETFROM:+0100
TZOFFSETTO:+0200
TZNAME:CEST
DTSTART:20250330T010000
END:DAYLIGHT
BEGIN:STANDARD
TZOFFSETFROM:+0200
TZOFFSETTO:+0100
TZNAME:CET
DTSTART:20251026T010000
END:STANDARD
BEGIN:DAYLIGHT
TZOFFSETFROM:+0100
TZOFFSETTO:+0200
TZNAME:CEST
DTSTART:20260329T010000
END:DAYLIGHT
BEGIN:STANDARD
TZOFFSETFROM:+0200
TZOFFSETTO:+0100
TZNAME:CET
DTSTART:20261025T010000
END:STANDARD
BEGIN:DAYLIGHT
TZOFFSETFROM:+0100
TZOFFSETTO:+0200
TZNAME:CEST
DTSTART:20270328T010000
END:DAYLIGHT
BEGIN:STANDARD
TZOFFSETFROM:+0200
TZOFFSETTO:+0100
TZNAME:CET
DTSTART:20271031T010000
END:STANDARD
END:VTIMEZONE
BEGIN:VEVENT
DTSTART;TZID=Europe/Berlin:20260121T130000
DTEND;TZID=Europe/Berlin:20260121T180000
DTSTAMP:20260422T220238
CREATED:20250624T100306Z
LAST-MODIFIED:20260107T144714Z
UID:10000469-1769000400-1769018400@bvik.org
SUMMARY:Transform the Experience – Messen und Events als Zukunftsraum
DESCRIPTION:B2B-Best-Practices im Diskurs der Perspektiven \nDie Grenzen zwischen Messen und Events verschwimmen. Hybride Formate sind gekommen\, um zu bleiben. Und mit jeder neuen Aufgabe wächst der Bedarf an Flexibilität\, Know-how und Mut zum Umdenken. \nBei bvik meets industry am 21. Januar 2026  im Messe und Congress Center Basel werfen wir gemeinsam einen Blick hinter die Kulissen aktueller Projekte aus der Industrie – von globalen Kundenforen bis hin zu virtuellen Erlebniswelten. \nWelche Learnings bleiben\, wenn sich Formate radikal verändern? Was bedeutet das für Rollen\, Prozesse und Ressourcen? Und wie schaffen wir es\, mit steilen Lernkurven souverän umzugehen? \nFreuen Sie sich auf praxisnahe Insights\, ehrliche Erfahrungsberichte und eine große Menge an Inspiration. Wir präsentieren Ihnen Best Cases des Gastgebers sowie von Endress+Hauser Group Services\, Komax Gruppe und der Bühler Group. \nSichern Sie sich jetzt Ihren Platz sichern und sind Sie dabei\, wenn Basel zum Treffpunkt für zukunftsgerichtete Live-Kommunikation wird. Alle weiteren Informationen zur Location finden Sie HIER. \n➕ bvik PLUS: Für alle Teilnehmenden\, die schon am Vortag anreisen\, laden wir Sie herzlich zu einer durch das Convention Bureau Basel geführten Führung (17:00–19:00 Uhr) durch Basel ein. Im Anschluss besteht die Möglichkeit für ein gemeinsames Abendessen im Restaurant „Löwenzorn“ (Selbstzahlerbasis). Bei Interesse melden Sie sich dazu per Mail gerne an. \nIm Vorfeld dieser Veranstaltung findet am selben Tag ein geführter bvik-Messerundgang über die Swissbau statt. Hierfür ist eine gesonderte Anmeldung erforderlich. Alle Informationen hierzu finden Sie auf der Eventseite. \nCopyright: MCH Group
URL:https://bvik.org/veranstaltung/transform-the-experience-messen-und-events-als-zukunftsraum/
LOCATION:Congress Center Basel\, Messeplatz 21\, 4058 Basel\, Schweiz.
CATEGORIES:bvik meets industry
ATTACH;FMTTYPE=image/jpeg:https://bvik.org/wp-content/uploads/2025/06/Print-approx-21-x-14-cm-MCH2017_MesseBasel_Aussenansicht_Albrigo_006.jpg
END:VEVENT
END:VCALENDAR