BEGIN:VCALENDAR
VERSION:2.0
PRODID:-//Bundesverband Industrie Kommunikation e.V. - ECPv6.15.18//NONSGML v1.0//EN
CALSCALE:GREGORIAN
METHOD:PUBLISH
X-ORIGINAL-URL:https://bvik.org
X-WR-CALDESC:Veranstaltungen für Bundesverband Industrie Kommunikation e.V.
REFRESH-INTERVAL;VALUE=DURATION:PT1H
X-Robots-Tag:noindex
X-PUBLISHED-TTL:PT1H
BEGIN:VTIMEZONE
TZID:Europe/Berlin
BEGIN:DAYLIGHT
TZOFFSETFROM:+0100
TZOFFSETTO:+0200
TZNAME:CEST
DTSTART:20180325T010000
END:DAYLIGHT
BEGIN:STANDARD
TZOFFSETFROM:+0200
TZOFFSETTO:+0100
TZNAME:CET
DTSTART:20181028T010000
END:STANDARD
BEGIN:DAYLIGHT
TZOFFSETFROM:+0100
TZOFFSETTO:+0200
TZNAME:CEST
DTSTART:20190331T010000
END:DAYLIGHT
BEGIN:STANDARD
TZOFFSETFROM:+0200
TZOFFSETTO:+0100
TZNAME:CET
DTSTART:20191027T010000
END:STANDARD
BEGIN:DAYLIGHT
TZOFFSETFROM:+0100
TZOFFSETTO:+0200
TZNAME:CEST
DTSTART:20200329T010000
END:DAYLIGHT
BEGIN:STANDARD
TZOFFSETFROM:+0200
TZOFFSETTO:+0100
TZNAME:CET
DTSTART:20201025T010000
END:STANDARD
END:VTIMEZONE
BEGIN:VEVENT
DTSTART;TZID=Europe/Berlin:20190402T124500
DTEND;TZID=Europe/Berlin:20190402T150000
DTSTAMP:20260423T132311
CREATED:20190214T191825Z
LAST-MODIFIED:20190417T132449Z
UID:10000115-1554209100-1554217200@bvik.org
SUMMARY:Digital meets analog: Messe-Content im B2B
DESCRIPTION:Eine Messe ist Kommunikation pur\, sowohl auf analoger als auch auf digitaler Ebene. Dieses Spannungsfeld zwischen Face-to-Face-Kommunikation und dem digitalen Zeitalter stellt Marketing-Experten vor neue Herausforderungen. Wie Sie diese meistern und innovative Wege in der 360° Kommunikation gehen können\, erfuhren die Teilnehmer in vier spannenden Vorträgen auf diesem bvik-Event im Rahmen der HANNOVER MESSE. \nVor vollem Plenum wurde die Bedeutung der Messe als analoge Kommunikationsplattform in einer digitalen Welt beleuchtet. Zudem zeigten die vier Experten in ihren Vorträgen auf\, wie das Marketing die Kundenkommunikation den neuen Anforderungen anpassen kann. Wir erfuhren live auf der #HM19\, dass Emotionalität ein extrem differenzierendes Tool in der cross-channel Erlebniskommunikation ist und warum Social Media das Potenzial hat Brücken zwischen Offline und Online zu bauen. \n  \nImpulsvortrag: Messen – analoge Kommunikationsplattformen in einer digitalen Welt  \nDr. Peter Neven\, Hauptgeschäftsführer des AUMA Ausstellungs- und Messe-Ausschuss der Deutschen Wirtschaft e.V. in Berlin  \nDer Messe Experte Dr. Peter Neven zeigte in seinem Vortrag auf\, dass dort\, wo die Online-Medien an ihre Grenzen stoßen\, die Funktion von Messen beginnt. Diese sind dreidimensional und multisensorisch erfahrbar. Auf Messen geht das visuelle Markenerlebnis einher mit der Möglichkeit\, die ausgestellten Produkte auch haptisch wahrzunehmen. Darüber hinaus erzeugen persönliche Gespräche und Verhandlungen eine im zwischenmenschlichen Bereich nicht zu vernachlässigenden Emotion: Vertrauen. Und auf Vertrauen basieren harmonische und dauerhafte Beziehungen zwischen Menschen\, sei es im Privaten oder im Geschäftlichen. \nPraxis-Case: Kundenkommunikation auf Messen: Vom PDF zum digitalen Kundenmagazin \nChristiane Bischoff\, Content Marketing & PR-Management\, AVENTICS GmbH  \nAuch ein vertrauen-schaffendes Tool\, das Kundenmagazin stellte Christiane Bischoff in Ihrem Vortrag vor. Digitaler Wandel bedeutet aus Sicht der Content Marketing Spezialistin im Bereich der Kundenkommunikation häufig leider noch\, dass sich Kunden durch ein PDF klicken dürfen. Aventics ging das aber nicht weit genug – zur Motek 2018 ging das Kundenmagazin A Mag als digitales Magazin an den Start. \nInsights Deutsche Messe: Aus Werbung wird Welt – aus Messe wird „kommunikatives“ Wohnzimmer \nKatrin Friehmelt\, Marketing Manager HANNOVER MESSE\, Deutsche Messe  \nAnhand des Praxis Case HOME OF INDUSTRIAL PIONEES zeigte Katrin Friehmelt den Teilnehmern auf\, dass Emotionalität auch in der B2B Kommunikation ein gutes differenzierendes Element sein kann. Ziel der HANNOVER MESSE Kommunikation ist es sowohl Markenloyalität aufzubauen als auch emotionales Involvement herzustellen und Katalysator für die Kommunikation der Aussteller zu sein. Transparent berichtete die Marketing Managerin der HANNOVER MESSE vonIhren Learnings. Natürlich sei das Aufladen einer Kampagnen Idee als cross-chanel Erlebniskommunikation nicht frei von Stolpersteinen und eine der größten Herausforderungen sei dabei interne und externe Kritiker und Botschafter zu hören und zu involvieren.  \nPraxis-Case: Wie ifm Social Media nutzt\, um Messen auch online erlebbar zu machen \nAnn-Christin Theyßen\, Unternehmenskommunikation Social Media\, ifm electronic gmbh  \nDie Verbindung von offline und online stand bei Ann-Christin Theyßen im Zentrum Ihres Vortrags. Als wichtige Erkenntnis stellte die Social Media Managerin heraus\, dass in der Live-Kommunikation Messen und Online-Medien keinen Gegensatz bilden – Ziel sei es vielmehr\, die Pole sinnvoll miteinander zu kombinieren. Dabei steht Social Listening und die Aktion und Re-Aktion im Fokus. Wichtig ist es auch das Team ins Boot zu holen und mit kreativen Ideen und Mut eine 360° Erlebnis-Kommunikation zu gestalten. \nBildergalerie: \nno images were found
URL:https://bvik.org/veranstaltung/messe-content/
LOCATION:Convention Center | Deutsche Messe Hannover\, Hannover\, Germany
CATEGORIES:bvik meets industry
ATTACH;FMTTYPE=image/jpeg:https://bvik.org/wp-content/uploads/ngg_featured/2019-04-02_MfM-HMI_11.jpg
GEO:52.3758916;9.7320104
END:VEVENT
END:VCALENDAR