BEGIN:VCALENDAR
VERSION:2.0
PRODID:-//Bundesverband Industrie Kommunikation e.V. - ECPv6.15.18//NONSGML v1.0//EN
CALSCALE:GREGORIAN
METHOD:PUBLISH
X-ORIGINAL-URL:https://bvik.org
X-WR-CALDESC:Veranstaltungen für Bundesverband Industrie Kommunikation e.V.
REFRESH-INTERVAL;VALUE=DURATION:PT1H
X-Robots-Tag:noindex
X-PUBLISHED-TTL:PT1H
BEGIN:VTIMEZONE
TZID:Europe/Berlin
BEGIN:DAYLIGHT
TZOFFSETFROM:+0100
TZOFFSETTO:+0200
TZNAME:CEST
DTSTART:20250330T010000
END:DAYLIGHT
BEGIN:STANDARD
TZOFFSETFROM:+0200
TZOFFSETTO:+0100
TZNAME:CET
DTSTART:20251026T010000
END:STANDARD
BEGIN:DAYLIGHT
TZOFFSETFROM:+0100
TZOFFSETTO:+0200
TZNAME:CEST
DTSTART:20260329T010000
END:DAYLIGHT
BEGIN:STANDARD
TZOFFSETFROM:+0200
TZOFFSETTO:+0100
TZNAME:CET
DTSTART:20261025T010000
END:STANDARD
BEGIN:DAYLIGHT
TZOFFSETFROM:+0100
TZOFFSETTO:+0200
TZNAME:CEST
DTSTART:20270328T010000
END:DAYLIGHT
BEGIN:STANDARD
TZOFFSETFROM:+0200
TZOFFSETTO:+0100
TZNAME:CET
DTSTART:20271031T010000
END:STANDARD
END:VTIMEZONE
BEGIN:VEVENT
DTSTART;TZID=Europe/Berlin:20260319T080000
DTEND;TZID=Europe/Berlin:20260319T160000
DTSTAMP:20260423T111249
CREATED:20251007T101036Z
LAST-MODIFIED:20251128T144339Z
UID:10000491-1773907200-1773936000@bvik.org
SUMMARY:Brand Implementation AI Leadership Bootcamp
DESCRIPTION:B2B-Praxis-Know-how im Interaktiv-Workshop \nWie wäre es\, wenn Sie Ihre Marke auf das nächste Level bringen und nachhaltig stärken könnten? \nIm exklusiven Brand Implementation Leadership Bootcamp erfahren Sie\, wie ein ganzheitliches Brand Implementation Framework – unterstützt durch innovative KI-Tools – Ihr Unternehmen dabei unterstützt\, konsistente Markenbotschaften zu vermitteln\, die Kundenerfahrung zu optimieren und die Marktposition langfristig zu festigen. \nFreuen Sie sich auf einen kompakten Tag mit den Expert*innen von Gastgeber und bvik-Mitglied Brandification voller Insights\, Praxisübungen und Inspiration. Gemeinsam mit Expertinnen und Experten analysieren Sie Erfolgsfaktoren wirksamer Markenführung\, überprüfen zentrale Touchpoints und entwickeln Ihre individuelle Brand Implementation Roadmap. \nZiel ist es\, Ihre Marke konsequent umzusetzen und Ihre Mitarbeitenden zu aktiven Markenbotschafter:innen zu befähigen. \nFür wen eignet sich das Bootcamp?Für Führungskräfte\, Marketingleiter*innen\, CMOs und Brand Manager\, die bereit sind\, ihre Markenstrategie gezielt weiterzuentwickeln und nachhaltig zu implementieren. \nIdeenreichtum trifft Industriedenkmal\nDer bvik Deep Dive findet in der inspirierenden LOKation in der Lokhalle Freiburg statt – einem Ort\, der Industriecharme und moderne Eventarchitektur auf einzigartige Weise verbindet.Im Raum „Stellwerk“ erwartet Sie eine kreative Umgebung\, die perfekt geeignet ist\, um Strategien zu entwickeln\, Ideen zu vernetzen und gemeinsam Marken weiterzudenken. \nMehr zur Location \nWir freuen uns auf Ihre Anmeldungen!
URL:https://bvik.org/veranstaltung/brand-implementation-ai-leadership-bootcamp/
LOCATION:Die LOKation\, Paul-Ehrlich-Straße 13\, 79106 Freiburg im Breisgau
CATEGORIES:bvik Deep Dive
ATTACH;FMTTYPE=image/jpeg:https://bvik.org/wp-content/uploads/2025/10/Bootcamp-Visual-scaled.jpg
GEO:48.014677;7.845101
END:VEVENT
END:VCALENDAR