BEGIN:VCALENDAR
VERSION:2.0
PRODID:-//Bundesverband Industrie Kommunikation e.V. - ECPv6.15.18//NONSGML v1.0//EN
CALSCALE:GREGORIAN
METHOD:PUBLISH
X-WR-CALNAME:Bundesverband Industrie Kommunikation e.V.
X-ORIGINAL-URL:https://bvik.org
X-WR-CALDESC:Veranstaltungen für Bundesverband Industrie Kommunikation e.V.
REFRESH-INTERVAL;VALUE=DURATION:PT1H
X-Robots-Tag:noindex
X-PUBLISHED-TTL:PT1H
BEGIN:VTIMEZONE
TZID:Europe/Berlin
BEGIN:DAYLIGHT
TZOFFSETFROM:+0100
TZOFFSETTO:+0200
TZNAME:CEST
DTSTART:20250330T010000
END:DAYLIGHT
BEGIN:STANDARD
TZOFFSETFROM:+0200
TZOFFSETTO:+0100
TZNAME:CET
DTSTART:20251026T010000
END:STANDARD
BEGIN:DAYLIGHT
TZOFFSETFROM:+0100
TZOFFSETTO:+0200
TZNAME:CEST
DTSTART:20260329T010000
END:DAYLIGHT
BEGIN:STANDARD
TZOFFSETFROM:+0200
TZOFFSETTO:+0100
TZNAME:CET
DTSTART:20261025T010000
END:STANDARD
BEGIN:DAYLIGHT
TZOFFSETFROM:+0100
TZOFFSETTO:+0200
TZNAME:CEST
DTSTART:20270328T010000
END:DAYLIGHT
BEGIN:STANDARD
TZOFFSETFROM:+0200
TZOFFSETTO:+0100
TZNAME:CET
DTSTART:20271031T010000
END:STANDARD
END:VTIMEZONE
BEGIN:VEVENT
DTSTART;VALUE=DATE:20260416
DTEND;VALUE=DATE:20260418
DTSTAMP:20260424T100427
CREATED:20260206T133418Z
LAST-MODIFIED:20260206T134643Z
UID:10000535-1776376800-1776549599@bvik.org
SUMMARY:Die Fachtagung für Text\, Konzept und Kreativität. 
DESCRIPTION:K wie Kontraste\, Kreation und Kakao: Der Textevent des Jahres bringt zwei Tage Kontrastprogramm für Hirn und Herz\, mit Impulsen zu Zukunft\, Marketing und Storytelling\, Workshops zu UX-Writing und kreativem Schreiben plus eine Anti-Krisen-Methode für unsichere Zeiten. Serviert mit extra viel Austausch für Sprach-Nerds\, Solo-Selbstständige und Kreative. \nbvik-Mitglieder erhalten 10 % Rabatt auf Tickets! \nWeitere Informationen zum Event finden Sie HIER
URL:https://bvik.org/veranstaltung/kontrastprogramm/
LOCATION:Erfurt Altstadt\, Haus Dacheröden
CATEGORIES:Partnerveranstaltung
ATTACH;FMTTYPE=image/png:https://bvik.org/wp-content/uploads/2026/02/56a4b7b3-fb04-4601-9879-d5429d4f3e25-2.png
END:VEVENT
END:VCALENDAR