BEGIN:VCALENDAR
VERSION:2.0
PRODID:-//Bundesverband Industrie Kommunikation e.V. - ECPv6.15.18//NONSGML v1.0//EN
CALSCALE:GREGORIAN
METHOD:PUBLISH
X-WR-CALNAME:Bundesverband Industrie Kommunikation e.V.
X-ORIGINAL-URL:https://bvik.org
X-WR-CALDESC:Veranstaltungen für Bundesverband Industrie Kommunikation e.V.
REFRESH-INTERVAL;VALUE=DURATION:PT1H
X-Robots-Tag:noindex
X-PUBLISHED-TTL:PT1H
BEGIN:VTIMEZONE
TZID:Europe/Berlin
BEGIN:DAYLIGHT
TZOFFSETFROM:+0100
TZOFFSETTO:+0200
TZNAME:CEST
DTSTART:20180325T010000
END:DAYLIGHT
BEGIN:STANDARD
TZOFFSETFROM:+0200
TZOFFSETTO:+0100
TZNAME:CET
DTSTART:20181028T010000
END:STANDARD
BEGIN:DAYLIGHT
TZOFFSETFROM:+0100
TZOFFSETTO:+0200
TZNAME:CEST
DTSTART:20190331T010000
END:DAYLIGHT
BEGIN:STANDARD
TZOFFSETFROM:+0200
TZOFFSETTO:+0100
TZNAME:CET
DTSTART:20191027T010000
END:STANDARD
BEGIN:DAYLIGHT
TZOFFSETFROM:+0100
TZOFFSETTO:+0200
TZNAME:CEST
DTSTART:20200329T010000
END:DAYLIGHT
BEGIN:STANDARD
TZOFFSETFROM:+0200
TZOFFSETTO:+0100
TZNAME:CET
DTSTART:20201025T010000
END:STANDARD
END:VTIMEZONE
BEGIN:VEVENT
DTSTART;TZID=Europe/Berlin:20190228T110000
DTEND;TZID=Europe/Berlin:20190228T160000
DTSTAMP:20260422T130732
CREATED:20181204T152609Z
LAST-MODIFIED:20190312T152025Z
UID:10000113-1551351600-1551369600@bvik.org
SUMMARY:Spot an für Ihren Messeauftritt - Komplexes im B2B einfach perfekt inszenieren!
DESCRIPTION:Ihr Unternehmen hat seine Hausaufgaben gemacht und in intensiver Arbeit den Markenkern und die Markenwerte definiert – das Marken-Handbuch ist geschrieben. Doch nun stellt sich die Frage: Wie erreiche ich damit meine Kunden? \nStarke Marken besitzen eine klare Persönlichkeit\, stiften Sinn und schaffen Vertrauen. Im B2B ist es jedoch eine echte Kunst\, technisch Hochkomplexes plakativ und sachrichtig so zu inszenieren\, dass sich daraus ein „Heilsversprechen“ für den Kunden ableiten lässt. Auf der Messe\, im Webauftritt und auf allen Kanälen müssen Markenwerte stringent kommuniziert werden\, doch Vorsicht: Auf internationalem Parkett steckt der Teufel gern auch im (sprachlichen) Detail! \nDie Teilnehmer erfuhren vor Ort\, wie sie den USP und die Markenbotschaft ihres Unternehmens visuell wirkungsvoll und sprachlich korrekt in Szene setzen können. \nDamit auch sprachlich alles seine Richtigkeit hat\, erhielten die Teilnehmer vom führenden Sprachdienstleister Wieners+Wieners im ersten Modul „B2B Messeauftritte richtig lokalisieren“ Insights & praktische Tools\, wie Sie bei Marken-Botschaften für gutes Deutsch und sinnvolle Übertragungen in Fremdsprachen sorgen. Nach dem Motto „Simplify the Duden“ fahndeten die Kommunikationsexperten im Teamwork nach den Fallstricken des Deutschen und Englischen in der täglichen (Industrie-) Kommunikation. \nIm Anschluss nahm Thomas Ruschke\, B2B DACH Lead und Senior Client Partner\, Facebook die Teilnehmer mit in die Gegenwart und Zukunft des Unternehmens Facebook. Mit seiner Key-Note „B2B ist Human2Human – Wie Facebook dabei hilft\, mit Kunden zu kommunizieren“ zeigte er auf\, dass digitale Verbundenheit durch soziale Netzwerke und das Teilen persönlicher Erlebnisse für viele Menschen auch aus dem Berufsalltag nicht mehr wegzudenken ist.  Daraus sollten aus der Sicht von Ruschke Unternehmen lernen: Konsumenten beziehen die technische Realität ihres Privatlebens auch bei der Recherche und Auswahl von Produkten mit ein. Damit muss sich aus Sicht des Social-Media-Experten die B2B-Welt wandeln\, denn sie ist nicht länger nur Business to Business\, sondern vor allem Mensch zu Mensch. \nNach der Pause vermittelten die Markenexperte der Agentur blaupause.biz im zweiten Modul „B2B Messeauftritte plakativ inszenieren“\, wie die Teilnehmer Ihre Systemkompetenz und Zielbranchenkenntnis als perfekter Entwicklungspartner klar nach außen tragen – jenseits der grassierenden „Produktitis“ der Industriekommunikation. In Gruppenarbeiten wurden Darstellungen erarbeitet\, mit den Vorgaben\, dass diese skalierbar und responsive sein müssen. Für Stefan Weder von blaupause ist unabdingbar\, dass ein gelungener Lösungsansatz auf dem Smartphone dieselbe Wirkung beim Betrachter entfalten muss wie von der Ferne auf einer Messewand. \nBildergalerie: \nno images were found \n 
URL:https://bvik.org/veranstaltung/messeauftritt-inszenieren/
LOCATION:Facebook Germany\, Hamburg\, Caffamacherreihe 7\, Hamburg\, 20355\, Germany
CATEGORIES:bvik Deep Dive
ATTACH;FMTTYPE=image/jpeg:https://bvik.org/wp-content/uploads/ngg_featured/2019-02-28_WS-Facebook_17.jpg
GEO:53.5545776;9.9831594
X-APPLE-STRUCTURED-LOCATION;VALUE=URI;X-ADDRESS=Facebook Germany Hamburg Caffamacherreihe 7 Hamburg 20355 Germany;X-APPLE-RADIUS=500;X-TITLE=Caffamacherreihe 7:geo:9.9831594,53.5545776
END:VEVENT
END:VCALENDAR