BEGIN:VCALENDAR
VERSION:2.0
PRODID:-//Bundesverband Industrie Kommunikation e.V. - ECPv6.15.18//NONSGML v1.0//EN
CALSCALE:GREGORIAN
METHOD:PUBLISH
X-WR-CALNAME:Bundesverband Industrie Kommunikation e.V.
X-ORIGINAL-URL:https://bvik.org
X-WR-CALDESC:Veranstaltungen für Bundesverband Industrie Kommunikation e.V.
REFRESH-INTERVAL;VALUE=DURATION:PT1H
X-Robots-Tag:noindex
X-PUBLISHED-TTL:PT1H
BEGIN:VTIMEZONE
TZID:Europe/Berlin
BEGIN:DAYLIGHT
TZOFFSETFROM:+0100
TZOFFSETTO:+0200
TZNAME:CEST
DTSTART:20230326T010000
END:DAYLIGHT
BEGIN:STANDARD
TZOFFSETFROM:+0200
TZOFFSETTO:+0100
TZNAME:CET
DTSTART:20231029T010000
END:STANDARD
BEGIN:DAYLIGHT
TZOFFSETFROM:+0100
TZOFFSETTO:+0200
TZNAME:CEST
DTSTART:20240331T010000
END:DAYLIGHT
BEGIN:STANDARD
TZOFFSETFROM:+0200
TZOFFSETTO:+0100
TZNAME:CET
DTSTART:20241027T010000
END:STANDARD
BEGIN:DAYLIGHT
TZOFFSETFROM:+0100
TZOFFSETTO:+0200
TZNAME:CEST
DTSTART:20250330T010000
END:DAYLIGHT
BEGIN:STANDARD
TZOFFSETFROM:+0200
TZOFFSETTO:+0100
TZNAME:CET
DTSTART:20251026T010000
END:STANDARD
END:VTIMEZONE
BEGIN:VEVENT
DTSTART;TZID=Europe/Berlin:20240215T120000
DTEND;TZID=Europe/Berlin:20240215T170000
DTSTAMP:20260422T130109
CREATED:20231110T135016Z
LAST-MODIFIED:20231214T141643Z
UID:10000269-1707998400-1708016400@bvik.org
SUMMARY:KI mit Menschenverstand – wie Unternehmen die Chancen von ChatGPT & Co. am besten für sich nutzen!
DESCRIPTION:B2B-Praxis-Know-how im Interaktiv-Workshop\n\nUnternehmen und ihre Mitarbeiter werden tagtäglich mit den Möglichkeiten\, Auswirkungen und Risiken von KI-Tools wie ChatGPT und Co. konfrontiert. Die Reaktion reicht von Aktionismus bis zu Sorgen vor Jobverlust und Unsicherheiten\, welche Skills man benötigt\, um den Anforderungen von morgen zu entsprechen. Gleichzeitig werden die heutigen Möglichkeiten von KI-Tools oft undifferenziert betrachtet. Oft heißt die Frage: Was kann das Tool? Dabei geht es primär erstmal um den Gedanken\, welches Problem ich mit KI lösen möchte. Wie sollen Unternehmen also mit dem Thema umgehen? Wie kann ein sinnvoller strategischer Ansatz sein\, um Potenziale zu nutzen? \nIn mehreren Sessions stehen dabei diese Themen im Mittelpunkt: \n\nWelche Fragen sollte ich mir vor dem Einsatz von Tool stellen? Welchen Mehrwert kann ich mit KI-Tools erzielen? Wie können konkrete Anwendungsszenarien aussehen? \nLive Prompting für Texterstellung\, Bildbearbeitung\, Präsentationen und Video\nChancen\, Risiken und rechtliche Rahmenbedingungen
URL:https://bvik.org/veranstaltung/ki-mit-menschenverstand/
LOCATION:Fink & Fuchs AG\, Wiesbaden\, Berliner Straße 164\, Wiesbaden\, 65205\, Germany
CATEGORIES:bvik Deep Dive
ATTACH;FMTTYPE=image/jpeg:https://bvik.org/wp-content/uploads/2023/11/AdobeStock_337301600-scaled.jpeg
GEO:50.06086;8.28468
X-APPLE-STRUCTURED-LOCATION;VALUE=URI;X-ADDRESS=Fink & Fuchs AG Wiesbaden Berliner Straße 164 Wiesbaden 65205 Germany;X-APPLE-RADIUS=500;X-TITLE=Berliner Straße 164:geo:8.28468,50.06086
END:VEVENT
END:VCALENDAR