BEGIN:VCALENDAR
VERSION:2.0
PRODID:-//Bundesverband Industrie Kommunikation e.V. - ECPv6.15.18//NONSGML v1.0//EN
CALSCALE:GREGORIAN
METHOD:PUBLISH
X-ORIGINAL-URL:https://bvik.org
X-WR-CALDESC:Veranstaltungen für Bundesverband Industrie Kommunikation e.V.
REFRESH-INTERVAL;VALUE=DURATION:PT1H
X-Robots-Tag:noindex
X-PUBLISHED-TTL:PT1H
BEGIN:VTIMEZONE
TZID:Europe/Berlin
BEGIN:DAYLIGHT
TZOFFSETFROM:+0100
TZOFFSETTO:+0200
TZNAME:CEST
DTSTART:20250330T010000
END:DAYLIGHT
BEGIN:STANDARD
TZOFFSETFROM:+0200
TZOFFSETTO:+0100
TZNAME:CET
DTSTART:20251026T010000
END:STANDARD
BEGIN:DAYLIGHT
TZOFFSETFROM:+0100
TZOFFSETTO:+0200
TZNAME:CEST
DTSTART:20260329T010000
END:DAYLIGHT
BEGIN:STANDARD
TZOFFSETFROM:+0200
TZOFFSETTO:+0100
TZNAME:CET
DTSTART:20261025T010000
END:STANDARD
BEGIN:DAYLIGHT
TZOFFSETFROM:+0100
TZOFFSETTO:+0200
TZNAME:CEST
DTSTART:20270328T010000
END:DAYLIGHT
BEGIN:STANDARD
TZOFFSETFROM:+0200
TZOFFSETTO:+0100
TZNAME:CET
DTSTART:20271031T010000
END:STANDARD
END:VTIMEZONE
BEGIN:VEVENT
DTSTART;TZID=Europe/Berlin:20261111T120000
DTEND;TZID=Europe/Berlin:20261111T170000
DTSTAMP:20260422T190506
CREATED:20251029T140455Z
LAST-MODIFIED:20260407T073429Z
UID:10000505-1794398400-1794416400@bvik.org
SUMMARY:Formate mit Wirkung: Wie B2B-Marken heute Relevanz schaffen
DESCRIPTION:B2B-Best-Practices im Diskurs der Perspektiven \nWas macht Formate im B2B-Marketing wirklich wirksam und warum? \nErfolgreiche Marken schaffen heute Begegnungen\, die Wirkung zeigen – inspirierend\, relevant und messbar. Bei dieser Edition unseres Event-Formats „bvik meets industry“ geben Expert*innen aus Wissenschaft und Praxis Einblicke in erfolgreiche Formate\, die Markenbeziehungen stärken und Thought Leadership fördern. Ob Event\, kuratierter Content oder interaktives Format – erfahren Sie\, wie gezielte B2B-Kommunikation zu mehr Sichtbarkeit\, qualifizierten Leads und nachhaltiger Markenrelevanz führt. \nBei Frauscher Sensortechnik erwartet Sie ein Nachmittag voller Impulse\, Praxisbeispiele und Austausch mit anderen Marketingprofis\, die das Potenzial innovativer Formate für sich nutzen möchten. Alle weiteren Informationen zu den Speakern und Inhalten entnehmen Sie bitte unseren Inhaltsreitern und der Agenda\, die wie die Registrierung in der rechten Seitenleiste eingebettet ist. \n➕ bvik PLUS \nIm Anschluss an die Vorträge erwartet Sie ab 16:30 Uhr eine Führung durch das Frauscher Experience Center und der Austausch mit Kolleg*innen und Expert*innen mit Fingerfood. Das Veranstaltungsende ist gegen 18:00 Uhr vorgesehen. \nDie Registrierung ist ab sofort für Sie geöffnet.
URL:https://bvik.org/veranstaltung/formate-mit-wirkung-marke-mit-relevanz/
LOCATION:Frauscher Sensortechnik – Corporate Office\, Bahnhofstraße 57a\, 4780 Schärding (Österreich)
CATEGORIES:bvik meets industry
ATTACH;FMTTYPE=image/jpeg:https://bvik.org/wp-content/uploads/2025/10/Opening-Event-64.jpg
GEO:48.46051;13.43268
END:VEVENT
END:VCALENDAR