BEGIN:VCALENDAR
VERSION:2.0
PRODID:-//Bundesverband Industrie Kommunikation e.V. - ECPv6.15.18//NONSGML v1.0//EN
CALSCALE:GREGORIAN
METHOD:PUBLISH
X-ORIGINAL-URL:https://bvik.org
X-WR-CALDESC:Veranstaltungen für Bundesverband Industrie Kommunikation e.V.
REFRESH-INTERVAL;VALUE=DURATION:PT1H
X-Robots-Tag:noindex
X-PUBLISHED-TTL:PT1H
BEGIN:VTIMEZONE
TZID:Europe/Berlin
BEGIN:DAYLIGHT
TZOFFSETFROM:+0100
TZOFFSETTO:+0200
TZNAME:CEST
DTSTART:20180325T010000
END:DAYLIGHT
BEGIN:STANDARD
TZOFFSETFROM:+0200
TZOFFSETTO:+0100
TZNAME:CET
DTSTART:20181028T010000
END:STANDARD
BEGIN:DAYLIGHT
TZOFFSETFROM:+0100
TZOFFSETTO:+0200
TZNAME:CEST
DTSTART:20190331T010000
END:DAYLIGHT
BEGIN:STANDARD
TZOFFSETFROM:+0200
TZOFFSETTO:+0100
TZNAME:CET
DTSTART:20191027T010000
END:STANDARD
BEGIN:DAYLIGHT
TZOFFSETFROM:+0100
TZOFFSETTO:+0200
TZNAME:CEST
DTSTART:20200329T010000
END:DAYLIGHT
BEGIN:STANDARD
TZOFFSETFROM:+0200
TZOFFSETTO:+0100
TZNAME:CET
DTSTART:20201025T010000
END:STANDARD
END:VTIMEZONE
BEGIN:VEVENT
DTSTART;TZID=Europe/Berlin:20190515T110000
DTEND;TZID=Europe/Berlin:20190515T143000
DTSTAMP:20260421T173314
CREATED:20190227T185749Z
LAST-MODIFIED:20190529T111014Z
UID:10000117-1557918000-1557930600@bvik.org
SUMMARY:Content im B2B ist King - Distribution ist Queen
DESCRIPTION:Der Wandel im Content Marketing ist allgegenwärtig. Das Content Marketing von heute entfernt sich vom Informations-Overload und setzt den Fokus auf den Nutzer und dessen Bedürfnisse nach Relevanz\, Emotionen und Interaktion. B2B-Unternehmen und Kommunikationsdienstleister bewegen sich dabei weg vom Silo-Denken hin zu einem ganzheitlichen Ansatz über alle Kommunikationskanäle hinweg. \nSo hat sich auch das Content Marketing bei Freudenberg Sealing Technologies (FST) in den letzten Jahren stark gewandelt. Weg von Kanal orientiertem Denken hin zu einem crossmedialen Ansatz. Die bvik-Veranstaltung gab einen Ein- und Überblick\, wie dieser Wandel stattgefunden hat bzw. noch immer stattfindet. Zudem wurden die Kanäle beleuchtet\, die hierbei für FST die wichtigste Rolle spielen und welche Möglichkeiten LinkedIn und WeChat für die Kommunikation von B2B-Unternehmen bieten. \nFolgende Vorträge gaben vor ausverkauftem Haus Insights in die Welt des Content Marketing: \nPraxis-Case: Content Marketing bei FST. Ein Unternehmen stellt sich neu auf. \nIsolde Grabenauer\, Senior Director Corporate Communications\, Freudenberg Sealing Technologies GmbH & Co. KG\nMichael Schmitz\, Director. Content Architecture\, Profilwerkstatt GmbH \nVom Silo-Denken zur cross medialen Content Distribution. Im Verlauf der letzten zwei Jahre hat sich FST im Content Marketing um 180° gedreht. Wurde in der Vergangenheit in Kanälen gedacht und Inhalt explizit für einen solchen aufbereitet\, stehen inzwischen Oberthemen im Vordergrund\, die kanal übergreifend ausgespielt werden. Bestes Beispiel: Das zweimal jährlich erscheinende Kundenmagazin stellte bis 2017 einen Themen-Silo dar\, der digital maximal über Teaser-Artikel rund um das Erscheinungsdatum des Print-Produkts Gehör fand. Inzwischen ist das Magazin Dreh- und Angelpunkt eines halbjährigen Themen-Zyklus\, aus dem sich Inhalte für alle Plattformen generieren – Print\, Web-Artikel\, Social Media Posts\, Bewegtbild oder Pressemeldungen. Alles greift ineinander und zahlt auf das gemeinsame Thema ein. \nBest-Case: LinkedIn: Zielgruppenansprache par excellence\nJakob Kwiatkowski\, Vice President Digital Marketing\, Freudenberg Sealing Technologies GmbH & Co. KG \nGuter\, Kanal spezifisch aufbereiteter Content ist das eine\, doch der beste Inhalt ist wertlos\, wenn er nicht bei der richtigen Zielgruppe ankommt. Doch wer ist die „richtige Zielgruppe“? Und wo finde ich sie? Wie minimiere ich Streu-Verluste und setze Budgets effizient ein? Für FST hat sich gezeigt\, dass kein Kanal so gute Möglichkeiten bietet\, wie das Social Network LinkedIn. Hier lassen sich Zielgruppen nicht nur spitz definieren\, sondern durch Testings und ausführliche Analysen lässt sich definieren und konkretisieren\, wen man wie am besten erreicht. \nContent Marketing  – Storytelling in B2B\nHeike Burr\, Account Director LinkedIn Marketing Solution \nB2B-Unternehmen haben Content-Marketing als gewinnbringende Strategie erkannt und versuchen mit unterschiedlichen Ansätzen ihre Zielgruppe zu erreichen. Dabei verlassen sich viele Unternehmen auf ihre Kompetenz und teilen v.a Fachinhalte über sich und ihre Branche. Ähnlich wie im B2C Segment wird allerdings auch im B2B Marketing die Bindung zur Zielgruppe über emotionale Inhalte immer wichtiger. Ein dafür geeignetes Mittel ist das Storytelling. Denn über emotionale Geschichten lassen sich Produkte\, Marken und Dienstleistungen besser vermarkten. Anhand von LinkedIn Beispielen zeigte Heike Burr in ihrem Vortrag auf\, welche Elemente notwendig sind\, um die Zielgruppe/n emotional zu adressieren und zu tangieren. \nForschungsprojekt: Marketing in China mit WeChat – Einsatzformen und Potenziale für ausgewählte deutsche Unternehmen\nProf. Dr. Sven Pagel\, Professor für Wirtschaftsinformatik und Medienmanagement Hochschule Mainz\nJens Friederich B. Sc.\, Wissenschaftlicher Assistent Forschungsgruppe Wirtschaftsinformatik und Medienmanagement (WIMM) \, Hochschule Mainz – University of Applied Sciences\n \nIn ihrem Vortrag bauten Prof. Dr. Pagel und Jens Friederich die Brücke zum chinesischen Markt. Dabei gab das Duo der Hochschule Mainz fundierte ökonomische und redaktionelle Einblicke in eine der vielseitigsten mobilen Applikationen\, die derzeit auf dem Markt existieren\, WeChat. Die Experten zeigten dabei auf\, welche Marketingpotenziale sich für deutsche Unternehmen durch WeChat auf dem chinesischen Markt bieten. Dabei wurden konkrete Marketingaktivitäten ausgewählter Unternehmen in der Umsetzung mit WeChat vorgestellt. Handlungsempfehlungen stellten zum Abschluß dar\, wie Unternehmen diesen digitalen Kommunikationskanal für eigene Marketingzwecke am effektivsten nutzen können. \nCopyright: Gero Ulmrich \nBildergalerie: \nno images were found \n 
URL:https://bvik.org/veranstaltung/content-ist-king/
LOCATION:Freudenberg Sealing Technologies GmbH & Co. KG\, Höhnerweg 2-4\, Weinheim\, 69469\, Germany
CATEGORIES:bvik meets industry
ATTACH;FMTTYPE=image/jpeg:https://bvik.org/wp-content/uploads/2019/05/2019-05-15_MfM-Freudenberg_04.jpg
GEO:49.5553336;8.6645547
X-APPLE-STRUCTURED-LOCATION;VALUE=URI;X-ADDRESS=Freudenberg Sealing Technologies GmbH & Co. KG Höhnerweg 2-4 Weinheim 69469 Germany;X-APPLE-RADIUS=500;X-TITLE=Höhnerweg 2-4:geo:8.6645547,49.5553336
END:VEVENT
END:VCALENDAR