BEGIN:VCALENDAR
VERSION:2.0
PRODID:-//Bundesverband Industrie Kommunikation e.V. - ECPv6.15.18//NONSGML v1.0//EN
CALSCALE:GREGORIAN
METHOD:PUBLISH
X-ORIGINAL-URL:https://bvik.org
X-WR-CALDESC:Veranstaltungen für Bundesverband Industrie Kommunikation e.V.
REFRESH-INTERVAL;VALUE=DURATION:PT1H
X-Robots-Tag:noindex
X-PUBLISHED-TTL:PT1H
BEGIN:VTIMEZONE
TZID:Europe/Berlin
BEGIN:DAYLIGHT
TZOFFSETFROM:+0100
TZOFFSETTO:+0200
TZNAME:CEST
DTSTART:20250330T010000
END:DAYLIGHT
BEGIN:STANDARD
TZOFFSETFROM:+0200
TZOFFSETTO:+0100
TZNAME:CET
DTSTART:20251026T010000
END:STANDARD
BEGIN:DAYLIGHT
TZOFFSETFROM:+0100
TZOFFSETTO:+0200
TZNAME:CEST
DTSTART:20260329T010000
END:DAYLIGHT
BEGIN:STANDARD
TZOFFSETFROM:+0200
TZOFFSETTO:+0100
TZNAME:CET
DTSTART:20261025T010000
END:STANDARD
BEGIN:DAYLIGHT
TZOFFSETFROM:+0100
TZOFFSETTO:+0200
TZNAME:CEST
DTSTART:20270328T010000
END:DAYLIGHT
BEGIN:STANDARD
TZOFFSETFROM:+0200
TZOFFSETTO:+0100
TZNAME:CET
DTSTART:20271031T010000
END:STANDARD
END:VTIMEZONE
BEGIN:VEVENT
DTSTART;TZID=Europe/Berlin:20261105T113000
DTEND;TZID=Europe/Berlin:20261105T163000
DTSTAMP:20260424T055230
CREATED:20260119T160213Z
LAST-MODIFIED:20260120T071443Z
UID:10000529-1793878200-1793896200@bvik.org
SUMMARY:In Vorbereitung
DESCRIPTION:B2B-Best-Practices im Diskurs der Perspektiven \nUm Ihnen eine Terminplanung zu ermöglichen\, finden Sie nun schon Veranstaltungen\, die wir gerade für Sie vorbereiten\, in unserer Übersicht.
URL:https://bvik.org/veranstaltung/in-vorbereitung-hhla/
LOCATION:Hamburg\, HHLA
CATEGORIES:bvik meets industry
ATTACH;FMTTYPE=image/jpeg:https://bvik.org/wp-content/uploads/2025/04/AdobeStock_450356608-scaled.jpeg
END:VEVENT
END:VCALENDAR