BEGIN:VCALENDAR
VERSION:2.0
PRODID:-//Bundesverband Industrie Kommunikation e.V. - ECPv6.15.18//NONSGML v1.0//EN
CALSCALE:GREGORIAN
METHOD:PUBLISH
X-ORIGINAL-URL:https://bvik.org
X-WR-CALDESC:Veranstaltungen für Bundesverband Industrie Kommunikation e.V.
REFRESH-INTERVAL;VALUE=DURATION:PT1H
X-Robots-Tag:noindex
X-PUBLISHED-TTL:PT1H
BEGIN:VTIMEZONE
TZID:Europe/Berlin
BEGIN:DAYLIGHT
TZOFFSETFROM:+0100
TZOFFSETTO:+0200
TZNAME:CEST
DTSTART:20220327T010000
END:DAYLIGHT
BEGIN:STANDARD
TZOFFSETFROM:+0200
TZOFFSETTO:+0100
TZNAME:CET
DTSTART:20221030T010000
END:STANDARD
BEGIN:DAYLIGHT
TZOFFSETFROM:+0100
TZOFFSETTO:+0200
TZNAME:CEST
DTSTART:20230326T010000
END:DAYLIGHT
BEGIN:STANDARD
TZOFFSETFROM:+0200
TZOFFSETTO:+0100
TZNAME:CET
DTSTART:20231029T010000
END:STANDARD
BEGIN:DAYLIGHT
TZOFFSETFROM:+0100
TZOFFSETTO:+0200
TZNAME:CEST
DTSTART:20240331T010000
END:DAYLIGHT
BEGIN:STANDARD
TZOFFSETFROM:+0200
TZOFFSETTO:+0100
TZNAME:CET
DTSTART:20241027T010000
END:STANDARD
END:VTIMEZONE
BEGIN:VEVENT
DTSTART;VALUE=DATE:20231206
DTEND;VALUE=DATE:20231208
DTSTAMP:20260424T074835
CREATED:20231006T053058Z
LAST-MODIFIED:20231016T121642Z
UID:10000021-1701903600-1702076399@bvik.org
SUMMARY:Handelsblatt Industrie-Gipfel 2023
DESCRIPTION:spotlight future: Industrielle (KI-) Revolution\n\n\nDer Handelsblatt Industrie-Gipfel 2023 konzentriert sich in diesem Jahr bewusst auf die Gestaltung und strategische Ausrichtung der Zukunft der deutschen Industrie.  Im Mittelpunkt stehen erfolgreiche und zukunftsorientierte Industrieunternehmen sowie Zulieferer\, Start-ups\, Wissenschaft und Forschung\, die gemeinsam das Rückgrat unserer Wirtschaft bilden. Unternehmen gehen zunehmend neue Kooperationen ein\, um die Herausforderungen der Zukunft zu meistern.  \nEin Schlüsselthema\, das uns alle betrifft\, ist die Ausrichtung und Nutzung von Künstlicher Intelligenz (KI) und die damit verbundenen Perspektiven. Inmitten dieser gewaltigsten industriellen Revolution gestalten wir die Zukunft gemeinsam mit Künstlicher Intelligenz. \nWeitere Informationen zum Event finden Sie HIER. \n 
URL:https://bvik.org/veranstaltung/handelsblatt-industrie-gipfel-2023/
LOCATION:HARTING Deutschland GmbH & Co. KG\, Minden\, Simeonscarré 1\, Minden\, 32427\, Germany
CATEGORIES:Partnerveranstaltung
ATTACH;FMTTYPE=image/jpeg:https://bvik.org/wp-content/uploads/2023/10/P1200964_Industrie-Gipfel_Banner_1192x73617.jpg
GEO:52.2817343;8.9088434
X-APPLE-STRUCTURED-LOCATION;VALUE=URI;X-ADDRESS=HARTING Deutschland GmbH & Co. KG Minden Simeonscarré 1 Minden 32427 Germany;X-APPLE-RADIUS=500;X-TITLE=Simeonscarré 1:geo:8.9088434,52.2817343
END:VEVENT
END:VCALENDAR