BEGIN:VCALENDAR
VERSION:2.0
PRODID:-//Bundesverband Industrie Kommunikation e.V. - ECPv6.15.18//NONSGML v1.0//EN
CALSCALE:GREGORIAN
METHOD:PUBLISH
X-ORIGINAL-URL:https://bvik.org
X-WR-CALDESC:Veranstaltungen für Bundesverband Industrie Kommunikation e.V.
REFRESH-INTERVAL;VALUE=DURATION:PT1H
X-Robots-Tag:noindex
X-PUBLISHED-TTL:PT1H
BEGIN:VTIMEZONE
TZID:Europe/Berlin
BEGIN:DAYLIGHT
TZOFFSETFROM:+0100
TZOFFSETTO:+0200
TZNAME:CEST
DTSTART:20180325T010000
END:DAYLIGHT
BEGIN:STANDARD
TZOFFSETFROM:+0200
TZOFFSETTO:+0100
TZNAME:CET
DTSTART:20181028T010000
END:STANDARD
BEGIN:DAYLIGHT
TZOFFSETFROM:+0100
TZOFFSETTO:+0200
TZNAME:CEST
DTSTART:20190331T010000
END:DAYLIGHT
BEGIN:STANDARD
TZOFFSETFROM:+0200
TZOFFSETTO:+0100
TZNAME:CET
DTSTART:20191027T010000
END:STANDARD
BEGIN:DAYLIGHT
TZOFFSETFROM:+0100
TZOFFSETTO:+0200
TZNAME:CEST
DTSTART:20200329T010000
END:DAYLIGHT
BEGIN:STANDARD
TZOFFSETFROM:+0200
TZOFFSETTO:+0100
TZNAME:CET
DTSTART:20201025T010000
END:STANDARD
END:VTIMEZONE
BEGIN:VEVENT
DTSTART;TZID=Europe/Berlin:20190221T123000
DTEND;TZID=Europe/Berlin:20190221T160000
DTSTAMP:20260422T180909
CREATED:20181027T122356Z
LAST-MODIFIED:20190301T110135Z
UID:10000108-1550752200-1550764800@bvik.org
SUMMARY:Vom Hidden Champion zum Brand Champion: Erfolgreiche Markenführung im B2B
DESCRIPTION:Hidden Champions wie das Familienunternehmen HIMA aus Brühl bei Mannheim mit 800 Mitarbeitern stehen im Zentrum der digitalen Veränderung in der Industrie. Viele Unternehmen wandeln sich dabei vom reinen Produktlieferanten zum Lösungsanbieter. Die neuen Leistungsversprechen müssen natürlich im Markenauftritt widergespiegelt werden\, denn professionelle Markenführung ist für den Erfolg im B2B-Bereich essentiell. Die Zeiten von statischen Marken sind jedoch vorbei. Der fortwährende Wandel und die digitale Transformation verschonen auch nicht das Branding. Daher sind heute fluide Marken erfolgreich. Diese passen sich an den jeweiligen Kanal oder die jeweilige Zielgruppe an und bleiben dabei dennoch unverwechselbar und transportieren konsistente Werte. \nWährend der bvik-Veranstaltung erhielten die Teilnehmer Einblicke in Rebranding Prozesse aus verschiedenen Perspektiven.  \nSmart Safety: Sicherheit bekommt ein neues Gesicht – Wie sich ein Familienunternehmen im digitalen Zeitalter neu positioniert\nDirk Bolz\, Director Global Marketing\, HIMA Paul Hildebrandt GmbH \nHIMA ist der führende Anbieter für industrielle Sicherheitstechnik. In diesem Umfeld vermarkten Ingenieure komplexe Lösungen und Produkte an Fachexperten. Der Markenauftritt von HIMA war daher bislang eher nüchtern und „technisch“. Mit der digitalen Transformation verändert sich jedoch der Markt\, die Anforderungen an die Kommunikation steigen. HIMA hat die Chance erkannt\, die eigene Marke jetzt emotional aufzuladen und sich so im Wettbewerb eindeutiger zu positionieren.\nDas Familienunternehmen wandelt sich vom Produkthersteller zum global vernetzten Premiumanbieter smarter Safety-Lösungen. Marketing treibt diesen Wandel voran. Dirk Bolz gab vor Ort einen exklusiven Einblick\, was bisher erreicht worden ist. \n„Smart ist eine Geisteshaltung“ (Steffen Philipp) \nAls Basis war sehr schnell klar\, dass der Family Spirit von innen nach außen mit Leben befüllt werden muss. So wurden in Workshops sowohl Mitarbeiter eingebunden\, als auch eine weltweite Kundenbefragung durchgeführt. Das Resultat – HIMA als Problemlöser – wurde 2017 zunächst intern implementiert\, bevor im Anschluss der externe Rollout folgte. Die Neupositionierung der HIMA mit dem Smart Safety Hub als Knotenpunkt sei aber noch eine sehr junge Reise\, so Bolz\, ein kontinuierlicher Prozeß\, der nie endet. \nFluide Markenführung: Kommunikation in einer Welt\, die verschwindet\nSebastian Callies\, Geschäftsführender Gesellschafter von Callies & Schewe \nDie Digitalisierung ist in vollem Gang: Kunden suchen Halt und Orientierung in einer Welt\, die vor ihren Augen verschwindet. Wie kann Kommunikation in diesem Umfeld überhaupt noch funktionieren? Im Vortrag von Sebastian Callies erfuhren die Teilnehmer\, wie Sie sich mit fluider Markenführung erfolgreich positionieren – und so dauerhaft erfolgreich bleiben und welche neue Rolle der Markenmanager in diesem Kontext einnimmt. \nMarkenauftritt: rigide vs. fluide \nAus der Sicht des Experten muss sich die B2B Marke der Zukunft über eine stufenweise Entwicklung generieren. Wichtig sei ein neues Mindset und die Akzeptanz ders Silicon Valley Spirits „Speed is better than perfection“\, sieht Callies die Anforderung an die neue Einstellung der Kunden\, dass alles immer sofort verfügbar sein müsse. \nPraxisvortrag: Aus der Nische zur Marke\nVolker Kohlstetter\, Mitbegründer und Geschäftsführer\, xft GmbH\nFriederike Sahm\, Marketing Managerin\, xft GmbH \nIT-Dienstleister aus dem SAP-Umfeld sind in einem Markt der Ähnlichkeiten: Viele bieten vergleichbare Services\, Unterschiede sind für potenzielle Kunden kaum auszumachen. Die Dienstleister setzen in der Kommunikation daher meist auf ihre Kontakte und ihre Kompetenz in der Nische. Das wird künftig nicht mehr reichen\, dachte sich die xft GmbH aus Walldorf – und begann\, sich als Marke zu verstehen. Was das ausgelöst hat und wo die Reise hinführen wird erläuterten Volker Kohlstetter und Friederike Sahm den Marketing-Experten Ihren integrativen und fluiden Ansatz. \nBildergalerie: \nno images were found \n 
URL:https://bvik.org/veranstaltung/hiddenchampion/
LOCATION:HIMA Paul Hildebrandt GmbH\, Brühl\, Brühl
CATEGORIES:bvik meets industry
ATTACH;FMTTYPE=image/jpeg:https://bvik.org/wp-content/uploads/ngg_featured/2019-02-21_MfM-HIMA_02.jpg
GEO:50.8267554;6.8987866
END:VEVENT
END:VCALENDAR