BEGIN:VCALENDAR
VERSION:2.0
PRODID:-//Bundesverband Industrie Kommunikation e.V. - ECPv6.15.18//NONSGML v1.0//EN
CALSCALE:GREGORIAN
METHOD:PUBLISH
X-WR-CALNAME:Bundesverband Industrie Kommunikation e.V.
X-ORIGINAL-URL:https://bvik.org
X-WR-CALDESC:Veranstaltungen für Bundesverband Industrie Kommunikation e.V.
REFRESH-INTERVAL;VALUE=DURATION:PT1H
X-Robots-Tag:noindex
X-PUBLISHED-TTL:PT1H
BEGIN:VTIMEZONE
TZID:Europe/Berlin
BEGIN:DAYLIGHT
TZOFFSETFROM:+0100
TZOFFSETTO:+0200
TZNAME:CEST
DTSTART:20250330T010000
END:DAYLIGHT
BEGIN:STANDARD
TZOFFSETFROM:+0200
TZOFFSETTO:+0100
TZNAME:CET
DTSTART:20251026T010000
END:STANDARD
BEGIN:DAYLIGHT
TZOFFSETFROM:+0100
TZOFFSETTO:+0200
TZNAME:CEST
DTSTART:20260329T010000
END:DAYLIGHT
BEGIN:STANDARD
TZOFFSETFROM:+0200
TZOFFSETTO:+0100
TZNAME:CET
DTSTART:20261025T010000
END:STANDARD
BEGIN:DAYLIGHT
TZOFFSETFROM:+0100
TZOFFSETTO:+0200
TZNAME:CEST
DTSTART:20270328T010000
END:DAYLIGHT
BEGIN:STANDARD
TZOFFSETFROM:+0200
TZOFFSETTO:+0100
TZNAME:CET
DTSTART:20271031T010000
END:STANDARD
END:VTIMEZONE
BEGIN:VEVENT
DTSTART;VALUE=DATE:20260608
DTEND;VALUE=DATE:20260610
DTSTAMP:20260422T220522
CREATED:20251219T122230Z
LAST-MODIFIED:20260209T144441Z
UID:10000519-1780956000-1781128799@bvik.org
SUMMARY:Strategiegipfel B2B E-Commerce & Marketing
DESCRIPTION:bvik Partnerschaft “The Place to be for B2B”\nB2B-Marketing auf den Branchen-Hotspots \nWie gelingt nachhaltiges Wachstum im digitalen B2B-Geschäft? Der Strategiegipfel B2B E-Commerce & Marketing bringt führende Entscheiderinnen und Entscheider aus Marketing\, Vertrieb und E-Commerce zusammen\, um zukunftsweisende Strategien\, Trends und Best Practices zu diskutieren. \nIm Fokus des Events stehen Themen wie datengetriebenes B2B-Marketing\, Customer Experience\, Marketing Automation\, Künstliche Intelligenz im Marketing\, Omnichannel-Strategien sowie der Aufbau skalierbarer B2B-E-Commerce-Lösungen. In Case Studies\, Diskussionsrunden und interaktiven Formaten zeigen Unternehmen\, wie sie ihre digitale Transformation vorantreiben. \nDer Strategiegipfel bietet zudem exklusive Networking-Möglichkeiten auf Entscheider-Ebene und schafft Raum für persönlichen Austausch\, neue Partnerschaften und nachhaltige Geschäftsbeziehungen. Ganz nach dem Motto: Wir bringen Entscheider zusammen. \nWeitere Informationen zum Event finden Sie HIER
URL:https://bvik.org/veranstaltung/strategiegipfel-b2b-e-commerce-marketing-2/
LOCATION:Hotel Abion Spreebogen Berlin\, Alt-Moabit 99\, 10559 Berlin
CATEGORIES:Partnerveranstaltung
ATTACH;FMTTYPE=image/png:https://bvik.org/wp-content/uploads/2025/12/BVIK-Banner-Marketing-Ecommerce-2026-1192-x-736-px-1-1.png
GEO:52.5231342;13.345711
X-APPLE-STRUCTURED-LOCATION;VALUE=URI;X-ADDRESS=Hotel Abion Spreebogen Berlin Alt-Moabit 99 10559 Berlin;X-APPLE-RADIUS=500;X-TITLE=Alt-Moabit 99:geo:13.345711,52.5231342
END:VEVENT
END:VCALENDAR