BEGIN:VCALENDAR
VERSION:2.0
PRODID:-//Bundesverband Industrie Kommunikation e.V. - ECPv6.15.18//NONSGML v1.0//EN
CALSCALE:GREGORIAN
METHOD:PUBLISH
X-WR-CALNAME:Bundesverband Industrie Kommunikation e.V.
X-ORIGINAL-URL:https://bvik.org
X-WR-CALDESC:Veranstaltungen für Bundesverband Industrie Kommunikation e.V.
REFRESH-INTERVAL;VALUE=DURATION:PT1H
X-Robots-Tag:noindex
X-PUBLISHED-TTL:PT1H
BEGIN:VTIMEZONE
TZID:Europe/Berlin
BEGIN:DAYLIGHT
TZOFFSETFROM:+0100
TZOFFSETTO:+0200
TZNAME:CEST
DTSTART:20250330T010000
END:DAYLIGHT
BEGIN:STANDARD
TZOFFSETFROM:+0200
TZOFFSETTO:+0100
TZNAME:CET
DTSTART:20251026T010000
END:STANDARD
BEGIN:DAYLIGHT
TZOFFSETFROM:+0100
TZOFFSETTO:+0200
TZNAME:CEST
DTSTART:20260329T010000
END:DAYLIGHT
BEGIN:STANDARD
TZOFFSETFROM:+0200
TZOFFSETTO:+0100
TZNAME:CET
DTSTART:20261025T010000
END:STANDARD
BEGIN:DAYLIGHT
TZOFFSETFROM:+0100
TZOFFSETTO:+0200
TZNAME:CEST
DTSTART:20270328T010000
END:DAYLIGHT
BEGIN:STANDARD
TZOFFSETFROM:+0200
TZOFFSETTO:+0100
TZNAME:CET
DTSTART:20271031T010000
END:STANDARD
END:VTIMEZONE
BEGIN:VEVENT
DTSTART;TZID=Europe/Berlin:20260317T140000
DTEND;TZID=Europe/Berlin:20260317T180000
DTSTAMP:20260424T131730
CREATED:20260225T070654Z
LAST-MODIFIED:20260225T073349Z
UID:10000550-1773756000-1773770400@bvik.org
SUMMARY:Marketing Leaders Club
DESCRIPTION:Exklusives Netzwerk für Marketing-Führungskräfte von Großunternehmen und Konzernen       \nDer Marketing Leaders Club\, eine Veranstaltung von Mosaiq\, Infomotion und dem bvik\,  öffnet zum zweiten Mal seine Türen in Frankfurt – ein vertraulicher Kreis für Marketingführungskräfte\, der Zukunftsthemen diskutiert\, Best Practices teilt und echten Austausch auf Augenhöhe ermöglicht. In Stuttgart ist das Format mit rund 20 Marketingverantwortlichen aus führenden Industrieunternehmen etabliert; nun geht dieses erfolgreiche Konzept auch in der Rhein-Main-Region mit einem klaren Fokus auf CMOs und Marketingverantwortliche aus dem B2B-Umfeld in die zweite Runde. \nDas Fokusthema des Marketing Leaders Club wird im März 2026 “KI im Marketing” sein. Ein praktischer und pragmatischer Blick auf den Status Quo sowie konkrete Tools und Chancen für die Marketingabteilungen in Großunternehmen. \nWeitere Informationen zur Veranstaltung finden Sie HIER. 
URL:https://bvik.org/veranstaltung/marketing-leaders-club-frankfurt/
LOCATION:Infomotion Innovation Lab\, Westhafenplatz 1\, 60327 Frankfurt am Main
CATEGORIES:Partnerveranstaltung
ATTACH;FMTTYPE=image/jpeg:https://bvik.org/wp-content/uploads/2025/12/MLC.jpg
END:VEVENT
END:VCALENDAR