BEGIN:VCALENDAR
VERSION:2.0
PRODID:-//Bundesverband Industrie Kommunikation e.V. - ECPv6.15.18//NONSGML v1.0//EN
CALSCALE:GREGORIAN
METHOD:PUBLISH
X-WR-CALNAME:Bundesverband Industrie Kommunikation e.V.
X-ORIGINAL-URL:https://bvik.org
X-WR-CALDESC:Veranstaltungen für Bundesverband Industrie Kommunikation e.V.
REFRESH-INTERVAL;VALUE=DURATION:PT1H
X-Robots-Tag:noindex
X-PUBLISHED-TTL:PT1H
BEGIN:VTIMEZONE
TZID:Europe/Berlin
BEGIN:DAYLIGHT
TZOFFSETFROM:+0100
TZOFFSETTO:+0200
TZNAME:CEST
DTSTART:20250330T010000
END:DAYLIGHT
BEGIN:STANDARD
TZOFFSETFROM:+0200
TZOFFSETTO:+0100
TZNAME:CET
DTSTART:20251026T010000
END:STANDARD
BEGIN:DAYLIGHT
TZOFFSETFROM:+0100
TZOFFSETTO:+0200
TZNAME:CEST
DTSTART:20260329T010000
END:DAYLIGHT
BEGIN:STANDARD
TZOFFSETFROM:+0200
TZOFFSETTO:+0100
TZNAME:CET
DTSTART:20261025T010000
END:STANDARD
BEGIN:DAYLIGHT
TZOFFSETFROM:+0100
TZOFFSETTO:+0200
TZNAME:CEST
DTSTART:20270328T010000
END:DAYLIGHT
BEGIN:STANDARD
TZOFFSETFROM:+0200
TZOFFSETTO:+0100
TZNAME:CET
DTSTART:20271031T010000
END:STANDARD
END:VTIMEZONE
BEGIN:VEVENT
DTSTART;TZID=Europe/Berlin:20260519T113000
DTEND;TZID=Europe/Berlin:20260519T153000
DTSTAMP:20260423T143613
CREATED:20260210T163110Z
LAST-MODIFIED:20260326T103841Z
UID:10000541-1779190200-1779204600@bvik.org
SUMMARY:Wachstum im B2B: Wie das Marketing echten Business-Impact schafft
DESCRIPTION:B2B-Best-Practices im Diskurs der Perspektiven \nMarketingorganisationen müssen nachhaltig und messbar zum Unternehmenserfolg beitragen. In diesem bvik meets industry Event beleuchten wir unter anderem zwei unabdingbare Voraussetzungen für Wachstum: den Schulterschluss zwischen Marketing und Vertrieb sowie die zielgerichtete und strukturierte Verwendung von Daten. \nGastgeber Infraserv zeigt unter dem Motto  Data to Impact: Wie Daten Entscheidungen\, Prozesse und Wachstum steuern  an Hand von zwei spannenden Vorträgen\, wie Daten die Grundlage für den Business-Erfolg legen: Wachstum entsteht nicht nur durch mehr Informationen\, sondern durch die richtige Nutzung dieser für klare Prioritäten\, saubere Steuerung und konsequente Umsetzung. Weitere Impulse kommen von WIKA\, Cloudbridge und der Provadis Hochschule. \nBei Infraserv im Industriepark Höchst erwartet Sie nicht nur ein spannender Austausch mit anderen Marketingprofis – es gibt zudem die Möglichkeit\, im Rahmen einer geführten Tour einen Blick hinter die Kulissen des Standortes zu erhalten\, der mit über 20.000 Mitarbeitenden die Dimensionen einer Kleinstadt hat.  Die separate Registrierung für diese Besichtigung (Treffpunkt 12:00) können Sie HIER vornehmen. Die Anmeldung für die Vortragsveranstaltung erfolgt wie üblich über den in der rechten Spalte integrierten Button!
URL:https://bvik.org/veranstaltung/wachstum-im-b2b/
LOCATION:Infraserv GmbH & Co. Höchst KG\, Industriepark Höchst\, 65926 Frankfurt am Main
CATEGORIES:bvik meets industry
ATTACH;FMTTYPE=image/jpeg:https://bvik.org/wp-content/uploads/2026/02/Infraserv-Entsorgung-Rohre.jpg
GEO:50.1109221;8.6821267
END:VEVENT
END:VCALENDAR