BEGIN:VCALENDAR
VERSION:2.0
PRODID:-//Bundesverband Industrie Kommunikation e.V. - ECPv6.15.18//NONSGML v1.0//EN
CALSCALE:GREGORIAN
METHOD:PUBLISH
X-WR-CALNAME:Bundesverband Industrie Kommunikation e.V.
X-ORIGINAL-URL:https://bvik.org
X-WR-CALDESC:Veranstaltungen für Bundesverband Industrie Kommunikation e.V.
REFRESH-INTERVAL;VALUE=DURATION:PT1H
X-Robots-Tag:noindex
X-PUBLISHED-TTL:PT1H
BEGIN:VTIMEZONE
TZID:Europe/Berlin
BEGIN:DAYLIGHT
TZOFFSETFROM:+0100
TZOFFSETTO:+0200
TZNAME:CEST
DTSTART:20170326T010000
END:DAYLIGHT
BEGIN:STANDARD
TZOFFSETFROM:+0200
TZOFFSETTO:+0100
TZNAME:CET
DTSTART:20171029T010000
END:STANDARD
BEGIN:DAYLIGHT
TZOFFSETFROM:+0100
TZOFFSETTO:+0200
TZNAME:CEST
DTSTART:20180325T010000
END:DAYLIGHT
BEGIN:STANDARD
TZOFFSETFROM:+0200
TZOFFSETTO:+0100
TZNAME:CET
DTSTART:20181028T010000
END:STANDARD
BEGIN:DAYLIGHT
TZOFFSETFROM:+0100
TZOFFSETTO:+0200
TZNAME:CEST
DTSTART:20190331T010000
END:DAYLIGHT
BEGIN:STANDARD
TZOFFSETFROM:+0200
TZOFFSETTO:+0100
TZNAME:CET
DTSTART:20191027T010000
END:STANDARD
END:VTIMEZONE
BEGIN:VEVENT
DTSTART;TZID=Europe/Berlin:20181206T113000
DTEND;TZID=Europe/Berlin:20181206T160000
DTSTAMP:20260422T200802
CREATED:20180401T121813Z
LAST-MODIFIED:20190930T143954Z
UID:10000091-1544095800-1544112000@bvik.org
SUMMARY:Storytelling im B2B - Die Geheimnisse erfolgreicher Geschichten
DESCRIPTION:Einen interessanten und praxisnahen Workshop des bvik-Mitglied Wibo – Technologiekommunikation GmbH erlebten die Teilnehmer im außergewöhnlichen Ambiente des Internationalen Zeitungsmuseums in Aachen. Mit Hilfe der Design Thinking Methode erarbeiteten die Marketer einen individuellen Leitfaden für das Storytelling in einem fiktiven B2B-Unternehmen. \nSie überzeugen mit Fakten? Gut so. Wie wär’s\, wenn Sie ihre Kunden und Interessenten auch mit einer spannenden\, unterhaltsamen Geschichte ihres Unternehmens und ihrer Marken begeistern? Mit einer Story\, die attraktiv für ihre Zielgruppen ist und aus den Blickwinkeln und mit den Schwerpunkten erzählt wird\, die ihre Adressaten interessieren. Es geht darum\, Menschen emotional zu erreichen\, mit Worten\, mit Bildern\, mit Grafiken und Filmen. Storytelling hilft\, Aufmerksamkeit zu erregen und Zusammenhänge sympathisch und anschaulich für Herz und Verstand zu präsentieren. \nNach einer kurzen Einführung durch Ria Bosserhoff (Geschäftsführerin\, Wibo – Technologiekommunikation GmbH) zum Thema Storytelling und Design Thinking wurden die Teilnehmer in drei Gruppen aufgeteilt. \nDer Workshop: Konkrete Umsetzung Design Thinking für Storytelling\nJetzt ging es in die praktische Umsetzung. Anhand der fiktiven ProPulley GmbH machten wir uns auf den Weg\, Themen zu finden und attraktive Geschichten zu erzählen. Gemeinsam \n\nidentifizierten wir geeignete Themen\nentwickelten wir mögliche Stories\nwählten wir Dramaturgie und Perspektiven\nentschieden wir uns für Formate\nfanden wir die richtigen Worte für den Einstieg in die Geschichte\n\nStorytelling als Maßnahme gegen schlechtes Bauchgefühl \nMit Methode und Storytelling-Know-how wurden in integrativer Teamarbeit Inhalte und Geschichten gemeinsam zum Leben erwecken. Dabei war es sehr wichtig neuen Perspektiven einzunehmen und den eigenen Content und die Message zu erforschen. \nZiel des Workshops war es die Adressaten abzuholen\, zu begeistern – die Marke und  das Produkt erlebbar zu machen! \nFazit: Wir erzählen keine Märchen! \nBildergalerie: \nno images were found \n 
URL:https://bvik.org/veranstaltung/storytelling-im-b2b/
LOCATION:Internationales Zeitungsmuseum\, Aachen\, Pontstraße 13\, Aachen\, 52062\, Germany
CATEGORIES:bvik Deep Dive
ATTACH;FMTTYPE=image/jpeg:https://bvik.org/wp-content/uploads/ngg_featured/2018-12-06_WS-wibo_05.jpg
GEO:50.7772506;6.0828015
X-APPLE-STRUCTURED-LOCATION;VALUE=URI;X-ADDRESS=Internationales Zeitungsmuseum Aachen Pontstraße 13 Aachen 52062 Germany;X-APPLE-RADIUS=500;X-TITLE=Pontstraße 13:geo:6.0828015,50.7772506
END:VEVENT
END:VCALENDAR