BEGIN:VCALENDAR
VERSION:2.0
PRODID:-//Bundesverband Industrie Kommunikation e.V. - ECPv6.15.18//NONSGML v1.0//EN
CALSCALE:GREGORIAN
METHOD:PUBLISH
X-ORIGINAL-URL:https://bvik.org
X-WR-CALDESC:Veranstaltungen für Bundesverband Industrie Kommunikation e.V.
REFRESH-INTERVAL;VALUE=DURATION:PT1H
X-Robots-Tag:noindex
X-PUBLISHED-TTL:PT1H
BEGIN:VTIMEZONE
TZID:Europe/Berlin
BEGIN:DAYLIGHT
TZOFFSETFROM:+0100
TZOFFSETTO:+0200
TZNAME:CEST
DTSTART:20250330T010000
END:DAYLIGHT
BEGIN:STANDARD
TZOFFSETFROM:+0200
TZOFFSETTO:+0100
TZNAME:CET
DTSTART:20251026T010000
END:STANDARD
BEGIN:DAYLIGHT
TZOFFSETFROM:+0100
TZOFFSETTO:+0200
TZNAME:CEST
DTSTART:20260329T010000
END:DAYLIGHT
BEGIN:STANDARD
TZOFFSETFROM:+0200
TZOFFSETTO:+0100
TZNAME:CET
DTSTART:20261025T010000
END:STANDARD
BEGIN:DAYLIGHT
TZOFFSETFROM:+0100
TZOFFSETTO:+0200
TZNAME:CEST
DTSTART:20270328T010000
END:DAYLIGHT
BEGIN:STANDARD
TZOFFSETFROM:+0200
TZOFFSETTO:+0100
TZNAME:CET
DTSTART:20271031T010000
END:STANDARD
END:VTIMEZONE
BEGIN:VEVENT
DTSTART;TZID=Europe/Berlin:20260507T110000
DTEND;TZID=Europe/Berlin:20260507T160000
DTSTAMP:20260423T074027
CREATED:20251104T115327Z
LAST-MODIFIED:20260409T091949Z
UID:10000511-1778151600-1778169600@bvik.org
SUMMARY:Neuer Fokus für die Industriekommunikation: Warum die C-Level-Ansprache heute entscheidend ist
DESCRIPTION:B2B-Praxis-Know-how im Interaktiv-Workshop \nDigitale Technologien sind inzwischen zu einem entscheidenden Faktor für unternehmerische Resilienz\, Wettbewerbsfähigkeit\, Produktivität und damit für den Erhalt des Unternehmenswerts geworden. In praktisch allen Industriebranchen finden derzeit tiefgreifende Veränderungsprozesse statt\, die etwa den Wandel ganzer Geschäftsmodelle oder weitere disruptive Auswirkungen zur Folge haben. \nVor diesem Hintergrund ist die Digitalisierung heute zu einer existentiellen unternehmerischen Kernkompetenz avanciert. Insbesondere die Chefetagen sind in der Pflicht\, sich fundiert mit den Themen der digitalen Transformation auseinanderzusetzen\, da jede Entscheidung in Sachen Digitalisierung immer auch eine strategisch hochrelevante Entscheidung für oder gegen die Zukunftsfähigkeit eines Unternehmens ist. \nFür die Kommunikation bedeutet das: Eine rein auf die Fachentscheider bezogene Ansprache reicht LÄNGST nicht mehr aus! Zeitgemäße Unternehmenskommunikation muss in der Lage sein\, Impact und Mehrwerte von Technologien auch für kaufmännische und C-Level-Entscheider überzeugend zu transportieren. Bei den allermeisten Industrieunternehmen spielt sich die Kommunikation allerdings noch nahezu komplett auf der fachlichen Ebene von technischen Applikationen und Lösungen ab. \nMit der bvik-Veranstaltung am Agenturstandort der Riba:BusinessTalk GmbH\, dem schönen Klostergut Besselich in der Nähe von Koblenz\, möchten wir Ihnen daher Instrumente\, Strategien und Inhalte näherbringen\, mit denen sich eine zeitgemäße und an Führungskräfte adressierte Industriekommunikation erfolgreich umsetzen lässt. \nWir freuen uns auf Ihre Anmeldung! \nℹ️ Sie wollen schon vorab mehr zur Location wissen\, dann schauen Sie gerne auf die Homepage des Klostergut Besselich. Vor Ort werden Sie im Rahmen des bvik Deep Dives auch Einblicke in die wunderbaren Räumlichkeiten erhalten.
URL:https://bvik.org/veranstaltung/c-level-ansprache-fuer-industriekommunikation/
LOCATION:Klostergut Besselich\, 56182 Urbar
CATEGORIES:bvik Deep Dive
ATTACH;FMTTYPE=image/jpeg:https://bvik.org/wp-content/uploads/2025/11/Klostergut-Besselich-1192x637-bearbeitet.jpg
GEO:50.3806482;7.6258486
END:VEVENT
END:VCALENDAR