BEGIN:VCALENDAR
VERSION:2.0
PRODID:-//Bundesverband Industrie Kommunikation e.V. - ECPv6.15.18//NONSGML v1.0//EN
CALSCALE:GREGORIAN
METHOD:PUBLISH
X-WR-CALNAME:Bundesverband Industrie Kommunikation e.V.
X-ORIGINAL-URL:https://bvik.org
X-WR-CALDESC:Veranstaltungen für Bundesverband Industrie Kommunikation e.V.
REFRESH-INTERVAL;VALUE=DURATION:PT1H
X-Robots-Tag:noindex
X-PUBLISHED-TTL:PT1H
BEGIN:VTIMEZONE
TZID:Europe/Berlin
BEGIN:DAYLIGHT
TZOFFSETFROM:+0100
TZOFFSETTO:+0200
TZNAME:CEST
DTSTART:20250330T010000
END:DAYLIGHT
BEGIN:STANDARD
TZOFFSETFROM:+0200
TZOFFSETTO:+0100
TZNAME:CET
DTSTART:20251026T010000
END:STANDARD
BEGIN:DAYLIGHT
TZOFFSETFROM:+0100
TZOFFSETTO:+0200
TZNAME:CEST
DTSTART:20260329T010000
END:DAYLIGHT
BEGIN:STANDARD
TZOFFSETFROM:+0200
TZOFFSETTO:+0100
TZNAME:CET
DTSTART:20261025T010000
END:STANDARD
BEGIN:DAYLIGHT
TZOFFSETFROM:+0100
TZOFFSETTO:+0200
TZNAME:CEST
DTSTART:20270328T010000
END:DAYLIGHT
BEGIN:STANDARD
TZOFFSETFROM:+0200
TZOFFSETTO:+0100
TZNAME:CET
DTSTART:20271031T010000
END:STANDARD
END:VTIMEZONE
BEGIN:VEVENT
DTSTART;TZID=Europe/Berlin:20260416T110000
DTEND;TZID=Europe/Berlin:20260416T153000
DTSTAMP:20260423T125100
CREATED:20251127T075927Z
LAST-MODIFIED:20260410T150051Z
UID:10000514-1776337200-1776353400@bvik.org
SUMMARY:Expedition Zukunft: Kommunikation & Marketing als Taktgeber für die Industrie
DESCRIPTION:B2B-Best-Practices im Diskurs der Perspektiven \nMutig die Weichen für die Zukunft stellen und Taktgeber werden: Welche Skills werden im Marketing von morgen über Erfolg und Misserfolg entscheiden? Wie ändern sich die Spielregeln in der Industriekommunikation kurz-\, mittel- und langfristig? Und wie bringt man den Mut auf\, die eigene Organisation und bislang gültige Erfolgsformeln zu hinterfragen und neue Pfade zu beschreiten? \nDigitale Vernetzung\, Automatisierung und Künstliche Intelligenz bestimmen schon jetzt an vielen Stellen den Alltag in den Marketingabteilungen. Gehen Sie jetzt den entscheidenden Schritt nach vorn und werden Sie zum Taktgeber der Transformation in Ihrem Unternehmen! \nBei diesem bvik meets industry bei Gastgeber Körber beleuchten wir diese Fragen gemeinsam mit Expertinnen aus Wissenschaft und Praxis. Freuen Sie sich auf praxisnahe Impulse\, authentische Erfahrungsberichte und spannende Diskussionen darüber. \n 
URL:https://bvik.org/veranstaltung/expedition-zukunft/
LOCATION:Körber AG\, Anckelmannsplatz 1\, 20537 Hamburg
CATEGORIES:bvik meets industry
ATTACH;FMTTYPE=image/jpeg:https://bvik.org/wp-content/uploads/2025/11/A1077-134-scaled.jpg
GEO:53.5488282;9.9871703
END:VEVENT
END:VCALENDAR