BEGIN:VCALENDAR
VERSION:2.0
PRODID:-//Bundesverband Industrie Kommunikation e.V. - ECPv6.15.18//NONSGML v1.0//EN
CALSCALE:GREGORIAN
METHOD:PUBLISH
X-ORIGINAL-URL:https://bvik.org
X-WR-CALDESC:Veranstaltungen für Bundesverband Industrie Kommunikation e.V.
REFRESH-INTERVAL;VALUE=DURATION:PT1H
X-Robots-Tag:noindex
X-PUBLISHED-TTL:PT1H
BEGIN:VTIMEZONE
TZID:Europe/Berlin
BEGIN:DAYLIGHT
TZOFFSETFROM:+0100
TZOFFSETTO:+0200
TZNAME:CEST
DTSTART:20210328T010000
END:DAYLIGHT
BEGIN:STANDARD
TZOFFSETFROM:+0200
TZOFFSETTO:+0100
TZNAME:CET
DTSTART:20211031T010000
END:STANDARD
BEGIN:DAYLIGHT
TZOFFSETFROM:+0100
TZOFFSETTO:+0200
TZNAME:CEST
DTSTART:20220327T010000
END:DAYLIGHT
BEGIN:STANDARD
TZOFFSETFROM:+0200
TZOFFSETTO:+0100
TZNAME:CET
DTSTART:20221030T010000
END:STANDARD
BEGIN:DAYLIGHT
TZOFFSETFROM:+0100
TZOFFSETTO:+0200
TZNAME:CEST
DTSTART:20230326T010000
END:DAYLIGHT
BEGIN:STANDARD
TZOFFSETFROM:+0200
TZOFFSETTO:+0100
TZNAME:CET
DTSTART:20231029T010000
END:STANDARD
BEGIN:DAYLIGHT
TZOFFSETFROM:+0100
TZOFFSETTO:+0200
TZNAME:CEST
DTSTART:20240331T010000
END:DAYLIGHT
BEGIN:STANDARD
TZOFFSETFROM:+0200
TZOFFSETTO:+0100
TZNAME:CET
DTSTART:20241027T010000
END:STANDARD
END:VTIMEZONE
BEGIN:VEVENT
DTSTART;VALUE=DATE:20231009
DTEND;VALUE=DATE:20231011
DTSTAMP:20260421T210054
CREATED:20221006T093622Z
LAST-MODIFIED:20230906T071648Z
UID:10000202-1696888800-1697061599@bvik.org
SUMMARY:Deutscher Marketing Tag 2023
DESCRIPTION:It´s all about CHANGE: Deutscher Marketing Tag 2023 zu Gast in Augsburg \nDas erwartet Sie am 10./11. Oktober in Augsburg beim Deutschen Marketing Tag – dem Branchentreffen der Marketing-Community! \n\nNetworking at it’s best\nKeynotes & Panels\nÜber 80 Top-Speaker:innen sorgen für echte Insights und Inspiration\nEntscheider aus Kommunikation\, Marketing und Vertrieb – über Branchen und Unternehmensgrößen hinweg\nBühne für Marketing-Exzellenz auch am Abend mit der Preisverleihung des Deutschen Marketing Preis 2023\nDieses Jahr zu Gast im schönen Augsburg\nTreffen Sie Marketing Club Mitglieder aus ganz Deutschland!\nDie Marketing Pioniere haben eine eigene Stage mit komplettem Bühnenprogramm im Club der Kongresshalle (K-Klub)\n\nVon A wie „Aufstieg der GenZ“ über K wie „KI im Marketing-Alltag: Wie der Tech-Hype für konkrete Ergebnisse genutzt werden kann“ bis Z wie „Zukunftsfähige Business Modelle für Agenturen bei veränderten Kundenanforderungen“\nhaben wir ein umfangreiches und spannendes Programm zusammengestellt. \nAlles unter dem Motto: \nIt´s all about CHANGE \n 
URL:https://bvik.org/veranstaltung/deutscher-marketing-tag-2023/
LOCATION:Kongress am Park\, Gögginger Straße 10\, Augsburg\, 86159
CATEGORIES:Partnerveranstaltung
ATTACH;FMTTYPE=image/jpeg:https://bvik.org/wp-content/uploads/2022/10/P1108136_1192x736.jpg
GEO:48.3600608;10.8876141
X-APPLE-STRUCTURED-LOCATION;VALUE=URI;X-ADDRESS=Kongress am Park Gögginger Straße 10 Augsburg 86159;X-APPLE-RADIUS=500;X-TITLE=Gögginger Straße 10:geo:10.8876141,48.3600608
END:VEVENT
BEGIN:VEVENT
DTSTART;TZID=Europe/Berlin:20220511T060000
DTEND;TZID=Europe/Berlin:20220511T150000
DTSTAMP:20260421T210054
CREATED:20220419T125550Z
LAST-MODIFIED:20220503T082028Z
UID:10000195-1652248800-1652281200@bvik.org
SUMMARY:Rocketeer Festival 2022
DESCRIPTION:Endlich ist es soweit: 2022 wird das Rocketeer Festival in Augsburg erneut stattfinden. Von Investorin bis Gründer\, von Tech-Nerd bis Digitalisierungs-Profi: Das Rocketeer Festival 2022 versammelt erneut die spannendsten Köpfe aus Augsburg\, Bayern und Deutschland. \nMit dabei sind u.a. folgende spannende Speaker:innen: Sascha Pallenberg\, Tijen Onaran\, Magdalena Rogl\, Jochen Schweizer uvm. \n  \nDas Festival für die Zukunft\nDas Rocketeer Festival ist eine Konferenz für Zukunftsthemen\, Transformation und Innovation. Es vernetzt lokale Pioniere und Vordenkerinnen. Bereits auf dem ersten Festival trafen erfahrene Persönlichkeiten aus Unternehmen\, Young Professionals\, Macher und Macherinnen und Leute mit verrückten Ideen aufeinander – um sich auszutauschen und gegenseitig zu inspirieren. 2022 werden wieder Themen rund um digitale Innovation\, Gründungsspirit und zukunftsweisende Ideen auf der Tagesordnung stehen. Auch die Themen Nachhaltigkeit und Social Responsibility werden eine Bühne bekommen. \n  \nMut zur Innovation\nRocketeer hat das Ziel die digitale Zukunft nachhaltig zu gestalten\, Zielgruppen zu vernetzen und Innovationstreiber zu fördern. Dafür wurde die Plattform mehrfach ausgezeichnet\, unter anderem mit dem Augsburger Medienpreis\, dem bayerischen Printpreis und dem Nova Innovation Award. Auch 2022 vereint das Rocketeer Festival wieder all die Rocketeers aus Politik\, Wirtschaft und Gesellschaft in unserer Region zu einer Community\, die mit ihrer Innovationskraft die Zukunft aktiv gestaltet. \n  \nTickets und weitere Informationen finden Sie unter www.rocketeer-festival.de
URL:https://bvik.org/veranstaltung/rocketeer-festival-2022/
LOCATION:Kongress am Park\, Gögginger Straße 10\, Augsburg\, 86159
CATEGORIES:Partnerveranstaltung
ATTACH;FMTTYPE=image/jpeg:https://bvik.org/wp-content/uploads/2022/04/Rocketeer-Insta-Tickets-sichern_2022-Jochen-Schweizer_1080x1080px-2.jpg
GEO:48.3600608;10.8876141
X-APPLE-STRUCTURED-LOCATION;VALUE=URI;X-ADDRESS=Kongress am Park Gögginger Straße 10 Augsburg 86159;X-APPLE-RADIUS=500;X-TITLE=Gögginger Straße 10:geo:10.8876141,48.3600608
END:VEVENT
END:VCALENDAR