BEGIN:VCALENDAR
VERSION:2.0
PRODID:-//Bundesverband Industrie Kommunikation e.V. - ECPv6.15.18//NONSGML v1.0//EN
CALSCALE:GREGORIAN
METHOD:PUBLISH
X-WR-CALNAME:Bundesverband Industrie Kommunikation e.V.
X-ORIGINAL-URL:https://bvik.org
X-WR-CALDESC:Veranstaltungen für Bundesverband Industrie Kommunikation e.V.
REFRESH-INTERVAL;VALUE=DURATION:PT1H
X-Robots-Tag:noindex
X-PUBLISHED-TTL:PT1H
BEGIN:VTIMEZONE
TZID:Europe/Berlin
BEGIN:DAYLIGHT
TZOFFSETFROM:+0100
TZOFFSETTO:+0200
TZNAME:CEST
DTSTART:20170326T010000
END:DAYLIGHT
BEGIN:STANDARD
TZOFFSETFROM:+0200
TZOFFSETTO:+0100
TZNAME:CET
DTSTART:20171029T010000
END:STANDARD
BEGIN:DAYLIGHT
TZOFFSETFROM:+0100
TZOFFSETTO:+0200
TZNAME:CEST
DTSTART:20180325T010000
END:DAYLIGHT
BEGIN:STANDARD
TZOFFSETFROM:+0200
TZOFFSETTO:+0100
TZNAME:CET
DTSTART:20181028T010000
END:STANDARD
BEGIN:DAYLIGHT
TZOFFSETFROM:+0100
TZOFFSETTO:+0200
TZNAME:CEST
DTSTART:20190331T010000
END:DAYLIGHT
BEGIN:STANDARD
TZOFFSETFROM:+0200
TZOFFSETTO:+0100
TZNAME:CET
DTSTART:20191027T010000
END:STANDARD
BEGIN:DAYLIGHT
TZOFFSETFROM:+0100
TZOFFSETTO:+0200
TZNAME:CEST
DTSTART:20200329T010000
END:DAYLIGHT
BEGIN:STANDARD
TZOFFSETFROM:+0200
TZOFFSETTO:+0100
TZNAME:CET
DTSTART:20201025T010000
END:STANDARD
BEGIN:DAYLIGHT
TZOFFSETFROM:+0100
TZOFFSETTO:+0200
TZNAME:CEST
DTSTART:20210328T010000
END:DAYLIGHT
BEGIN:STANDARD
TZOFFSETFROM:+0200
TZOFFSETTO:+0100
TZNAME:CET
DTSTART:20211031T010000
END:STANDARD
BEGIN:DAYLIGHT
TZOFFSETFROM:+0100
TZOFFSETTO:+0200
TZNAME:CEST
DTSTART:20220327T010000
END:DAYLIGHT
BEGIN:STANDARD
TZOFFSETFROM:+0200
TZOFFSETTO:+0100
TZNAME:CET
DTSTART:20221030T010000
END:STANDARD
END:VTIMEZONE
BEGIN:VEVENT
DTSTART;TZID=Europe/Berlin:20211020T110000
DTEND;TZID=Europe/Berlin:20211020T153000
DTSTAMP:20260426T051946
CREATED:20200313T133523Z
LAST-MODIFIED:20211006T131456Z
UID:10000132-1634727600-1634743800@bvik.org
SUMMARY:B2B-Content-Marketing:  Wie Sie die Customer Journey Ihrer Kunden steuern!
DESCRIPTION:bvik-Workshop live vor Ort \nContent-Marketing gewinnt immer mehr an Bedeutung. Als großer deutscher Fachverlag hat die Konradin Mediengruppe über die Jahre wertvolle und reichhaltige Expertise aufgebaut. Konradin bietet den Kunden verschiedene Lösungsansätze an\, um mit ihren Fachinformationen die richtigen Zielgruppen zu erreichen – in Print und zunehmend über Online-Kanäle. \nTauchen Sie mit uns ein in die fast unendlichen Weiten des Universums des B2B-Content-Marketings und erfahren Sie von den Experten unseres Medienpartners Konradin\, wie Sie aktiv die Customer Journey Ihrer Kunden steuern können. Peter Dilger\, Geschäftsführer der Konradin Mediengruppe blickt mit Ihnen in das B2B-Content-Marketing in der Fachpresse\, bevor Sie angeregt durch die Impulse in eine mehrstufige Gruppenarbeit einsteigen. Durchlaufen Sie mit uns vier Stationen und erhalten Sie von den Experten Tipps und Tricks aus der Praxis für die Praxis: \nStation 1:           Analyse eingereichter Artikel nach SEO-Gesichtspunkten (Alexander Gölz) \nStation 2:           Mit Grundlagenartikeln das Fundament setzen (Thomas Wagner) \nStation 3:           Mit Newslettern die Zielgruppe besser erreichen (Kyra Kutter) \nStation 4:           Mit Webinaren und Whitepaper neue Leads erzeugen (Joachim Linckh) \nGefolgt von einer Feedback-Runde und der Aufbereitung der Learnings schließt Wolfram Huonker von der Landesmesse Stuttgart mit seinem Praxis-Impuls „Content Marketing und Lead Generierung im Umfeld von B2B-Messen – Wie Sie mit Content Marketing Messen vorbereiten\, durchführen und nachbereiten“ den Workshop ab. Natürlich haben Sie auch vor\, während und nach der Veranstaltung immer die Möglichkeit zum interaktiven Austausch.  \nWir freuen uns über Ihre Anmeldungen! \nBild: Free-Photos/pixabay.com
URL:https://bvik.org/veranstaltung/b2b_content_marketing/
LOCATION:Konradin Mediengruppe\, Leinfelden-Echterdingen\, Ernst-Mey-Straße 8\, Leinfelden-Echterdingen\, 70771\, Germany
CATEGORIES:bvik Deep Dive
ATTACH;FMTTYPE=image/jpeg:https://bvik.org/wp-content/uploads/2020/03/Veranstaltungsfoto_Martin_Dilger.jpg
GEO:48.69617;9.14552
X-APPLE-STRUCTURED-LOCATION;VALUE=URI;X-ADDRESS=Konradin Mediengruppe Leinfelden-Echterdingen Ernst-Mey-Straße 8 Leinfelden-Echterdingen 70771 Germany;X-APPLE-RADIUS=500;X-TITLE=Ernst-Mey-Straße 8:geo:9.14552,48.69617
END:VEVENT
BEGIN:VEVENT
DTSTART;TZID=Europe/Berlin:20180228T073000
DTEND;TZID=Europe/Berlin:20180228T120000
DTSTAMP:20260426T051946
CREATED:20171027T220000Z
LAST-MODIFIED:20180301T173937Z
UID:10000015-1519803000-1519819200@bvik.org
SUMMARY:Insights der Konradin Mediengruppe: Von den Trends der Printmedien-Produktion bis zur Fachpressearbeit
DESCRIPTION:Pressearbeit ist nur etwas für große Konzerne? Ein Irrtum – wie die Teilnehmer des Workshops bei bvik-Medienpartner Konradin Mediengruppe erfuhren. Pressearbeit ist für kleine und mittlere Unternehmen enorm wichtig\, um den Kontakt zum Kunden herzustellen und das eigene Image zu pflegen. Außerdem sprechen nur selten Leistungen und Produkte für sich allein. Deshalb soll die PR auch nachhaltig und wirksam sein. Fachpressearbeit soll Medien dazu bewegen\, möglichst positiv\, regelmäßig und umfassend über eine Firma zu berichten. Um dieses Ziel zu erreichen\, muss ein Unternehmen einige Regeln einhalten. Schon die allererste Hürde will überwunden werden – Die Redaktionen. Diese sind in erster Linie ihren Lesern verpflichtet und nicht den PR-Agenturen und Unternehmen. Zu beachten ist zudem\, auch Redakteure sind eine Zielgruppe\, die richtig angesprochen werden will. \nExklusive Inhalte statt „mee too“ \nWerner Götz\, Chefredakteur verschiedener Fachmagazine der Konradin Mediengruppe (u.a. Industrieanzeiger\, Beschaffung aktuell)\, erläuterte den Teilnehmern in seinem Vortrag „Effektive Pressearbeit: Wie gelangen Unternehmens-Meldungen in die Print- und Online-Medien der Fachpresse?“ anschaulich\, worauf es bei professioneller Fachpressearbeit ankommt und wie es Unternehmen gelingt in den für sie wichtigen Medien präsent zu sein. „In erster Linie ist es wichtig\, dass Fachmagazine exklusive Inhalte vom Unternehmen bekommen. Standardmeldungen\, die überall zu finden sind\, weil sie in einheitlicher Form breit gestreut werden\, haben keine Chancen beachtet zu werden. Es geht um Exklusivität – „me too“ funktioniert nicht“\, machte Götz unmissverständlich deutlich. Es sei deshalb entscheidend\, Nachrichten mit einem Neuigkeitswert gezielt an Medien mit den entsprechenden Zielgruppen zu versenden\, für die genau diese News wichtig ist. „Der Leser ist ein Kunde der Redaktion\, dem wir genau die Inhalte bieten möchten und müssen\, die für ihn relevant sind“\, sagt der Chefredakteur. \nBilder und Keywords als Erfolgsfaktoren \nDarüber hinaus riet Götz den Teilnehmern\, vor dem Verfassen eines Artikels unbedingt das Gespräch mit dem Fachredakteur des Mediums zu führen\, in dem man seinen Beitrag platzieren möchte: „In einem Gespräch kann man sich detailliert bezüglich des Inhalts\, der Länge und der Tiefe von Beiträgen abstimmen. So kann man bestimmte Aspekte beleuchten\, die für die Zielgruppe besonders wichtig sind wodurch die Wahrscheinlichkeit einer Veröffentlichung steigt.“ Außerdem sei es entscheidend für welchen Kanal ein Artikel verfasst wird\, ob Online oder Print. Da gerade B2B-Inhalte im Internet von Suchmaschinen oft schwer gefunden werden\, sei es entscheidend\, vor dem Schreiben des Artikel eine Keyword-Recherche durchzuführen\, um den Beitrag mit eben diesen Wörtern anzureichern und dadurch auffindbarer zu machen. Anschließend wies Götz noch auf die Bedeutung von Bildern hin: „Bilder sagen mehr als tausend Worte\, deshalb ist es unerlässlich\, Artikel mit aussagekräftigen Bildern anzureichern. “ \nNach diesen umfassenden und interessanten Einblicken in die Fachpressearbeit konnten sich die Teilnehmer mit verschiedenen Redakteuren der Konradin Mediengruppe austauschen und spezielle Fragen in kleinen Gruppen diskutieren. Anschließend stand ein Rundgang durch die Druckerei von Konradin auf dem Programm. Der Blick hinter die Kulissen in die verschiedenen Bereiche der Druckerei begeisterte die rund 30 Anwesenden. Dabei erlebten sie die einzelnen Schritte bei der Herstellung eines Katalogs und erhielten Einblicke in den Bogen- sowie Rollen-Offset-Druck. \nRenaissance von gedruckten Produktkatalogen \nAnschließend tauchten die Teilnehmer noch tiefer in die Thematik der Printproduktion ein. Gerd Lutzeier\, Geschäftsführer Konradin Druck GmbH und Heckel GmbH\, gab in seinem Vortrag „Trends der Printmedien-Produktion am Beispiel der Katalog-Herstellung“ einen spannenden Einblick in die Herstellung von Produkt-Katalogen. „Der klassische Produkt-Katalog ist keinesfalls tot\, er erlebt momentan sogar eine kleine Renaissance“\, erklärte Lutzeier. So gibt es nach wie vor viele B2B-Unternehmen\, die auf gedruckte Kataloge setzen\, um den Kunden etwas an die Hand zu geben. Er wies jedoch auch auf Probleme und Kostenfallen hin: „Die Herstellung unterschiedlicher Sparchversionen kann oft zur Kostenfalle werden. Aber auch die mangelnde Kompetenzabklärung im Vorfeld eines Auftrags kann zu unvorhergesehenen Kosten führen. Deshalb ist ein strategisches Vorgehen sowie die Festlegung von Kompetenzbereiche wichtig.“ Den sehr interessanten Vormittag ließen die Teilnehmer bei einem Get-together und Gesprächen ausklingen. \nno images were found
URL:https://bvik.org/veranstaltung/printmedienproduktion/
LOCATION:Konradin Mediengruppe\, Leinfelden-Echterdingen\, Ernst-Mey-Straße 8\, Leinfelden-Echterdingen\, 70771\, Germany
CATEGORIES:bvik Deep Dive
ATTACH;FMTTYPE=image/jpeg:https://bvik.org/wp-content/uploads/ngg_featured/2018-02-28_WS-Konradin_18.jpeg
GEO:48.69617;9.14552
X-APPLE-STRUCTURED-LOCATION;VALUE=URI;X-ADDRESS=Konradin Mediengruppe Leinfelden-Echterdingen Ernst-Mey-Straße 8 Leinfelden-Echterdingen 70771 Germany;X-APPLE-RADIUS=500;X-TITLE=Ernst-Mey-Straße 8:geo:9.14552,48.69617
END:VEVENT
END:VCALENDAR