BEGIN:VCALENDAR
VERSION:2.0
PRODID:-//Bundesverband Industrie Kommunikation e.V. - ECPv6.15.18//NONSGML v1.0//EN
CALSCALE:GREGORIAN
METHOD:PUBLISH
X-ORIGINAL-URL:https://bvik.org
X-WR-CALDESC:Veranstaltungen für Bundesverband Industrie Kommunikation e.V.
REFRESH-INTERVAL;VALUE=DURATION:PT1H
X-Robots-Tag:noindex
X-PUBLISHED-TTL:PT1H
BEGIN:VTIMEZONE
TZID:Europe/Berlin
BEGIN:DAYLIGHT
TZOFFSETFROM:+0100
TZOFFSETTO:+0200
TZNAME:CEST
DTSTART:20250330T010000
END:DAYLIGHT
BEGIN:STANDARD
TZOFFSETFROM:+0200
TZOFFSETTO:+0100
TZNAME:CET
DTSTART:20251026T010000
END:STANDARD
BEGIN:DAYLIGHT
TZOFFSETFROM:+0100
TZOFFSETTO:+0200
TZNAME:CEST
DTSTART:20260329T010000
END:DAYLIGHT
BEGIN:STANDARD
TZOFFSETFROM:+0200
TZOFFSETTO:+0100
TZNAME:CET
DTSTART:20261025T010000
END:STANDARD
BEGIN:DAYLIGHT
TZOFFSETFROM:+0100
TZOFFSETTO:+0200
TZNAME:CEST
DTSTART:20270328T010000
END:DAYLIGHT
BEGIN:STANDARD
TZOFFSETFROM:+0200
TZOFFSETTO:+0100
TZNAME:CET
DTSTART:20271031T010000
END:STANDARD
END:VTIMEZONE
BEGIN:VEVENT
DTSTART;TZID=Europe/Berlin:20261013T120000
DTEND;TZID=Europe/Berlin:20261013T143000
DTSTAMP:20260423T213456
CREATED:20251229T124135Z
LAST-MODIFIED:20251229T125404Z
UID:10000521-1791892800-1791901800@bvik.org
SUMMARY:bvik-Messerundgang über Fakuma 2026
DESCRIPTION:Messekommunikation aus dem Marketing-Blickwinkel \nInternationale Fachmesse für Kunststoffverarbeitung \nDie Fachmesse ist ein weltweit herausragender Branchentreffpunkt der Kunststoffverarbeiter und gilt als wegweisend in den Bereichen Spritzgießtechnologie\, Extrusion und Thermo-Forming. Ihre Spitzenstellung für den europäischen Markt macht sie zu DEM Branchenevent für alle Unternehmen\, die Kunststoff verarbeiten und vertreiben. Das Themenportfolio der Fakuma unterstützt die kunststoffverarbeitende Industrie maßgeblich dabei\, die komplexen Herausforderungen der Gegenwart und Zukunft zu bewältigen und am Markt wirtschaftlich erfolgreich zu bleiben. \nWerfen Sie mit uns einen Blick hinter die Kulissen ausgewählter Unternehmen aus Marketing- und Kommunikations-Perspektive. Vor Ort erhalten Sie Insider-Informationen u.a. rund um die Themen Messekommunikation und -marketing\, Standkonzeption und Leadgenerierung.  \nBitte denken Sie daran\, dass Sie für die Teilnahme am Messerundgang ein Messeticket benötigen. Wir werden uns natürlich darum bemühen\, Ihnen freie Zugänge zur Verfügung zu stellen. \nWir freuen uns über ihre Anmeldungen! \n Alle weiteren Informationen zur Fakuma finden Sie HIER.
URL:https://bvik.org/veranstaltung/bvik-messerundgang-fakuma-2026/
LOCATION:Messe Friedrichshafen\, Neue Messe 1\, 88046 Friedrichshafen
CATEGORIES:bvik Messerundgang
ATTACH;FMTTYPE=image/jpeg:https://bvik.org/wp-content/uploads/2025/12/csm_fakuma_2018_einlass_02_teaser20x7.jpg
END:VEVENT
END:VCALENDAR