BEGIN:VCALENDAR
VERSION:2.0
PRODID:-//Bundesverband Industrie Kommunikation e.V. - ECPv6.15.18//NONSGML v1.0//EN
CALSCALE:GREGORIAN
METHOD:PUBLISH
X-WR-CALNAME:Bundesverband Industrie Kommunikation e.V.
X-ORIGINAL-URL:https://bvik.org
X-WR-CALDESC:Veranstaltungen für Bundesverband Industrie Kommunikation e.V.
REFRESH-INTERVAL;VALUE=DURATION:PT1H
X-Robots-Tag:noindex
X-PUBLISHED-TTL:PT1H
BEGIN:VTIMEZONE
TZID:Europe/Berlin
BEGIN:DAYLIGHT
TZOFFSETFROM:+0100
TZOFFSETTO:+0200
TZNAME:CEST
DTSTART:20240331T010000
END:DAYLIGHT
BEGIN:STANDARD
TZOFFSETFROM:+0200
TZOFFSETTO:+0100
TZNAME:CET
DTSTART:20241027T010000
END:STANDARD
BEGIN:DAYLIGHT
TZOFFSETFROM:+0100
TZOFFSETTO:+0200
TZNAME:CEST
DTSTART:20250330T010000
END:DAYLIGHT
BEGIN:STANDARD
TZOFFSETFROM:+0200
TZOFFSETTO:+0100
TZNAME:CET
DTSTART:20251026T010000
END:STANDARD
BEGIN:DAYLIGHT
TZOFFSETFROM:+0100
TZOFFSETTO:+0200
TZNAME:CEST
DTSTART:20260329T010000
END:DAYLIGHT
BEGIN:STANDARD
TZOFFSETFROM:+0200
TZOFFSETTO:+0100
TZNAME:CET
DTSTART:20261025T010000
END:STANDARD
END:VTIMEZONE
BEGIN:VEVENT
DTSTART;VALUE=DATE:20251103
DTEND;VALUE=DATE:20251106
DTSTAMP:20260423T022931
CREATED:20250724T110856Z
LAST-MODIFIED:20251021T114349Z
UID:10000473-1762210800-1762469999@bvik.org
SUMMARY:FMB - Fachmesse für Maschinenbau
DESCRIPTION:konstruktiv. persönlich. kompakt. \nDie FMB – Fachmesse für Maschinenbau – vereint seit 20 Jahren die Zulieferindustrie für den Maschinen- und Anlagenbau\, industrielle Dienstleistungen und den Sondermaschinenbau in Ostwestfalen-Lippe. Als kompakte Fachmesse fördert sie den direkten Austausch und die schnelle Umsetzung konkreter Anforderungen. Im Zentrum stehen persönliche Gespräche in intensiver Arbeitsatmosphäre. Dank regionaler Ausrichtung und hoher Kontaktdichte bietet sie ideale Bedingungen für effiziente Geschäftsbeziehungen. \nbvik zu Besuch auf der FMB \nAm 4. November statten wir der FMB einen Besuch ab und bieten unserer Community einen „bvik Messerundgang light“ an. Anschließend dürfen wir auf der Innovation Stage einige Impulse zum Thema Messekommunikation beisteuern. Weitere Details in Kürze \nWeitere Informationen zur FMB finden Sie HIER
URL:https://bvik.org/veranstaltung/fmb-fachmesse-fuer-maschinenbau/
LOCATION:Messezentrum Bad Salzuflen
CATEGORIES:Partnerveranstaltung
ATTACH;FMTTYPE=image/png:https://bvik.org/wp-content/uploads/2025/07/FMB2025_Key-visual.png
END:VEVENT
END:VCALENDAR