BEGIN:VCALENDAR
VERSION:2.0
PRODID:-//Bundesverband Industrie Kommunikation e.V. - ECPv6.15.18//NONSGML v1.0//EN
CALSCALE:GREGORIAN
METHOD:PUBLISH
X-ORIGINAL-URL:https://bvik.org
X-WR-CALDESC:Veranstaltungen für Bundesverband Industrie Kommunikation e.V.
REFRESH-INTERVAL;VALUE=DURATION:PT1H
X-Robots-Tag:noindex
X-PUBLISHED-TTL:PT1H
BEGIN:VTIMEZONE
TZID:Europe/Berlin
BEGIN:DAYLIGHT
TZOFFSETFROM:+0100
TZOFFSETTO:+0200
TZNAME:CEST
DTSTART:20230326T010000
END:DAYLIGHT
BEGIN:STANDARD
TZOFFSETFROM:+0200
TZOFFSETTO:+0100
TZNAME:CET
DTSTART:20231029T010000
END:STANDARD
BEGIN:DAYLIGHT
TZOFFSETFROM:+0100
TZOFFSETTO:+0200
TZNAME:CEST
DTSTART:20240331T010000
END:DAYLIGHT
BEGIN:STANDARD
TZOFFSETFROM:+0200
TZOFFSETTO:+0100
TZNAME:CET
DTSTART:20241027T010000
END:STANDARD
BEGIN:DAYLIGHT
TZOFFSETFROM:+0100
TZOFFSETTO:+0200
TZNAME:CEST
DTSTART:20250330T010000
END:DAYLIGHT
BEGIN:STANDARD
TZOFFSETFROM:+0200
TZOFFSETTO:+0100
TZNAME:CET
DTSTART:20251026T010000
END:STANDARD
END:VTIMEZONE
BEGIN:VEVENT
DTSTART;TZID=Europe/Berlin:20240926T110000
DTEND;TZID=Europe/Berlin:20240926T160000
DTSTAMP:20260421T072709
CREATED:20240527T101237Z
LAST-MODIFIED:20240920T065607Z
UID:10000330-1727348400-1727366400@bvik.org
SUMMARY:Effizienz statt Kopfzerbrechen: Der Weg zum Erfolg mit Marketing Automation
DESCRIPTION:B2B-Praxis-Know-how im Interaktiv-Workshop \nMarketing Automation löst bei vielen Marketeers gegensätzliche Gefühle aus. Da ist zunächst das Kopfzerbrechen. Aufwändige Konzeption\, komplizierte Software\, technische Hürden klingen herausfordernd. Was\, wenn die investierte Arbeit dann keine angemessenen Erträge einbringt? Oder die Empfänger später mit unpersönlichen Nachrichten im Dauerfeuer drangsaliert werden? \nSie ahnen schon: Marketing Automation ist nicht einfach.  \nWäre es einfach\, würden es alle machen. Die genannten Gründe führen oft dazu\, dass automatisierte Prozesse gar nicht erst an den Start gehen. \nDabei bietet Marketing Automation so viele Chancen und Möglichkeiten! \nUnternehmen\, die Marketing Automation erfolgreich einführen\, gewinnen Zeit\, steigern Ihre Effizienz. Wie schön klingt der Gedanke\, sich mehr auf strategische Planungen und kreative Prozesse konzentrieren zu können\, statt auf monotone Wiederholarbeiten? Das geht\, wenn Ihre Marketingmaschine im Hintergrund zuverlässig und zielführend arbeitet. \nDoch wie kommen Sie dorthin? Wie überwinden Sie die Ängste und Einwände? Wie vermeiden Sie das Kopfzerbrechen bei der Konzeption\, Prozessplanung\, Umsetzung? \nDas erfahren Sie am 26. September 2024 bei unserem bvik Deep Dive zum Thema Marketing Automation bei und mit unserem Fördermitglied Evalanche (SC-Networks). In unserem interaktiven Workshopformat gewinnen Sie nicht nur Antworten\, sondern sehen\, erleben\, erarbeiten konkrete Lösungen. \nWie das geht? \nDas Team von Evalanche blickt auf Jahrzehnte der Erfahrung in der Marketing Automation zurück. Genau diesen Erfahrungsschatz haben sie nun für Sie gehoben. Es wurde dokumentiert\, analysiert und standardisiert. Entstanden sind daraus unzählige Best Practices = “PowerSets”. Und diese Schatztruhe öffnen wir bei diesem Workshop. \nErgreifen Sie die Chance\, um am 26. September 2024 in einem exklusiven Rahmen Ihre Fähigkeiten im Bereich Marketing Automation und zugleich Ihr Netzwerk zu erweitern. \nWir freuen uns auf Ihre Registrierung.
URL:https://bvik.org/veranstaltung/zum-erfolg-mit-marketing-automation/
LOCATION:SC-Networks\, Starnberg\, Würmstraße 4\, Starnberg\, 82319\, Germany
CATEGORIES:bvik Deep Dive
ATTACH;FMTTYPE=image/jpeg:https://bvik.org/wp-content/uploads/2024/05/SC_Networks-Gebaeude_Wuermstrasse-scaled.jpg
GEO:47.9998657;11.3588199
X-APPLE-STRUCTURED-LOCATION;VALUE=URI;X-ADDRESS=SC-Networks Starnberg Würmstraße 4 Starnberg 82319 Germany;X-APPLE-RADIUS=500;X-TITLE=Würmstraße 4:geo:11.3588199,47.9998657
END:VEVENT
END:VCALENDAR