BEGIN:VCALENDAR
VERSION:2.0
PRODID:-//Bundesverband Industrie Kommunikation e.V. - ECPv6.15.18//NONSGML v1.0//EN
CALSCALE:GREGORIAN
METHOD:PUBLISH
X-ORIGINAL-URL:https://bvik.org
X-WR-CALDESC:Veranstaltungen für Bundesverband Industrie Kommunikation e.V.
REFRESH-INTERVAL;VALUE=DURATION:PT1H
X-Robots-Tag:noindex
X-PUBLISHED-TTL:PT1H
BEGIN:VTIMEZONE
TZID:Europe/Berlin
BEGIN:DAYLIGHT
TZOFFSETFROM:+0100
TZOFFSETTO:+0200
TZNAME:CEST
DTSTART:20170326T010000
END:DAYLIGHT
BEGIN:STANDARD
TZOFFSETFROM:+0200
TZOFFSETTO:+0100
TZNAME:CET
DTSTART:20171029T010000
END:STANDARD
BEGIN:DAYLIGHT
TZOFFSETFROM:+0100
TZOFFSETTO:+0200
TZNAME:CEST
DTSTART:20180325T010000
END:DAYLIGHT
BEGIN:STANDARD
TZOFFSETFROM:+0200
TZOFFSETTO:+0100
TZNAME:CET
DTSTART:20181028T010000
END:STANDARD
BEGIN:DAYLIGHT
TZOFFSETFROM:+0100
TZOFFSETTO:+0200
TZNAME:CEST
DTSTART:20190331T010000
END:DAYLIGHT
BEGIN:STANDARD
TZOFFSETFROM:+0200
TZOFFSETTO:+0100
TZNAME:CET
DTSTART:20191027T010000
END:STANDARD
END:VTIMEZONE
BEGIN:VEVENT
DTSTART;TZID=Europe/Berlin:20180517T114500
DTEND;TZID=Europe/Berlin:20180517T150000
DTSTAMP:20260425T020400
CREATED:20171214T112639Z
LAST-MODIFIED:20180608T064701Z
UID:10000085-1526557500-1526569200@bvik.org
SUMMARY:Forming The Future - Industrie 4.0 sichtbar machen
DESCRIPTION:Im Zuge der Digitalisierung stehen B2B-Marketer vor der Fragestellung\, mit welchen Maßnahmen und über welche Kanäle sie das Thema Industrie 4.0 darstellen können. Wie kann eine einheitliche Customer Experience und Markenwahrnehmung auch an neuen Touchpoints\, wie der virtuellen Inbetriebnahme einer Maschine\, gewährleistet werden? Wie gelingt dabei der interne Change-Prozess und welche Tools helfen in der Umsetzung? \nForming The Future \nImpulse zu diesen Themen sowie Antworten aus der Praxis im Bereich Maschinenbau erfuhren die Teilnehmer im Rahmen der bvik-Veranstaltung im neuen Schuler Innovation Tower. \nFolgende Vorträge fanden statt: \nImpulsvortrag: Change-Prozess im Kontext Industrie 4.0: Digitalisierungspotenzial mit strategischen Orientierungsmitteln entfalten\nReferent: Michael Lechner\, Innovationsberater\, Partner des WOIS INNOVATION INSTITUTS \nDie rapide Entwicklung der Kommunikations- und Informationstechnologie verändert unseren Alltag. Bei Produktionsgütern sind Big Data\, Analytics\, Predictive Maintenance\, Machine Learning und Künstliche Intelligenz die Treiber der Industrie 4.0 – Ökonomie und Technologie treiben diese Automatisierung weiter voran. Bereiten Sie Ihr Unternehmen gezielt mit strategischen Orientierungsmitteln auf diese Anforderungen vor. Die neuen Gewinner bespielen diese Entwicklung pro-aktiv! \nIndustrie 4.0 sichtbar machen: Praxis-Case Messe Euroblech: Schuler Smart Press Shop\nReferenten: Martina Rothenberger\, Head of Integrated Communications & Heino von Dreele\,  Head of Marketing & Communications (beide Schuler Pressen GmbH)\, Andreas Kienle\, Schmidhuber Brand Experience; Marcel Heller\, Heller Designstudio\n \nAuf der Fachmesse EuroBLECH 2016 in Hannover zeigte Schuler mit dem Konzept „Smart Press Shop“\, wie sich durch Lösungen zur Vernetzung in der Umformtechnik nicht nur die Prozesssicherheit\, sondern auch die Wirtschaftlichkeit der Produktion erhöhen lässt. Anhand des Praxis-Cases erfuhren die Teilnehmer\, wie es Schuler gelungen ist\, das Thema Industrie 4.0 und dessen Weiterentwicklung bei Schuler auf einem Messestand zu visualisieren. Die Referenten gingen auch darauf ein\, wie man die Vertriebsmannschaft bei diesen neuen digitalen Themen erfolgreich mitnehmen kann. Auch ein Ausblick auf die Weiterentwicklung des Smart Press Shop und die Präsentation für die EuroBLECH 2018 wurde im Vortrag gegeben. \nVirtuelle Presswerksplanung – Chancen und Nutzen der Digitalisierung\nReferenten: Stephan Paul\, Head of Customer Service Center & Product Management Service & Martin Timm\, Process Manager Schuler Service (beide Schuler Pressen GmbH) \nBildergalerie:\nno images were found \n 
URL:https://bvik.org/veranstaltung/forming-the-future/
LOCATION:Schuler Innovation Tower\, Göppingen\, Bahnhofstrasse 41\, Göppingen\, 73033
CATEGORIES:bvik meets industry
ATTACH;FMTTYPE=image/jpeg:https://bvik.org/wp-content/uploads/ngg_featured/2018-05-17_MfM-Schuler_07.jpg
GEO:48.703334;9.6471723
X-APPLE-STRUCTURED-LOCATION;VALUE=URI;X-ADDRESS=Schuler Innovation Tower Göppingen Bahnhofstrasse 41 Göppingen 73033;X-APPLE-RADIUS=500;X-TITLE=Bahnhofstrasse 41:geo:9.6471723,48.703334
END:VEVENT
END:VCALENDAR