BEGIN:VCALENDAR
VERSION:2.0
PRODID:-//Bundesverband Industrie Kommunikation e.V. - ECPv6.15.18//NONSGML v1.0//EN
CALSCALE:GREGORIAN
METHOD:PUBLISH
X-WR-CALNAME:Bundesverband Industrie Kommunikation e.V.
X-ORIGINAL-URL:https://bvik.org
X-WR-CALDESC:Veranstaltungen für Bundesverband Industrie Kommunikation e.V.
REFRESH-INTERVAL;VALUE=DURATION:PT1H
X-Robots-Tag:noindex
X-PUBLISHED-TTL:PT1H
BEGIN:VTIMEZONE
TZID:Europe/Berlin
BEGIN:DAYLIGHT
TZOFFSETFROM:+0100
TZOFFSETTO:+0200
TZNAME:CEST
DTSTART:20180325T010000
END:DAYLIGHT
BEGIN:STANDARD
TZOFFSETFROM:+0200
TZOFFSETTO:+0100
TZNAME:CET
DTSTART:20181028T010000
END:STANDARD
BEGIN:DAYLIGHT
TZOFFSETFROM:+0100
TZOFFSETTO:+0200
TZNAME:CEST
DTSTART:20190331T010000
END:DAYLIGHT
BEGIN:STANDARD
TZOFFSETFROM:+0200
TZOFFSETTO:+0100
TZNAME:CET
DTSTART:20191027T010000
END:STANDARD
BEGIN:DAYLIGHT
TZOFFSETFROM:+0100
TZOFFSETTO:+0200
TZNAME:CEST
DTSTART:20200329T010000
END:DAYLIGHT
BEGIN:STANDARD
TZOFFSETFROM:+0200
TZOFFSETTO:+0100
TZNAME:CET
DTSTART:20201025T010000
END:STANDARD
BEGIN:DAYLIGHT
TZOFFSETFROM:+0100
TZOFFSETTO:+0200
TZNAME:CEST
DTSTART:20210328T010000
END:DAYLIGHT
BEGIN:STANDARD
TZOFFSETFROM:+0200
TZOFFSETTO:+0100
TZNAME:CET
DTSTART:20211031T010000
END:STANDARD
BEGIN:DAYLIGHT
TZOFFSETFROM:+0100
TZOFFSETTO:+0200
TZNAME:CEST
DTSTART:20220327T010000
END:DAYLIGHT
BEGIN:STANDARD
TZOFFSETFROM:+0200
TZOFFSETTO:+0100
TZNAME:CET
DTSTART:20221030T010000
END:STANDARD
BEGIN:DAYLIGHT
TZOFFSETFROM:+0100
TZOFFSETTO:+0200
TZNAME:CEST
DTSTART:20230326T010000
END:DAYLIGHT
BEGIN:STANDARD
TZOFFSETFROM:+0200
TZOFFSETTO:+0100
TZNAME:CET
DTSTART:20231029T010000
END:STANDARD
BEGIN:DAYLIGHT
TZOFFSETFROM:+0100
TZOFFSETTO:+0200
TZNAME:CEST
DTSTART:20240331T010000
END:DAYLIGHT
BEGIN:STANDARD
TZOFFSETFROM:+0200
TZOFFSETTO:+0100
TZNAME:CET
DTSTART:20241027T010000
END:STANDARD
END:VTIMEZONE
BEGIN:VEVENT
DTSTART;TZID=Europe/Berlin:20231024T120000
DTEND;TZID=Europe/Berlin:20231024T153000
DTSTAMP:20260421T033930
CREATED:20230209T171506Z
LAST-MODIFIED:20231019T124011Z
UID:10000128-1698148800-1698161400@bvik.org
SUMMARY:Marken fit machen zwischen Nachhaltigkeit\, Marketing\, Vertrieb und Onlinewelt
DESCRIPTION:B2B-Best-Practices im Diskurs der Perspektiven\n\nDie Website (wie auch die Marke) lebt von ganz allein\, mag man glauben. Gelegentlich stirbt sie aber auch\, wenn man ihr zu wenig Beachtung schenkt. Zumindest in den Google Ergebnissen\, denn permanente Veränderungen bringen auch stetige Anpassungen mit sich: inhaltlich\, technisch und zielgruppenorientiert. \nDie Corporate Website im Transformationsprozess zur Corporate Plattform\nBei unserem bvik-Event in der SENNEBOGEN Pyramide beleuchten mit Martin Mandl und Michael Ibarth zwei Experten des Gastgebers\, der SENNEBOGEN Maschinenfabrik GmbH basierend auf den Erfahrungen ihres aktuellen Website-Sprints\, wie man sich der Transformation in der Praxis nähern kann. \nSuperpower Marke & Smarketing!\nZudem präsentieren Ihnen Tanja Auernhamer und Alexander Biesalski in einem komprimierten Impulsvortrag „Die Macht der Marke: Nachhaltigkeit und Marken-Awareness im B2B-Marketing“ die Erkenntnisse aus einem Potpourri der Studien und Erhebungen des bvik. Und last but sicherlich nicht least erhalten Sie Smarketing Superpower durch den Vortrag von Dr. Mirjam Ringer\, Circle Lead Smarketing\, ADITO. \nReservieren Sie sich aber am besten noch heute einen Platz für den B2B-Community-Treff in dem industriellen Ambiente des SENNEBOGEN Museums. Verpassen Sie nicht die Möglichkeit\, gelebte Transformation und Marken-Inszenierung live und in Farbe zu erleben. Wir freuen uns auf Sie! \n 
URL:https://bvik.org/veranstaltung/marken-fit-machen/
LOCATION:SENNEBOGEN Academy\, Straubing\, Sennebogenstraße 8\, Straubing\, 94315\, Germany
CATEGORIES:bvik meets industry
ATTACH;FMTTYPE=image/jpeg:https://bvik.org/wp-content/uploads/2023/02/IMG_0965-scaled.jpg
GEO:48.892669;12.656771
X-APPLE-STRUCTURED-LOCATION;VALUE=URI;X-ADDRESS=SENNEBOGEN Academy Straubing Sennebogenstraße 8 Straubing 94315 Germany;X-APPLE-RADIUS=500;X-TITLE=Sennebogenstraße 8:geo:12.656771,48.892669
END:VEVENT
BEGIN:VEVENT
DTSTART;TZID=Europe/Berlin:20190926T120000
DTEND;TZID=Europe/Berlin:20190926T153000
DTSTAMP:20260421T033930
CREATED:20190602T125708Z
LAST-MODIFIED:20191001T090931Z
UID:10000036-1569499200-1569511800@bvik.org
SUMMARY:Vom Dienstleister zum Sparringspartner: Zusammenarbeit von B2B-Unternehmen und -Agenturen
DESCRIPTION:Nicht nur für werbetreibende Unternehmen\, sondern auch für ihre externen Marketingdienstleister und Agenturen bringt die digitale Transformation gravierende Veränderungen mit sich. Genau wie ihre Kunden müssen auch Agenturen und Dienstleister sich selbst bzw. ihre Geschäftsmodelle transformieren\, um sich an die veränderten Rahmenbedingungen und Bedürfnisse auf Kundenseite anzupassen. \nDie Situation für beide Seiten verändert sich\, da mit kleinen digitalen Spezialagenturen oder Beratungsunternehmen neue Player auf den Markt der B2B-Agenturen drängen. Und auch in der Zusammenarbeit tut sich vieles\, sei es durch den Einsatz von agilen Methoden\, neuen Strukturen oder durch verstärktes Insourcing auf Unternehmensseite. Für B2B-Unternehmen stellt sich immer wieder die Frage\, welcher Weg zur Einbindung von externem Know-how langfristig am erfolgversprechendsten ist. \nGastgeber SENNEBOGEN stand für das Großprojekt „bauma 2019“ vor der Herausforderung der Koordination verschiedener Dienstleister und Agenturen und zeigte im Praxis-Case\, wie eine stimmige Zusammenarbeit funktionieren kann. \nPraxis-Case SENNEBOGEN: Entwicklung der Marketingabteilung und Zusammenarbeit mit externen Dienstleistern am Beispiel bauma\nMichael Ibarth\, Director Marketing Unternehmenskommunikation & Florian Attenhauser\, Leiter Schulung\, beide SENNEBOGEN Maschinenfabrik GmbH \n\nMarketing Strategie mit dem bauma Fokus: alle 3 Jahre steht die Branche Kopf\n\nSeit 50 Jahren auf der bauma vertreten: wie sich die Messe immer wieder neu erfindet\nVeränderungen der Marketing-Landschaft bei SENNEBOGEN in den letzten 10 Jahren\nWohin entwickeln wir uns als Unternehmensmarketing? Vom klassischen zum modernen Marketing.\n\n\nPraxisbeispiel bauma 2019\n\nHerausforderung:  Einer für alles – oder für alles einen Spezialisten? Wie für die bauma mehr als 15 Dienstleister und Agenturen zusammenspielen und wie man die Übersicht behält.\nBrauchen Spezialisten einen Spezialisten? – Reichen im Unternehmensmarketing nicht auch Generalisten\, oder muss ich verstehen\, was der Dienstleister entwickelt? Welche Sprache eint uns?\n\n\nAusblick\n\nDie Bedeutung der Marketingabteilung im Unternehmen: Marketing in der Vermittlerrolle zwischen den Fachabteilungen\, Kunden und Service. Wie wir den Input aus Messe und Außenwelt in die Unternehmen transportieren und nutzen.\n\n\n\nIm Anschluss beleuchtete Boris Janda\, Geschäftsführer von JANDA+ROSCHER GmbH & Co. KG\, den kontroversen und komplexen Sachverhalt in seinem Impuls-Vortrag „B2B-Agenturwelt im Wandel“. \nImpuls-Vortrag: B2B-Agenturwelt im Wandel\nBoris Janda\, Geschäftsführer\, JANDA+ROSCHER GmbH & Co. KG \n\nDer Wandel in der Agenturwelt kurz dargestellt über 30 Jahre Agenturentwicklung\n\nVon der Designagentur zu eine Brand- und Kampagnenagentur mit eigener Digitalabteilung.\nMeilensteine in der Agenturentwicklung (Kunden\, Qualifikation des Personals\, Agenturangebot)\nVeränderung bei den Kunden (Bewusstsein für Marketingkommunikation und Markenbild\, Mitarbeiterqualifikation\, Themen)\n\n\nAusführung zum Ist-Stand im Veränderungsprozess\n\nAgenturen\nKunden\n\n\nChancen\, Risiken\n\nTechnologien\nKundenentwicklung\nNeue Mitbewerber für Agenturen\nEigenes Personalrekrutierung\nusw.\n\n\nPersönliche Bewertung:\n\nWas macht eine gute Kundenbeziehung aus?\nWohin werden sich die Kunden entwickeln?\nWohin müssen sich die Agenturen entwickeln?\n\n\n\nAnschließend wurde auf der Veranstaltung in einer angeregten Podiumsdiskussion diskutiert\, welche Entwicklungen sich in Zukunft für die Zusammenarbeit von Industrieunternehmen und ihren externen Marketingdienstleistern abzeichnen und was beide Seiten tun können\, um die Kunden-Agentur-Beziehungen im B2B weiter zu verbessern. \nBegleitend zu dem Thema hat der bvik im April 2019 auch eine Studie veröffentlicht. \n  \nBildergalerie: \nno images were found
URL:https://bvik.org/veranstaltung/vom-dienstleister-zum-sparringspartner/
LOCATION:SENNEBOGEN Academy\, Straubing\, Sennebogenstraße 8\, Straubing\, 94315\, Germany
CATEGORIES:bvik meets industry
ATTACH;FMTTYPE=image/jpeg:https://bvik.org/wp-content/uploads/2019/09/2019-09-26_MfM-Sennebogen_25.jpg
GEO:48.892669;12.656771
X-APPLE-STRUCTURED-LOCATION;VALUE=URI;X-ADDRESS=SENNEBOGEN Academy Straubing Sennebogenstraße 8 Straubing 94315 Germany;X-APPLE-RADIUS=500;X-TITLE=Sennebogenstraße 8:geo:12.656771,48.892669
END:VEVENT
END:VCALENDAR