BEGIN:VCALENDAR
VERSION:2.0
PRODID:-//Bundesverband Industrie Kommunikation e.V. - ECPv6.15.18//NONSGML v1.0//EN
CALSCALE:GREGORIAN
METHOD:PUBLISH
X-ORIGINAL-URL:https://bvik.org
X-WR-CALDESC:Veranstaltungen für Bundesverband Industrie Kommunikation e.V.
REFRESH-INTERVAL;VALUE=DURATION:PT1H
X-Robots-Tag:noindex
X-PUBLISHED-TTL:PT1H
BEGIN:VTIMEZONE
TZID:Europe/Berlin
BEGIN:DAYLIGHT
TZOFFSETFROM:+0100
TZOFFSETTO:+0200
TZNAME:CEST
DTSTART:20240331T010000
END:DAYLIGHT
BEGIN:STANDARD
TZOFFSETFROM:+0200
TZOFFSETTO:+0100
TZNAME:CET
DTSTART:20241027T010000
END:STANDARD
BEGIN:DAYLIGHT
TZOFFSETFROM:+0100
TZOFFSETTO:+0200
TZNAME:CEST
DTSTART:20250330T010000
END:DAYLIGHT
BEGIN:STANDARD
TZOFFSETFROM:+0200
TZOFFSETTO:+0100
TZNAME:CET
DTSTART:20251026T010000
END:STANDARD
BEGIN:DAYLIGHT
TZOFFSETFROM:+0100
TZOFFSETTO:+0200
TZNAME:CEST
DTSTART:20260329T010000
END:DAYLIGHT
BEGIN:STANDARD
TZOFFSETFROM:+0200
TZOFFSETTO:+0100
TZNAME:CET
DTSTART:20261025T010000
END:STANDARD
END:VTIMEZONE
BEGIN:VEVENT
DTSTART;TZID=Europe/Berlin:20250916T153000
DTEND;TZID=Europe/Berlin:20250916T193000
DTSTAMP:20260422T153910
CREATED:20250516T133543Z
LAST-MODIFIED:20250915T151137Z
UID:10000435-1758036600-1758051000@bvik.org
SUMMARY:Zukunftsgestalter: Networking-Event für B2B-Marketing-Champions
DESCRIPTION:Verbindungen schaffen. Erfolge teilen. \nbvik CONNECT goes Kölle: Am Vorabend der DMEXCO laden wir Entscheider:innen aus B2B-Marketing und Kommunikation nach Köln zum Netzwerken ein. Nach der überaus erfolgreichen Premiere unseres neuen Exchange-Formates auf der diesjährigen HANNOVER MESSE freuen wir uns\, bvik CONNECT nun auch in Köln zu präsentieren – mit einem starken Gastgeber an unserer Seite: DRPGroup. \nNutzen Sie die Möglichkeit\, sich mit anderen Praktikern zu aktuellen Herausforderungen und Trends im Digital Marketing von morgen auszutauschen. \nNach einem kurzen inhaltlichen Impuls von Tommy Moore (DRPGroup) und Ercan Kocagöz (These Guys) stehen spannende Gespräche und der Ausbau des eigenen Netzwerkes im Vordergrund. Profitieren Sie vom Knowhow unserer starken bvik-Community und werden Sie zum Zukunftsgestalter! Gemeinsam mit unserem Gastgeber freuen wir uns darauf\, mit Ihnen bei Drinks & Fingerfood in den Austausch zu kommen.  \nWir sind aktuell AUSGEBUCHT. Wenn wir Sie auf die Warteliste setzen dürfen\, schicken Sie uns bitte eine Mail an anmeldung@bvik.org und wir benachrichtigen Sie\, sollten Sie nachrücken können. \nAm zweiten Tag der DMEXCO wartet dann erneut ein bvik-Panel auf Sie! Auf der Commerce Stage diskutieren ab 12 Uhr Experten aus der bvik Community am 18.09. zum Thema: KI (R)EVOLUTION im B2B Marketing: Innovation trifft Organisation. 
URL:https://bvik.org/veranstaltung/zukunftsgestalter-koeln-dmexco/
LOCATION:THE CLOUTH\, Niehler Straße 104\, Köln\, 50733
CATEGORIES:bvik Connect
ATTACH;FMTTYPE=image/jpeg:https://bvik.org/wp-content/uploads/2025/05/AdobeStock_107786845_1-scaled.jpeg
GEO:50.9647994;6.95877
X-APPLE-STRUCTURED-LOCATION;VALUE=URI;X-ADDRESS=THE CLOUTH Niehler Straße 104 Köln 50733;X-APPLE-RADIUS=500;X-TITLE=Niehler Straße 104:geo:6.95877,50.9647994
END:VEVENT
END:VCALENDAR