BEGIN:VCALENDAR
VERSION:2.0
PRODID:-//Bundesverband Industrie Kommunikation e.V. - ECPv6.15.18//NONSGML v1.0//EN
CALSCALE:GREGORIAN
METHOD:PUBLISH
X-WR-CALNAME:Bundesverband Industrie Kommunikation e.V.
X-ORIGINAL-URL:https://bvik.org
X-WR-CALDESC:Veranstaltungen für Bundesverband Industrie Kommunikation e.V.
REFRESH-INTERVAL;VALUE=DURATION:PT1H
X-Robots-Tag:noindex
X-PUBLISHED-TTL:PT1H
BEGIN:VTIMEZONE
TZID:Europe/Berlin
BEGIN:DAYLIGHT
TZOFFSETFROM:+0100
TZOFFSETTO:+0200
TZNAME:CEST
DTSTART:20210328T010000
END:DAYLIGHT
BEGIN:STANDARD
TZOFFSETFROM:+0200
TZOFFSETTO:+0100
TZNAME:CET
DTSTART:20211031T010000
END:STANDARD
BEGIN:DAYLIGHT
TZOFFSETFROM:+0100
TZOFFSETTO:+0200
TZNAME:CEST
DTSTART:20220327T010000
END:DAYLIGHT
BEGIN:STANDARD
TZOFFSETFROM:+0200
TZOFFSETTO:+0100
TZNAME:CET
DTSTART:20221030T010000
END:STANDARD
BEGIN:DAYLIGHT
TZOFFSETFROM:+0100
TZOFFSETTO:+0200
TZNAME:CEST
DTSTART:20230326T010000
END:DAYLIGHT
BEGIN:STANDARD
TZOFFSETFROM:+0200
TZOFFSETTO:+0100
TZNAME:CET
DTSTART:20231029T010000
END:STANDARD
BEGIN:DAYLIGHT
TZOFFSETFROM:+0100
TZOFFSETTO:+0200
TZNAME:CEST
DTSTART:20240331T010000
END:DAYLIGHT
BEGIN:STANDARD
TZOFFSETFROM:+0200
TZOFFSETTO:+0100
TZNAME:CET
DTSTART:20241027T010000
END:STANDARD
BEGIN:DAYLIGHT
TZOFFSETFROM:+0100
TZOFFSETTO:+0200
TZNAME:CEST
DTSTART:20250330T010000
END:DAYLIGHT
BEGIN:STANDARD
TZOFFSETFROM:+0200
TZOFFSETTO:+0100
TZNAME:CET
DTSTART:20251026T010000
END:STANDARD
BEGIN:DAYLIGHT
TZOFFSETFROM:+0100
TZOFFSETTO:+0200
TZNAME:CEST
DTSTART:20260329T010000
END:DAYLIGHT
BEGIN:STANDARD
TZOFFSETFROM:+0200
TZOFFSETTO:+0100
TZNAME:CET
DTSTART:20261025T010000
END:STANDARD
END:VTIMEZONE
BEGIN:VEVENT
DTSTART;TZID=Europe/Berlin:20250626T080000
DTEND;TZID=Europe/Berlin:20250626T203000
DTSTAMP:20260424T194700
CREATED:20240519T131645Z
LAST-MODIFIED:20241104T130345Z
UID:10000324-1750924800-1750969800@bvik.org
SUMMARY:TAG DER INDUSTRIEKOMMUNIKATION (TIK) 2025
DESCRIPTION:SAVE THE DATE \nDer TAG DER INDUSTRIEKOMMUNIKATION (TIK) ist in der Zwischenzeit ein Synonym für die Zukunftskonferenz des B2B-Marketings in der DACH-Region. Auch 2025 lädt der bvik – Der Industrie-Verband für Kommunikation & Marketing wieder zu seinem jährlich stattfindenden Leuchtturm-Event ein. Notieren Sie sich daher schon heute den Highlight-Termin für B2B-Marketing- und Kommunikationsprofis in Ihrem Kalender! \nSichern Sie sich schon heute Ihr Ticket für den TIK 2025 zu limitierten Sonderkonditionen und lassen Sie sich per Mail dafür vormerken. Sobald der Surprise-Sales (wahrscheinlich Anfang Dezember 2024) startet\, kontaktieren wir Sie mit first priority.  \nUnter dem Motto „B2B-Marketing der Zukunft“ wirft das B2B-Marketing-Event des bvik auch 2025 mit hochkarätigen Speakern aus Industrie und Wissenschaft einen Blick auf die Trends der B2B-Branche. Mit dem TAG DER INDUSTRIEKOMMUNIKATION startet immer das Themenjahr des bvik\, welches dann in der 360° Kommunikationsstrategie des Verbands im Folgejahr vertieft wird. Sind Sie dabei\, wenn die B2B-Marketing-Community die Trends für die Zukunft setzt.  \nDer TIK ist der etablierte Treffpunkt für den gesamten B2B-Bereich und als das Branchenevent des Jahres ein Muss im Kalender jedes B2B-Marketers. Werden Sie ein Mitglied unseres TIK Circles of Champions!
URL:https://bvik.org/veranstaltung/tag-der-industriekommunikation-tik-2025/
LOCATION:veranstaltungsforum fürstenfeld\, Fürstenfeldbruck
CATEGORIES:TAG DER INDUSTRIEKOMMUNIKATION
ATTACH;FMTTYPE=image/jpeg:https://bvik.org/wp-content/uploads/2020/01/TIK_Saal-soft.jpg
GEO:48.1705903;11.2468699
END:VEVENT
BEGIN:VEVENT
DTSTART;TZID=Europe/Berlin:20240627T080000
DTEND;TZID=Europe/Berlin:20240627T203000
DTSTAMP:20260424T194700
CREATED:20230331T075913Z
LAST-MODIFIED:20231024T112609Z
UID:10000233-1719475200-1719520200@bvik.org
SUMMARY:TAG DER INDUSTRIEKOMMUNIKATION (TIK) 2024
DESCRIPTION:SAVE THE DATE \nDer TAG DER INDUSTRIEKOMMUNIKATION (TIK) ist in der Zwischenzeit ein Synonym für die Zukunftskonferenz des B2B-Marketings in der DACH-Region. Auch 2024 lädt der bvik – Der Industrie-Verband für Kommunikation & Marketing wieder zu seinem jährlich stattfindenden Leuchtturm-Event ein. Notieren Sie sich daher schon heute den Highlight-Termin für B2B-Marketing- und Kommunikationsprofis in Ihrem Kalender! \nSichern Sie sich schon heute Ihr Ticket für den TIK 2024 zu den Suprise Sonderkonditionen und lassen Sie sich per Mail dafür vormerken. Wir kontaktieren Sie dann\, sobald wir absehen können\, wann der Vorverkauf starten wird. Wir werden für den TIK 2024 erneut ein GoGreen Ticket anbieten. Helfen Sie uns mit Ihrer Kompensationsprämie von nur 5 Euro pro Ticket einen Weg in eine grünere Zukunft zu gehen! \nUnter dem Motto „B2B-Marketing der Zukunft“ wirft das B2B-Marketing-Event des bvik auch 2024 mit hochkarätigen Speakern aus Industrie und Wissenschaft einen Blick auf die Trends der B2B-Branche. Mit dem TAG DER INDUSTRIEKOMMUNIKATION startet immer das Themenjahr des bvik\, welches dann in der 360° Kommunikationsstrategie des Verbands im Folgejahr vertieft wird. Sind Sie dabei\, wenn die B2B-Marketing-Community die Trends für die Zukunft setzt.  \nDer TIK ist der etablierte Treffpunkt für den gesamten B2B-Bereich und als das Branchenevent des Jahres ein Muss im Kalender jedes B2B-Marketers.
URL:https://bvik.org/veranstaltung/tag-der-industriekommunikation-tik-2024/
LOCATION:veranstaltungsforum fürstenfeld\, Fürstenfeldbruck
CATEGORIES:TAG DER INDUSTRIEKOMMUNIKATION
ATTACH;FMTTYPE=image/jpeg:https://bvik.org/wp-content/uploads/2020/01/TIK_Saal-soft.jpg
GEO:48.1705903;11.2468699
END:VEVENT
BEGIN:VEVENT
DTSTART;TZID=Europe/Berlin:20230622T090000
DTEND;TZID=Europe/Berlin:20230622T203000
DTSTAMP:20260424T194700
CREATED:20220529T105154Z
LAST-MODIFIED:20220919T144009Z
UID:10000100-1687424400-1687465800@bvik.org
SUMMARY:TAG DER INDUSTRIEKOMMUNIKATION (TIK) 2023
DESCRIPTION:Der TAG DER INDUSTRIEKOMMUNIKATION (TIK) ist in der Zwischenzeit ein Synonym für die Zukunftskonferenz für das B2B-Marketing in der DACH-Region. Auch 2023 lädt der bvik – Der Industrieverband für Kommunikation & Marketing wieder zu seinem jährlich stattfindenden Leuchtturm-Event ein. Notieren Sie sich daher schon heute den Highlight-Termin für B2B-Marketing- und Kommunikationsprofis in Ihrem Kalender! \nSichern Sie sich schon heute Ihr Ticket für den TIK 2023 zu den Konditionen von 2022 und lassen Sie sich per Mail dafür vormerken. Wir kontaktieren Sie dann\, sobald wir absehen können\, wann der Vorverkauf starten wird. Wir werden für den TIK 2023 auch ein GoGreen Ticket anbieten. Helfen Sie uns mit Ihrer Kompensationsprämie dabei einen Weg in eine grünere Zukunft zu gehen! \nUnter dem Motto „B2B-Marketing der Zukunft“ wirft das B2B-Marketing-Event des bvik auch 2023 mit hochkarätigen Speakern aus Industrie und Wissenschaft einen Blick auf die Trends der B2B-Branche. Mit dem TAG DER INDUSTRIEKOMMUNIKATION startet immer das Themenjahr des bvik\, welches dann in der 360° Kommunikationsstrategie des Verbands im Folgejahr vertieft wird. Sind Sie dabei\, wenn die B2B-Marketing-Community die Trends für die Zukunft setzt.  \nDer TIK ist der etablierte Treffpunkt für den gesamten B2B-Bereich und als das Branchenevent des Jahres ein Muss im Kalender jedes B2B-Marketers. 
URL:https://bvik.org/veranstaltung/tik-2023/
LOCATION:veranstaltungsforum fürstenfeld\, Fürstenfeldbruck
CATEGORIES:TAG DER INDUSTRIEKOMMUNIKATION
ATTACH;FMTTYPE=image/jpeg:https://bvik.org/wp-content/uploads/2020/01/TIK_Saal-soft.jpg
GEO:48.1705903;11.2468699
END:VEVENT
BEGIN:VEVENT
DTSTART;TZID=Europe/Berlin:20220623T080000
DTEND;TZID=Europe/Berlin:20220623T203000
DTSTAMP:20260424T194700
CREATED:20180829T125758Z
LAST-MODIFIED:20220529T105916Z
UID:10000095-1655971200-1656016200@bvik.org
SUMMARY:TAG DER INDUSTRIEKOMMUNIKATION (TIK) 2022
DESCRIPTION:
URL:https://bvik.org/veranstaltung/tag-der-industriekommuniation-2022/
LOCATION:veranstaltungsforum fürstenfeld\, Fürstenfeldbruck
CATEGORIES:TAG DER INDUSTRIEKOMMUNIKATION
ATTACH;FMTTYPE=image/jpeg:https://bvik.org/wp-content/uploads/2018/06/TIK_Saal.jpg
GEO:48.1705903;11.2468699
END:VEVENT
END:VCALENDAR