BEGIN:VCALENDAR
VERSION:2.0
PRODID:-//Bundesverband Industrie Kommunikation e.V. - ECPv6.15.18//NONSGML v1.0//EN
CALSCALE:GREGORIAN
METHOD:PUBLISH
X-ORIGINAL-URL:https://bvik.org
X-WR-CALDESC:Veranstaltungen für Bundesverband Industrie Kommunikation e.V.
REFRESH-INTERVAL;VALUE=DURATION:PT1H
X-Robots-Tag:noindex
X-PUBLISHED-TTL:PT1H
BEGIN:VTIMEZONE
TZID:Europe/Berlin
BEGIN:DAYLIGHT
TZOFFSETFROM:+0100
TZOFFSETTO:+0200
TZNAME:CEST
DTSTART:20250330T010000
END:DAYLIGHT
BEGIN:STANDARD
TZOFFSETFROM:+0200
TZOFFSETTO:+0100
TZNAME:CET
DTSTART:20251026T010000
END:STANDARD
BEGIN:DAYLIGHT
TZOFFSETFROM:+0100
TZOFFSETTO:+0200
TZNAME:CEST
DTSTART:20260329T010000
END:DAYLIGHT
BEGIN:STANDARD
TZOFFSETFROM:+0200
TZOFFSETTO:+0100
TZNAME:CET
DTSTART:20261025T010000
END:STANDARD
BEGIN:DAYLIGHT
TZOFFSETFROM:+0100
TZOFFSETTO:+0200
TZNAME:CEST
DTSTART:20270328T010000
END:DAYLIGHT
BEGIN:STANDARD
TZOFFSETFROM:+0200
TZOFFSETTO:+0100
TZNAME:CET
DTSTART:20271031T010000
END:STANDARD
END:VTIMEZONE
BEGIN:VEVENT
DTSTART;TZID=Europe/Berlin:20260625T080000
DTEND;TZID=Europe/Berlin:20260625T203000
DTSTAMP:20260424T180728
CREATED:20250509T094346Z
LAST-MODIFIED:20260122T151005Z
UID:10000431-1782374400-1782419400@bvik.org
SUMMARY:TAG DER INDUSTRIEKOMMUNIKATION (TIK) 2026
DESCRIPTION:SAVE THE DATE \nDer TAG DER INDUSTRIEKOMMUNIKATION (TIK) ist in der Zwischenzeit ein Synonym für die Zukunftskonferenz des B2B-Marketings in der DACH-Region. Auch 2026 wird der bvik – Der Industrie-Verband für Kommunikation & Marketing wieder zu seinem jährlich stattfindenden Leuchtturm-Event einladen. Notieren Sie sich daher schon heute den Highlight-Termin für B2B-Marketing und Kommunikationsprofis in Ihrem Kalender! \nSichern Sie sich schon heute Ihr Ticket für den TIK 2026 zu limitierten Sonderkonditionen und lassen Sie sich per Mail dafür vormerken. Sobald der Surprise-Sales (Herbst 2025) startet\, kontaktieren wir Sie mit first priority.  \nUnter dem Motto „B2B-Marketing der Zukunft“ wirft die etablierte Event-Brand des bvik auch 2026 mit hochkarätigen Speakern aus Industrie und Wissenschaft einen Blick auf die Trends der B2B-Branche. Mit dem TAG DER INDUSTRIEKOMMUNIKATION startet immer das Themenjahr des bvik\, welches dann in der 360° Kommunikationsstrategie des Verbands im Folgejahr vertieft wird. Sind Sie dabei\, wenn die B2B-Marketing-Community die Trends für die Zukunft setzt.  \nDer TIK ist der etablierte Treffpunkt für den gesamten B2B-Bereich und als das Branchenevent des Jahres ein Muss im Kalender jedes B2B-Marketers. \n Werden Sie ein Mitglied unseres TIK Circle of Champions! \nCopyright: ClicClic/TIK 2025
URL:https://bvik.org/veranstaltung/tik-2026/
LOCATION:veranstaltungsforum fürstenfeld\, Fürstenfeldbruck
CATEGORIES:TAG DER INDUSTRIEKOMMUNIKATION
ATTACH;FMTTYPE=image/jpeg:https://bvik.org/wp-content/uploads/2025/05/Last-Words-Kai-Jonas-scaled.jpg
GEO:48.1705903;11.2468699
END:VEVENT
END:VCALENDAR